Workbook

Sheet Triaxial
A1: ⭕ CÍRCULOS DE MOHR — Resistencia al Corte en Rocas y Suelos
A2: Platicando de la Tierra | www.platicandodelatierra.com
A4: 📋 INSTRUCCIONES
A5: 1. Ingresa σ₃ (confinamiento) y σ₁ (rotura) en las celdas AZULES para cada ensayo triaxial.
A6: 2. Para ensayo de corte directo: ingresa directamente τ (resistencia) y σn (esfuerzo normal).
A7: 3. Las columnas de cálculo determinan el radio, centro y envolvente de Mohr-Coulomb automáticamente.
A8: 4. Los parámetros c (cohesión) y φ (ángulo de fricción) se obtienen por regresión lineal de los círculos.
A9: 5. Usa la hoja 'Corte Directo' para ensayos de caja de corte / veleta.
A11: 📐 RELACIONES FUNDAMENTALES (Criterio de Mohr-Coulomb)
A12: τ = c + σn · tan(φ) → Envolvente de falla de Mohr-Coulomb
A13: Radio (R) = (σ₁ - σ₃) / 2 → Radio del círculo de Mohr
A14: Centro (σm) = (σ₁ + σ₃) / 2 → Esfuerzo medio normal
... A18: 🔬 DATOS DE ENSAYO TRIAXIAL — Ingresa σ₃ y σ₁ (kPa o MPa)
A19: IDENTIFICACIÓN | D19: ENTRADA (kPa) | G19: CÍRCULO DE MOHR | J19: ENVOLVENTE M-C | N19: CONTROL
A20: N° | B20: Muestra | C20: Material | D20: σ₃ (kPa) | E20: σ₁ (kPa) | F20: Δσ=σ₁-σ₃ | G20: Centro σm | H20: Radio R | I20: φ inst. (°) | J20: σn falla | K20: τ falla | L20: c aprox | M20: φ aprox (°) | N20: Estado | O20: Obs. | P20: Calidad
A21: 1 | B21: TX-01 | C21: Arcilla limosa | D21: 50 | E21: 145 | F21: =IF(D21="","",E21-D21) -> 95 | G21: =IF(D21="","",(E21+D21)/2) -> 97.5 | H21: =IF(D21="","",(E21-D21)/2) -> 47.5 | I21: =IF(D21="","",DEGREES(ASIN(H21/G21))) -> 29.155365 | J21: =IF(D21="","",G21-H21*SIN(RADIANS(I21))) -> 74.358974 | K21: =IF(D21="","",H21*COS(RADIANS(I21))) -> 41.481839 | L21: → Ver resumen | M21: → Ver resumen | N21: =IF(I21="","",IF(I21>45,"⚠ φ alto","✓ Ok")) -> ✓ Ok | O21: Ensayo CD | P21: Alta
A22: 2 | B22: TX-02 | C22: Arcilla limosa | D22: 100 | E22: 255 | F22: =IF(D22="","",E22-D22) -> 155 | G22: =IF(D22="","",(E22+D22)/2) -> 177.5 | H22: =IF(D22="","",(E22-D22)/2) -> 77.5 | I22: =IF(D22="","",DEGREES(ASIN(H22/G22))) -> 25.888404 | J22: =IF(D22="","",G22-H22*SIN(RADIANS(I22))) -> 143.66197 | K22: =IF(D22="","",H22*COS(RADIANS(I22))) -> 69.722578 | L22: → Ver resumen | M22: → Ver resumen | N22: =IF(I22="","",IF(I22>45,"⚠ φ alto","✓ Ok")) -> ✓ Ok | O22: Ensayo CD | P22: Alta
A23: 3 | B23: TX-03 | C23: Arcilla limosa | D23: 200 | E23: 468 | F23: =IF(D23="","",E23-D23) -> 268 | G23: =IF(D23="","",(E23+D23)/2) -> 334 | H23: =IF(D23="","",(E23-D23)/2) -> 134 | I23: =IF(D23="","",DEGREES(ASIN(H23/G23))) -> 23.653068 | J23: =IF(D23="","",G23-H23*SIN(RADIANS(I23))) -> 280.23952 | K23: =IF(D23="","",H23*COS(RADIANS(I23))) -> 122.74286 | L23: → Ver resumen | M23: → Ver resumen | N23: =IF(I23="","",IF(I23>45,"⚠ φ alto","✓ Ok")) -> ✓ Ok | O23: Ensayo CD | P23: Alta
A24: 4 | B24: TX-04 | C24: Lutita | D24: 500 | E24: 1850 | F24: =IF(D24="","",E24-D24) -> 1350 | G24: =IF(D24="","",(E24+D24)/2) -> 1175 | H24: =IF(D24="","",(E24-D24)/2) -> 675 | I24: =IF(D24="","",DEGREES(ASIN(H24/G24))) -> 35.06239 | J24: =IF(D24="","",G24-H24*SIN(RADIANS(I24))) -> 787.23404 | K24: =IF(D24="","",H24*COS(RADIANS(I24))) -> 552.50571 | L24: → Ver resumen | M24: → Ver resumen | N24: =IF(I24="","",IF(I24>45,"⚠ φ alto","✓ Ok")) -> ✓ Ok | O24: Ensayo CU | P24: Media
A25: 5 | B25: TX-05 | C25: Lutita | D25: 1000 | E25: 3200 | F25: =IF(D25="","",E25-D25) -> 2200 | G25: =IF(D25="","",(E25+D25)/2) -> 2100 | H25: =IF(D25="","",(E25-D25)/2) -> 1100 | I25: =IF(D25="","",DEGREES(ASIN(H25/G25))) -> 31.588136 | J25: =IF(D25="","",G25-H25*SIN(RADIANS(I25))) -> 1523.8095 | K25: =IF(D25="","",H25*COS(RADIANS(I25))) -> 937.01896 | L25: → Ver resumen | M25: → Ver resumen | N25: =IF(I25="","",IF(I25>45,"⚠ φ alto","✓ Ok")) -> ✓ Ok | O25: Ensayo CU | P25: Media
A26: 6 | B26: TX-06 | C26: Lutita | D26: 2000 | E26: 5800 | F26: =IF(D26="","",E26-D26) -> 3800 | G26: =IF(D26="","",(E26+D26)/2) -> 3900 | H26: =IF(D26="","",(E26-D26)/2) -> 1900 | I26: =IF(D26="","",DEGREES(ASIN(H26/G26))) -> 29.155365 | J26: =IF(D26="","",G26-H26*SIN(RADIANS(I26))) -> 2974.359 | K26: =IF(D26="","",H26*COS(RADIANS(I26))) -> 1659.2735 | L26: → Ver resumen | M26: → Ver resumen | N26: =IF(I26="","",IF(I26>45,"⚠ φ alto","✓ Ok")) -> ✓ Ok | O26: Ensayo CU | P26: Media
A27: 7 | B27: TX-07 | C27: Arenisca | D27: 1000 | E27: 6500 | F27: =IF(D27="","",E27-D27) -> 5500 | G27: =IF(D27="","",(E27+D27)/2) -> 3750 | H27: =IF(D27="","",(E27-D27)/2) -> 2750 | I27: =IF(D27="","",DEGREES(ASIN(H27/G27))) -> 47.166572 | J27: =IF(D27="","",G27-H27*SIN(RADIANS(I27))) -> 1733.3333 | K27: =IF(D27="","",H27*COS(RADIANS(I27))) -> 1869.6405 | L27: → Ver resumen | M27: → Ver resumen | N27: =IF(I27="","",IF(I27>45,"⚠ φ alto","✓ Ok")) -> ⚠ φ alto | O27: Ensayo drenado | P27: Alta
A28: 8 | B28: TX-08 | C28: Arenisca | D28: 2000 | E28: 11200 | F28: =IF(D28="","",E28-D28) -> 9200 | G28: =IF(D28="","",(E28+D28)/2) -> 6600 | H28: =IF(D28="","",(E28-D28)/2) -> 4600 | I28: =IF(D28="","",DEGREES(ASIN(H28/G28))) -> 44.184385 | J28: =IF(D28="","",G28-H28*SIN(RADIANS(I28))) -> 3393.9394 | K28: =IF(D28="","",H28*COS(RADIANS(I28))) -> 3298.6627 | L28: → Ver resumen | M28: → Ver resumen | N28: =IF(I28="","",IF(I28>45,"⚠ φ alto","✓ Ok")) -> ✓ Ok | O28: Ensayo drenado | P28: Alta
A29: 9 | B29: TX-09 | C29: Arenisca | D29: 3000 | E29: 15800 | F29: =IF(D29="","",E29-D29) -> 12800 | G29: =IF(D29="","",(E29+D29)/2) -> 9400 | H29: =IF(D29="","",(E29-D29)/2) -> 6400 | I29: =IF(D29="","",DEGREES(ASIN(H29/G29))) -> 42.910184 | J29: =IF(D29="","",G29-H29*SIN(RADIANS(I29))) -> 5042.5532 | K29: =IF(D29="","",H29*COS(RADIANS(I29))) -> 4687.5001 | L29: → Ver resumen | M29: → Ver resumen | N29: =IF(I29="","",IF(I29>45,"⚠ φ alto","✓ Ok")) -> ✓ Ok | O29: Ensayo drenado | P29: Alta
A32: 📊 PARÁMETROS GLOBALES c y φ — Regresión Lineal (Criterio M-C)
A33: Material | B33: N ensayos | C33: σn min | D33: σn max | E33: τ min | F33: τ max | G33: Pendiente (tan φ) | H33: φ (°) | I33: Cohesión c | J33: R² | K33: Clasificación
A34: Arcilla limosa | B34: 3 | C34: =MIN(J21:J23) -> 74.358974 | D34: =MAX(J21:J23) -> 280.23952 | E34: =MIN(K21:K23) -> 41.481839 | F34: =MAX(K21:K23) -> 122.74286 | G34: =IFERROR(SLOPE(K21:K23,J21:J23),"") -> 0.39379374 | H34: =IFERROR(DEGREES(ATAN(G34)),"") -> 21.49421 | I34: =IFERROR(INTERCEPT(K21:K23,J21:J23),"") -> 12.578476 | J34: =IFERROR(RSQ(K21:K23,J21:J23),"") -> 0.99985126 | K34: =IF(H34="","",IF(H34>45,"Muy friccional",IF(H34>30,"Friccional","Cohesivo"))) -> Cohesivo
A35: Lutita | B35: 3 | C35: =MIN(J24:J26) -> 787.23404 | D35: =MAX(J24:J26) -> 2974.359 | E35: =MIN(K24:K26) -> 552.50571 | F35: =MAX(K24:K26) -> 1659.2735 | G35: =IFERROR(SLOPE(K24:K26,J24:J26),"") -> 0.50490599 | H35: =IFERROR(DEGREES(ATAN(G35)),"") -> 26.789483 | I35: =IFERROR(INTERCEPT(K24:K26,J24:J26),"") -> 160.05561 | J35: =IFERROR(RSQ(K24:K26,J24:J26),"") -> 0.99985857 | K35: =IF(H35="","",IF(H35>45,"Muy friccional",IF(H35>30,"Friccional","Cohesivo"))) -> Cohesivo
A36: Arenisca | B36: 3 | C36: =MIN(J27:J29) -> 1733.3333 | D36: =MAX(J27:J29) -> 5042.5532 | E36: =MIN(K27:K29) -> 1869.6405 | F36: =MAX(K27:K29) -> 4687.5001 | G36: =IFERROR(SLOPE(K27:K29,J27:J29),"") -> 0.85152874 | H36: =IFERROR(DEGREES(ATAN(G36)),"") -> 40.415349 | I36: =IFERROR(INTERCEPT(K27:K29,J27:J29),"") -> 398.63472 | J36: =IFERROR(RSQ(K27:K29,J27:J29),"") -> 0.99996229 | K36: =IF(H36="","",IF(H36>45,"Muy friccional",IF(H36>30,"Friccional","Cohesivo"))) -> Friccional
A39: 📖 VALORES TÍPICOS DE c y φ EN ROCAS Y SUELOS (Referencia)
A40: Material | B40: c (kPa) | C40: φ (°) | D40: Tipo
A41: Arcillas blandas | B41: 0–10 | C41: 0–25 | D41: Suelo
A42: Arcillas rígidas | B42: 10–50 | C42: 20–30 | D42: Suelo
A43: Arenas y gravas | B43: 0 | C43: 28–45 | D43: Suelo
A44: Lutitas intactas | B44: 20–200 | C44: 15–35 | D44: Roca blanda
A45: Areniscas | B45: 10–100 | C45: 25–50 | D45: Roca media
A46: Calizas | B46: 10–50 | C46: 30–55 | D46: Roca media
A47: Granito intacto | B47: 10–50 | C47: 50–65 | D47: Roca dura
A48: Basalto | B48: 10–30 | C48: 48–65 | D48: Roca dura
A49: Cuarcita | B49: 10–30 | C49: 55–70 | D49: Roca muy dura
A50: Planos de falla | B50: 0–5 | C50: 10–30 | D50: Discontinuidad
A52: Referencias: Jaeger, J.C. & Cook, N.G.W. (1979). Fundamentals of Rock Mechanics. Chapman & Hall. | ASTM D2850 (ensayo triaxial no consolidado no drenado). | ASTM D4767 (ensayo triaxial consolidado). | Hoek, E. & Brown, E.T. (1980). Underground Excavations in Rock. IMM, Londres.

Sheet Corte Directo
A1: ✂️ ENSAYO DE CORTE DIRECTO — Caja de Corte (ASTM D3080)
A2: Para suelos y materiales blandos | τ = c + σn·tan(φ)
A4: 📊 TABLA DE DATOS — ENSAYO DE CORTE DIRECTO
A5: N° | B5: Muestra | C5: σn (kPa) | D5: τ máx (kPa) | E5: τ resid (kPa) | F5: Desp. horiz (mm) | G5: Desp. vert (mm) | H5: Densidad (g/cm³) | I5: Humedad (%) | J5: Condición | K5: Velocidad (mm/min) | L5: Obs.
A6: 1 | B6: CD-01 | C6: 50 | D6: 38.5 | E6: 22.1 | F6: 4.2 | G6: 0.8 | H6: 1.82 | I6: 22.5 | J6: Consolidado drenado | K6: 0.1
A7: 2 | B7: CD-02 | C7: 100 | D7: 68.2 | E7: 40.8 | F7: 4.5 | G7: 1.1 | H7: 1.85 | I7: 22.1 | J7: Consolidado drenado | K7: 0.1
A8: 3 | B8: CD-03 | C8: 200 | D8: 128.5 | E8: 78.5 | F8: 4.8 | G8: 1.4 | H8: 1.88 | I8: 21.8 | J8: Consolidado drenado | K8: 0.1
A9: 4 | B9: CD-04 | C9: 50 | D9: 45.2 | E9: 28.4 | F9: 3.8 | G9: 0.6 | H9: 1.75 | I9: 28.5 | J9: No consolidado | K9: 0.1 | L9: Arcilla expansiva
A10: 5 | B10: CD-05 | C10: 100 | D10: 82.5 | E10: 52.1 | F10: 4.1 | G10: 0.9 | H10: 1.78 | I10: 27.8 | J10: No consolidado | K10: 0.1 | L10: Arcilla expansiva
A11: 6 | B11: CD-06 | C11: 200 | D11: 155.8 | E11: 98.4 | F11: 4.4 | G11: 1.2 | H11: 1.8 | I11: 27.2 | J11: No consolidado | K11: 0.1 | L11: Arcilla expansiva
A24: 📊 RESUMEN c y φ — Regresión Lineal
A25: Conjunto | B25: N | C25: Slope (tan φ) | D25: φ (°) | E25: c (kPa) | F25: R² | G25: φ residual (°) | H25: c residual | I25: Clasificación
A26: Grupo 1 (CD-01:03) | B26: 3 | C26: =IFERROR(SLOPE(D6:D8,C6:C8),"") -> 0.60042857 | D26: =IFERROR(DEGREES(ATAN(C26)),"") -> 30.981809 | E26: =IFERROR(INTERCEPT(D6:D8,C6:C8),"") -> 8.35 | F26: =IFERROR(RSQ(D6:D8,C6:C8),"") -> 0.99998624 | G26: =IFERROR(DEGREES(ATAN(SLOPE(E6:E8,C6:C8))),"") -> 20.613432 | H26: =IFERROR(INTERCEPT(E6:E8,C6:C8),"") -> 3.25 | I26: =IF(D26="","",IF(D26>35,"Alta resistencia",IF(D26>25,"Media resistencia","Baja resistencia"))) -> Media resistencia
A27: Grupo 2 (CD-04:06) | B27: 3 | C27: =IFERROR(SLOPE(D9:D11,C9:C11),"") -> 0.73671429 | D27: =IFERROR(DEGREES(ATAN(C27)),"") -> 36.379605 | E27: =IFERROR(INTERCEPT(D9:D11,C9:C11),"") -> 8.55 | F27: =IFERROR(RSQ(D9:D11,C9:C11),"") -> 0.99998094 | G27: =IFERROR(DEGREES(ATAN(SLOPE(E9:E11,C9:C11))),"") -> 24.992244 | H27: =IFERROR(INTERCEPT(E9:E11,C9:C11),"") -> 5.25 | I27: =IF(D27="","",IF(D27>35,"Alta resistencia",IF(D27>25,"Media resistencia","Baja resistencia"))) -> Alta resistencia

Sheet Datos Gráfico
A1: ⭕ DATOS CALCULADOS PARA GRÁFICO DE CÍRCULOS DE MOHR
A2: Cada semicírculo usa 90 puntos: x = σm + R·cos(θ), y = R·sin(θ), θ ∈ [0°, 180°]
A4: 📥 PARÁMETROS POR ENSAYO (vinculados a hoja Triaxial)
A5: Ensayo | B5: Material | C5: σ₃ | D5: σ₁ | E5: σm | F5: R | G5: σn tang. | H5: τ tang. | I5: φ (°) | J5: Color ref.
A6: =Triaxial!A21 -> 1 | B6: =Triaxial!C21 -> Arcilla limosa | C6: =Triaxial!D21 -> 50 | D6: =Triaxial!E21 -> 145 | E6: =Triaxial!G21 -> 97.5 | F6: =Triaxial!H21 -> 47.5 | G6: =Triaxial!J21 -> 74.358974 | H6: =Triaxial!K21 -> 41.481839 | I6: =Triaxial!I21 -> 29.155365 | J6: Rojo
A7: =Triaxial!A22 -> 2 | B7: =Triaxial!C22 -> Arcilla limosa | C7: =Triaxial!D22 -> 100 | D7: =Triaxial!E22 -> 255 | E7: =Triaxial!G22 -> 177.5 | F7: =Triaxial!H22 -> 77.5 | G7: =Triaxial!J22 -> 143.66197 | H7: =Triaxial!K22 -> 69.722578 | I7: =Triaxial!I22 -> 25.888404 | J7: Rojo
A8: =Triaxial!A23 -> 3 | B8: =Triaxial!C23 -> Arcilla limosa | C8: =Triaxial!D23 -> 200 | D8: =Triaxial!E23 -> 468 | E8: =Triaxial!G23 -> 334 | F8: =Triaxial!H23 -> 134 | G8: =Triaxial!J23 -> 280.23952 | H8: =Triaxial!K23 -> 122.74286 | I8: =Triaxial!I23 -> 23.653068 | J8: Rojo
A9: =Triaxial!A24 -> 4 | B9: =Triaxial!C24 -> Lutita | C9: =Triaxial!D24 -> 500 | D9: =Triaxial!E24 -> 1850 | E9: =Triaxial!G24 -> 1175 | F9: =Triaxial!H24 -> 675 | G9: =Triaxial!J24 -> 787.23404 | H9: =Triaxial!K24 -> 552.50571 | I9: =Triaxial!I24 -> 35.06239 | J9: Verde
A10: =Triaxial!A25 -> 5 | B10: =Triaxial!C25 -> Lutita | C10: =Triaxial!D25 -> 1000 | D10: =Triaxial!E25 -> 3200 | E10: =Triaxial!G25 -> 2100 | F10: =Triaxial!H25 -> 1100 | G10: =Triaxial!J25 -> 1523.8095 | H10: =Triaxial!K25 -> 937.01896 | I10: =Triaxial!I25 -> 31.588136 | J10: Verde
A11: =Triaxial!A26 -> 6 | B11: =Triaxial!C26 -> Lutita | C11: =Triaxial!D26 -> 2000 | D11: =Triaxial!E26 -> 5800 | E11: =Triaxial!G26 -> 3900 | F11: =Triaxial!H26 -> 1900 | G11: =Triaxial!J26 -> 2974.359 | H11: =Triaxial!K26 -> 1659.2735 | I11: =Triaxial!I26 -> 29.155365 | J11: Verde
A12: =Triaxial!A27 -> 7 | B12: =Triaxial!C27 -> Arenisca | C12: =Triaxial!D27 -> 1000 | D12: =Triaxial!E27 -> 6500 | E12: =Triaxial!G27 -> 3750 | F12: =Triaxial!H27 -> 2750 | G12: =Triaxial!J27 -> 1733.3333 | H12: =Triaxial!K27 -> 1869.6405 | I12: =Triaxial!I27 -> 47.166572 | J12: Naranja
A13: =Triaxial!A28 -> 8 | B13: =Triaxial!C28 -> Arenisca | C13: =Triaxial!D28 -> 2000 | D13: =Triaxial!E28 -> 11200 | E13: =Triaxial!G28 -> 6600 | F13: =Triaxial!H28 -> 4600 | G13: =Triaxial!J28 -> 3393.9394 | H13: =Triaxial!K28 -> 3298.6627 | I13: =Triaxial!I28 -> 44.184385 | J13: Naranja
A14: =Triaxial!A29 -> 9 | B14: =Triaxial!C29 -> Arenisca | C14: =Triaxial!D29 -> 3000 | D14: =Triaxial!E29 -> 15800 | E14: =Triaxial!G29 -> 9400 | F14: =Triaxial!H29 -> 6400 | G14: =Triaxial!J29 -> 5042.5532 | H14: =Triaxial!K29 -> 4687.5001 | I14: =Triaxial!I29 -> 42.910184 | J14: Naranja
A17: 📐 PUNTOS DE CADA SEMICÍRCULO (θ: 0°→180°)
A18: θ (°) | B18: TX-01 σ | C18: TX-01 τ | D18: TX-02 σ | E18: TX-02 τ | F18: TX-03 σ | G18: TX-03 τ | H18: TX-04 σ | I18: TX-04 τ | J18: TX-05 σ | K18: TX-05 τ | L18: TX-06 σ | M18: TX-06 τ | N18: TX-07 σ | O18: TX-07 τ | P18: TX-08 σ | Q18: TX-08 τ | R18: TX-09 σ | S18: TX-09 τ
A19: 0 | B19: =$E$6+$F$6*COS(A19*PI()/180) -> 145 | C19: =ABS($F$6*SIN(A19*PI()/180)) -> 0 | D19: =$E$7+$F$7*COS(A19*PI()/180) -> 255 | E19: =ABS($F$7*SIN(A19*PI()/180)) -> 0 | F19: =$E$8+$F$8*COS(A19*PI()/180) -> 468 | G19: =ABS($F$8*SIN(A19*PI()/180)) -> 0 | H19: =$E$9+$F$9*COS(A19*PI()/180) -> 1850 | I19: =ABS($F$9*SIN(A19*PI()/180)) -> 0 | J19: =$E$10+$F$10*COS(A19*PI()/180) -> 3200 | K19: =ABS($F$10*SIN(A19*PI()/180)) -> 0 | L19: =$E$11+$F$11*COS(A19*PI()/180) -> 5800 | M19: =ABS($F$11*SIN(A19*PI()/180)) -> 0 | N19: =$E$12+$F$12*COS(A19*PI()/180) -> 6500 | O19: =ABS($F$12*SIN(A19*PI()/180)) -> 0 | P19: =$E$13+$F$13*COS(A19*PI()/180) -> 11200 | Q19: =ABS($F$13*SIN(A19*PI()/180)) -> 0 | R19: =$E$14+$F$14*COS(A19*PI()/180) -> 15800 | S19: =ABS($F$14*SIN(A19*PI()/180)) -> 0
A20: 2 | B20: =$E$6+$F$6*COS(A20*PI()/180) -> 144.97106 | C20: =ABS($F$6*SIN(A20*PI()/180)) -> 1.6577261 | D20: =$E$7+$F$7*COS(A20*PI()/180) -> 254.95279 | E20: =ABS($F$7*SIN(A20*PI()/180)) -> 2.704711 | F20: =$E$8+$F$8*COS(A20*PI()/180) -> 467.91837 | G20: =ABS($F$8*SIN(A20*PI()/180)) -> 4.6765326 | H20: =$E$9+$F$9*COS(A20*PI()/180) -> 1849.5888 | I20: =ABS($F$9*SIN(A20*PI()/180)) -> 23.55716 | J20: =$E$10+$F$10*COS(A20*PI()/180) -> 3199.3299 | K20: =ABS($F$10*SIN(A20*PI()/180)) -> 38.389446 | L20: =$E$11+$F$11*COS(A20*PI()/180) -> 5798.8426 | M20: =ABS($F$11*SIN(A20*PI()/180)) -> 66.309044 | N20: =$E$12+$F$12*COS(A20*PI()/180) -> 6498.3248 | O20: =ABS($F$12*SIN(A20*PI()/180)) -> 95.973616 | P20: =$E$13+$F$13*COS(A20*PI()/180) -> 11197.198 | Q20: =ABS($F$13*SIN(A20*PI()/180)) -> 160.53768 | R20: =$E$14+$F$14*COS(A20*PI()/180) -> 15796.101 | S20: =ABS($F$14*SIN(A20*PI()/180)) -> 223.35678
A21: 4 | B21: =$E$6+$F$6*COS(A21*PI()/180) -> 144.88429 | C21: =ABS($F$6*SIN(A21*PI()/180)) -> 3.3134325 | D21: =$E$7+$F$7*COS(A21*PI()/180) -> 254.81121 | E21: =ABS($F$7*SIN(A21*PI()/180)) -> 5.4061267 | F21: =$E$8+$F$8*COS(A21*PI()/180) -> 467.67358 | G21: =ABS($F$8*SIN(A21*PI()/180)) -> 9.3473675 | H21: =$E$9+$F$9*COS(A21*PI()/180) -> 1848.3557 | I21: =ABS($F$9*SIN(A21*PI()/180)) -> 47.08562 | J21: =$E$10+$F$10*COS(A21*PI()/180) -> 3197.3205 | K21: =ABS($F$10*SIN(A21*PI()/180)) -> 76.732121 | L21: =$E$11+$F$11*COS(A21*PI()/180) -> 5795.3717 | M21: =ABS($F$11*SIN(A21*PI()/180)) -> 132.5373 | N21: =$E$12+$F$12*COS(A21*PI()/180) -> 6493.3011 | O21: =ABS($F$12*SIN(A21*PI()/180)) -> 191.8303 | P21: =$E$13+$F$13*COS(A21*PI()/180) -> 11188.795 | Q21: =ABS($F$13*SIN(A21*PI()/180)) -> 320.87978 | R21: =$E$14+$F$14*COS(A21*PI()/180) -> 15784.41 | S21: =ABS($F$14*SIN(A21*PI()/180)) -> 446.44143
A22: 6 | B22: =$E$6+$F$6*COS(A22*PI()/180) -> 144.73979 | C22: =ABS($F$6*SIN(A22*PI()/180)) -> 4.965102 | D22: =$E$7+$F$7*COS(A22*PI()/180) -> 254.57545 | E22: =ABS($F$7*SIN(A22*PI()/180)) -> 8.1009559 | F22: =$E$8+$F$8*COS(A22*PI()/180) -> 467.26593 | G22: =ABS($F$8*SIN(A22*PI()/180)) -> 14.006814 | H22: =$E$9+$F$9*COS(A22*PI()/180) -> 1846.3023 | I22: =ABS($F$9*SIN(A22*PI()/180)) -> 70.556713 | J22: =$E$10+$F$10*COS(A22*PI()/180) -> 3193.9741 | K22: =ABS($F$10*SIN(A22*PI()/180)) -> 114.98131 | L22: =$E$11+$F$11*COS(A22*PI()/180) -> 5789.5916 | M22: =ABS($F$11*SIN(A22*PI()/180)) -> 198.60408 | N22: =$E$12+$F$12*COS(A22*PI()/180) -> 6484.9352 | O22: =ABS($F$12*SIN(A22*PI()/180)) -> 287.45327 | P22: =$E$13+$F$13*COS(A22*PI()/180) -> 11174.801 | Q22: =ABS($F$13*SIN(A22*PI()/180)) -> 480.83093 | R22: =$E$14+$F$14*COS(A22*PI()/180) -> 15764.94 | S22: =ABS($F$14*SIN(A22*PI()/180)) -> 668.98216
A23: 8 | B23: =$E$6+$F$6*COS(A23*PI()/180) -> 144.53773 | C23: =ABS($F$6*SIN(A23*PI()/180)) -> 6.6107223 | D23: =$E$7+$F$7*COS(A23*PI()/180) -> 254.24578 | E23: =ABS($F$7*SIN(A23*PI()/180)) -> 10.785915 | F23: =$E$8+$F$8*COS(A23*PI()/180) -> 466.69592 | G23: =ABS($F$8*SIN(A23*PI()/180)) -> 18.649196 | H23: =$E$9+$F$9*COS(A23*PI()/180) -> 1843.4309 | I23: =ABS($F$9*SIN(A23*PI()/180)) -> 93.941843 | J23: =$E$10+$F$10*COS(A23*PI()/180) -> 3189.2949 | K23: =ABS($F$10*SIN(A23*PI()/180)) -> 153.09041 | L23: =$E$11+$F$11*COS(A23*PI()/180) -> 5781.5093 | M23: =ABS($F$11*SIN(A23*PI()/180)) -> 264.42889 | N23: =$E$12+$F$12*COS(A23*PI()/180) -> 6473.2372 | O23: =ABS($F$12*SIN(A23*PI()/180)) -> 382.72603 | P23: =$E$13+$F$13*COS(A23*PI()/180) -> 11155.233 | Q23: =ABS($F$13*SIN(A23*PI()/180)) -> 640.19626 | R23: =$E$14+$F$14*COS(A23*PI()/180) -> 15737.716 | S23: =ABS($F$14*SIN(A23*PI()/180)) -> 890.70785
A24: 10 | B24: =$E$6+$F$6*COS(A24*PI()/180) -> 144.27837 | C24: =ABS($F$6*SIN(A24*PI()/180)) -> 8.2482884 | D24: =$E$7+$F$7*COS(A24*PI()/180) -> 253.8226 | E24: =ABS($F$7*SIN(A24*PI()/180)) -> 13.457734 | F24: =$E$8+$F$8*COS(A24*PI()/180) -> 465.96424 | G24: =ABS($F$8*SIN(A24*PI()/180)) -> 23.268856 | H24: =$E$9+$F$9*COS(A24*PI()/180) -> 1839.7452 | I24: =ABS($F$9*SIN(A24*PI()/180)) -> 117.21252 | J24: =$E$10+$F$10*COS(A24*PI()/180) -> 3183.2885 | K24: =ABS($F$10*SIN(A24*PI()/180)) -> 191.013 | L24: =$E$11+$F$11*COS(A24*PI()/180) -> 5771.1347 | M24: =ABS($F$11*SIN(A24*PI()/180)) -> 329.93154 | N24: =$E$12+$F$12*COS(A24*PI()/180) -> 6458.2213 | O24: =ABS($F$12*SIN(A24*PI()/180)) -> 477.53249 | P24: =$E$13+$F$13*COS(A24*PI()/180) -> 11130.116 | Q24: =ABS($F$13*SIN(A24*PI()/180)) -> 798.78162 | R24: =$E$14+$F$14*COS(A24*PI()/180) -> 15702.77 | S24: =ABS($F$14*SIN(A24*PI()/180)) -> 1111.3483
A25: 12 | B25: =$E$6+$F$6*COS(A25*PI()/180) -> 143.96201 | C25: =ABS($F$6*SIN(A25*PI()/180)) -> 9.8758053 | D25: =$E$7+$F$7*COS(A25*PI()/180) -> 253.30644 | E25: =ABS($F$7*SIN(A25*PI()/180)) -> 16.113156 | F25: =$E$8+$F$8*COS(A25*PI()/180) -> 465.07178 | G25: =ABS($F$8*SIN(A25*PI()/180)) -> 27.860167 | H25: =$E$9+$F$9*COS(A25*PI()/180) -> 1835.2496 | I25: =ABS($F$9*SIN(A25*PI()/180)) -> 140.34039 | J25: =$E$10+$F$10*COS(A25*PI()/180) -> 3175.9624 | K25: =ABS($F$10*SIN(A25*PI()/180)) -> 228.70286 | L25: =$E$11+$F$11*COS(A25*PI()/180) -> 5758.4804 | M25: =ABS($F$11*SIN(A25*PI()/180)) -> 395.03221 | N25: =$E$12+$F$12*COS(A25*PI()/180) -> 6439.9059 | O25: =ABS($F$12*SIN(A25*PI()/180)) -> 571.75715 | P25: =$E$13+$F$13*COS(A25*PI()/180) -> 11099.479 | Q25: =ABS($F$13*SIN(A25*PI()/180)) -> 956.39378 | R25: =$E$14+$F$14*COS(A25*PI()/180) -> 15660.145 | S25: =ABS($F$14*SIN(A25*PI()/180)) -> 1330.6348
A26: 14 | B26: =$E$6+$F$6*COS(A26*PI()/180) -> 143.58905 | C26: =ABS($F$6*SIN(A26*PI()/180)) -> 11.49129 | D26: =$E$7+$F$7*COS(A26*PI()/180) -> 252.69792 | E26: =ABS($F$7*SIN(A26*PI()/180)) -> 18.748947 | F26: =$E$8+$F$8*COS(A26*PI()/180) -> 464.01963 | G26: =ABS($F$8*SIN(A26*PI()/180)) -> 32.417534 | H26: =$E$9+$F$9*COS(A26*PI()/180) -> 1829.9496 | I26: =ABS($F$9*SIN(A26*PI()/180)) -> 163.29728 | J26: =$E$10+$F$10*COS(A26*PI()/180) -> 3167.3253 | K26: =ABS($F$10*SIN(A26*PI()/180)) -> 266.11409 | L26: =$E$11+$F$11*COS(A26*PI()/180) -> 5743.5619 | M26: =ABS($F$11*SIN(A26*PI()/180)) -> 459.6516 | N26: =$E$12+$F$12*COS(A26*PI()/180) -> 6418.3132 | O26: =ABS($F$12*SIN(A26*PI()/180)) -> 665.28521 | P26: =$E$13+$F$13*COS(A26*PI()/180) -> 11063.36 | Q26: =ABS($F$13*SIN(A26*PI()/180)) -> 1112.8407 | R26: =$E$14+$F$14*COS(A26*PI()/180) -> 15609.893 | S26: =ABS($F$14*SIN(A26*PI()/180)) -> 1548.3001
A27: 16 | B27: =$E$6+$F$6*COS(A27*PI()/180) -> 143.15993 | C27: =ABS($F$6*SIN(A27*PI()/180)) -> 13.092774 | D27: =$E$7+$F$7*COS(A27*PI()/180) -> 251.99778 | E27: =ABS($F$7*SIN(A27*PI()/180)) -> 21.361895 | F27: =$E$8+$F$8*COS(A27*PI()/180) -> 462.80907 | G27: =ABS($F$8*SIN(A27*PI()/180)) -> 36.935406 | H27: =$E$9+$F$9*COS(A27*PI()/180) -> 1823.8516 | I27: =ABS($F$9*SIN(A27*PI()/180)) -> 186.05522 | J27: =$E$10+$F$10*COS(A27*PI()/180) -> 3157.3879 | K27: =ABS($F$10*SIN(A27*PI()/180)) -> 303.20109 | L27: =$E$11+$F$11*COS(A27*PI()/180) -> 5726.3972 | M27: =ABS($F$11*SIN(A27*PI()/180)) -> 523.71098 | N27: =$E$12+$F$12*COS(A27*PI()/180) -> 6393.4697 | O27: =ABS($F$12*SIN(A27*PI()/180)) -> 758.00273 | P27: =$E$13+$F$13*COS(A27*PI()/180) -> 11021.804 | Q27: =ABS($F$13*SIN(A27*PI()/180)) -> 1267.9318 | R27: =$E$14+$F$14*COS(A27*PI()/180) -> 15552.075 | S27: =ABS($F$14*SIN(A27*PI()/180)) -> 1764.0791
A28: 18 | B28: =$E$6+$F$6*COS(A28*PI()/180) -> 142.67518 | C28: =ABS($F$6*SIN(A28*PI()/180)) -> 14.678307 | D28: =$E$7+$F$7*COS(A28*PI()/180) -> 251.20688 | E28: =ABS($F$7*SIN(A28*PI()/180)) -> 23.948817 | F28: =$E$8+$F$8*COS(A28*PI()/180) -> 461.44157 | G28: =ABS($F$8*SIN(A28*PI()/180)) -> 41.408277 | H28: =$E$9+$F$9*COS(A28*PI()/180) -> 1816.9631 | I28: =ABS($F$9*SIN(A28*PI()/180)) -> 208.58647 | J28: =$E$10+$F$10*COS(A28*PI()/180) -> 3146.1622 | K28: =ABS($F$10*SIN(A28*PI()/180)) -> 339.91869 | L28: =$E$11+$F$11*COS(A28*PI()/180) -> 5707.0074 | M28: =ABS($F$11*SIN(A28*PI()/180)) -> 587.13229 | N28: =$E$12+$F$12*COS(A28*PI()/180) -> 6365.4054 | O28: =ABS($F$12*SIN(A28*PI()/180)) -> 849.79673 | P28: =$E$13+$F$13*COS(A28*PI()/180) -> 10974.86 | Q28: =ABS($F$13*SIN(A28*PI()/180)) -> 1421.4782 | R28: =$E$14+$F$14*COS(A28*PI()/180) -> 15486.762 | S28: =ABS($F$14*SIN(A28*PI()/180)) -> 1977.7088
A29: 20 | B29: =$E$6+$F$6*COS(A29*PI()/180) -> 142.1354 | C29: =ABS($F$6*SIN(A29*PI()/180)) -> 16.245957 | D29: =$E$7+$F$7*COS(A29*PI()/180) -> 250.32618 | E29: =ABS($F$7*SIN(A29*PI()/180)) -> 26.506561 | F29: =$E$8+$F$8*COS(A29*PI()/180) -> 459.91881 | G29: =ABS($F$8*SIN(A29*PI()/180)) -> 45.830699 | H29: =$E$9+$F$9*COS(A29*PI()/180) -> 1809.2925 | I29: =ABS($F$9*SIN(A29*PI()/180)) -> 230.8636 | J29: =$E$10+$F$10*COS(A29*PI()/180) -> 3133.6619 | K29: =ABS($F$10*SIN(A29*PI()/180)) -> 376.22216 | L29: =$E$11+$F$11*COS(A29*PI()/180) -> 5685.416 | M29: =ABS($F$11*SIN(A29*PI()/180)) -> 649.83827 | N29: =$E$12+$F$12*COS(A29*PI()/180) -> 6334.1547 | O29: =ABS($F$12*SIN(A29*PI()/180)) -> 940.55539 | P29: =$E$13+$F$13*COS(A29*PI()/180) -> 10922.586 | Q29: =ABS($F$13*SIN(A29*PI()/180)) -> 1573.2927 | R29: =$E$14+$F$14*COS(A29*PI()/180) -> 15414.033 | S29: =ABS($F$14*SIN(A29*PI()/180)) -> 2188.9289
A30: 22 | B30: =$E$6+$F$6*COS(A30*PI()/180) -> 141.54123 | C30: =ABS($F$6*SIN(A30*PI()/180)) -> 17.793813 | D30: =$E$7+$F$7*COS(A30*PI()/180) -> 249.35675 | E30: =ABS($F$7*SIN(A30*PI()/180)) -> 29.032011 | F30: =$E$8+$F$8*COS(A30*PI()/180) -> 458.24264 | G30: =ABS($F$8*SIN(A30*PI()/180)) -> 50.197284 | H30: =$E$9+$F$9*COS(A30*PI()/180) -> 1800.8491 | I30: =ABS($F$9*SIN(A30*PI()/180)) -> 252.85945 | J30: =$E$10+$F$10*COS(A30*PI()/180) -> 3119.9022 | K30: =ABS($F$10*SIN(A30*PI()/180)) -> 412.06725 | L30: =$E$11+$F$11*COS(A30*PI()/180) -> 5661.6493 | M30: =ABS($F$11*SIN(A30*PI()/180)) -> 711.75253 | N30: =$E$12+$F$12*COS(A30*PI()/180) -> 6299.7556 | O30: =ABS($F$12*SIN(A30*PI()/180)) -> 1030.1681 | P30: =$E$13+$F$13*COS(A30*PI()/180) -> 10865.046 | Q30: =ABS($F$13*SIN(A30*PI()/180)) -> 1723.1903 | R30: =$E$14+$F$14*COS(A30*PI()/180) -> 15333.977 | S30: =ABS($F$14*SIN(A30*PI()/180)) -> 2397.4822
... A109: 180 | B109: =$E$6+$F$6*COS(A109*PI()/180) -> 50 | C109: =ABS($F$6*SIN(A109*PI()/180)) -> 5.8170723e-15 | D109: =$E$7+$F$7*COS(A109*PI()/180) -> 100 | E109: =ABS($F$7*SIN(A109*PI()/180)) -> 9.4910127e-15 | F109: =$E$8+$F$8*COS(A109*PI()/180) -> 200 | G109: =ABS($F$8*SIN(A109*PI()/180)) -> 1.6410267e-14 | H109: =$E$9+$F$9*COS(A109*PI()/180) -> 500 | I109: =ABS($F$9*SIN(A109*PI()/180)) -> 8.2663659e-14 | J109: =$E$10+$F$10*COS(A109*PI()/180) -> 1000 | K109: =ABS($F$10*SIN(A109*PI()/180)) -> 1.3471115e-13 | L109: =$E$11+$F$11*COS(A109*PI()/180) -> 2000 | M109: =ABS($F$11*SIN(A109*PI()/180)) -> 2.3268289e-13 | N109: =$E$12+$F$12*COS(A109*PI()/180) -> 1000 | O109: =ABS($F$12*SIN(A109*PI()/180)) -> 3.3677787e-13 | P109: =$E$13+$F$13*COS(A109*PI()/180) -> 2000 | Q109: =ABS($F$13*SIN(A109*PI()/180)) -> 5.6333753e-13 | R109: =$E$14+$F$14*COS(A109*PI()/180) -> 3000 | S109: =ABS($F$14*SIN(A109*PI()/180)) -> 7.8377395e-13
A113: 📏 ENVOLVENTES DE MOHR-COULOMB (2 puntos para trazar la recta)
A114: Material | B114: σn punto 1 | C114: τ punto 1 | D114: σn punto 2 | E114: τ punto 2
A115: Arcilla limosa | B115: =MIN(G6:G8) -> 74.358974 | C115: =Triaxial!I34+B115*TAN(RADIANS(Triaxial!H34)) -> 41.860575
B116: =MAX(G6:G8) -> 280.23952 | C116: =Triaxial!I34+B116*TAN(RADIANS(Triaxial!H34)) -> 122.93505
A117: Lutita | B117: =MIN(G9:G11) -> 787.23404 | C117: =Triaxial!I35+B117*TAN(RADIANS(Triaxial!H35)) -> 557.53479
B118: =MAX(G9:G11) -> 2974.359 | C118: =Triaxial!I35+B118*TAN(RADIANS(Triaxial!H35)) -> 1661.8273
A119: Arenisca | B119: =MIN(G12:G14) -> 1733.3333 | C119: =Triaxial!I36+B119*TAN(RADIANS(Triaxial!H36)) -> 1874.6179
B120: =MAX(G12:G14) -> 5042.5532 | C120: =Triaxial!I36+B120*TAN(RADIANS(Triaxial!H36)) -> 4692.5137

Sheet Gráfico Mohr
A1: ⭕ GRÁFICO — CÍRCULOS DE MOHR Y ENVOLVENTE DE MOHR-COULOMB
A2: Platicando de la Tierra | www.platicandodelatierra.com
A4: 📋 CÓMO FUNCIONA ESTE GRÁFICO
A5: El gráfico se actualiza automáticamente al cambiar σ₃ y σ₁ en la hoja 'Triaxial'.
A6: • ROJO = Arcilla limosa | VERDE = Lutita | NARANJA = Arenisca
A7: • Líneas continuas = semicírculos de Mohr | Líneas punteadas = envolventes de Mohr-Coulomb
A8: • Cada círculo: centro = (σ₁+σ₃)/2 , radio = (σ₁−σ₃)/2 | La envolvente es τ = c + σn·tan(φ)
A9: • Un material falla cuando su círculo de Mohr toca (o supera) su envolvente.
A37: 📋 RESUMEN — Cohesión c y ángulo φ por material
A38: Material | B38: N | C38: c (kPa) | D38: φ (°) | E38: R² | F38: Clasificación | G38: Ecuación τ = c + σ·tan(φ)
A39: Arcilla limosa | B39: =Triaxial!B34 -> 3 | C39: =IFERROR(Triaxial!I34,"—") -> 12.578476 | D39: =IFERROR(Triaxial!H34,"—") -> 21.49421 | E39: =IFERROR(Triaxial!J34,"—") -> 0.99985126 | F39: =IFERROR(Triaxial!K34,"—") -> Cohesivo | G39: =IFERROR("τ = "&TEXT(Triaxial!I34,"0.0")&" + σ·tan("&TEXT(Triaxial!H34,"0.0")&"°)","—") -> τ = 12.6 + σ·tan(21.5°)
A40: Lutita | B40: =Triaxial!B35 -> 3 | C40: =IFERROR(Triaxial!I35,"—") -> 160.05561 | D40: =IFERROR(Triaxial!H35,"—") -> 26.789483 | E40: =IFERROR(Triaxial!J35,"—") -> 0.99985857 | F40: =IFERROR(Triaxial!K35,"—") -> Cohesivo | G40: =IFERROR("τ = "&TEXT(Triaxial!I35,"0.0")&" + σ·tan("&TEXT(Triaxial!H35,"0.0")&"°)","—") -> τ = 160.1 + σ·tan(26.8°)
A41: Arenisca | B41: =Triaxial!B36 -> 3 | C41: =IFERROR(Triaxial!I36,"—") -> 398.63472 | D41: =IFERROR(Triaxial!H36,"—") -> 40.415349 | E41: =IFERROR(Triaxial!J36,"—") -> 0.99996229 | F41: =IFERROR(Triaxial!K36,"—") -> Friccional | G41: =IFERROR("τ = "&TEXT(Triaxial!I36,"0.0")&" + σ·tan("&TEXT(Triaxial!H36,"0.0")&"°)","—") -> τ = 398.6 + σ·tan(40.4°)
A43: INTERPRETACIÓN: Radio mayor = mayor resistencia en confinamiento. Envolvente inclinada = material friccional (φ alto, suelos granulares). Envolvente con alto intercepto Y = material cohesivo (arcillas, rocas). Referencia: Jaeger, J.C. & Cook, N.G.W. (1979). Fundamentals of Rock Mechanics.
