Workbook

Sheet Cálculo de Normalización
A1: Ingresar Datos | AR1: Valores de normalización | AX1: Resultado de Normalización
A2: Nombre de Muestra | C2: Tierras raras | R2: Elementos traza | AR2: Referencia (Autor) | AU2: Referencia (Autor) | AX2: Tierras raras | BM2: Elementos traza
C3: La | D3: Ce | E3: Pr | F3: Nd | G3: Sm | H3: Eu | I3: Gd | J3: Tb | K3: Dy | L3: Ho | M3: Er | N3: Tm | O3: Yb | P3: Lu | R3: Cs | S3: Rb | T3: Ba | U3: Th | V3: U | W3: Nb | X3: Ta | Y3: La | Z3: Ce | AA3: Pb | AB3: Pr | AC3: Sr | AD3: Nd | AE3: Zr | AF3: Hf | AG3: Sm | AH3: Eu | AI3: Gd | AJ3: Tb | AK3: Dy | AL3: Ho | AM3: Er | AN3: Yb | AO3: Y | AP3: Lu | AX3: La | AY3: Ce | AZ3: Pr | BA3: Nd | BB3: Sm | BC3: Eu | BD3: Gd | BE3: Tb | BF3: Dy | BG3: Ho | BH3: Er | BI3: Tm | BJ3: Yb | BK3: Lu | BM3: Cs | BN3: Rb | BO3: Ba | BP3: Th | BQ3: U | BR3: Nb | BS3: Ta | BT3: La | BU3: Ce | BV3: Pb | BW3: Pr | BX3: Sr | BY3: Nd | BZ3: Zr | CA3: Hf | CB3: Sm | CC3: Eu | CD3: Gd | CE3: Tb | CF3: Dy | CG3: Ho | CH3: Er | CI3: Yb | CJ3: Y | CK3: Lu
AR4: La | AS4: 1 | AU4: Cs | AV4: 1 | AX4: =C4/$AS$4 -> 0 | AY4: =D4/$AS$5 -> 0 | AZ4: =E4/$AS$6 -> 0 | BA4: =F4/$AS$7 -> 0 | BB4: =G4/$AS$8 -> 0 | BC4: =H4/$AS$9 -> 0 | BD4: =I4/$AS$10 -> 0 | BE4: =J4/$AS$11 -> 0 | BF4: =K4/$AS$12 -> 0 | BG4: =L4/$AS$13 -> 0 | BH4: =M4/$AS$14 -> 0 | BI4: =N4/$AS$15 -> 0 | BJ4: =O4/$AS$16 -> 0 | BK4: =P4/$AS$17 -> 0 | BM4: =R4/$AV$4 -> 0 | BN4: =S4/$AV$5 -> 0 | BO4: =T4/$AV$6 -> 0 | BP4: =U4/$AV$7 -> 0 | BQ4: =V4/$AV$8 -> 0 | BR4: =W4/$AV$9 -> 0 | BS4: =X4/$AV$10 -> 0 | BT4: =Y4/$AV$11 -> 0 | BU4: =Z4/$AV$12 -> 0 | BV4: =AA4/$AV$13 -> 0 | BW4: =AB4/$AV$14 -> 0 | BX4: =AC4/$AV$15 -> 0 | BY4: =AD4/$AV$16 -> 0 | BZ4: =AE4/$AV$17 -> 0 | CA4: =AF4/$AV$18 -> 0 | CB4: =AG4/$AV$19 -> 0 | CC4: =AH4/$AV$20 -> 0 | CD4: =AI4/$AV$21 -> 0 | CE4: =AJ4/$AV$22 -> 0 | CF4: =AK4/$AV$23 -> 0 | CG4: =AL4/$AV$24 -> 0 | CH4: =AM4/$AV$25 -> 0 | CI4: =AN4/$AV$26 -> 0 | CJ4: =AO4/$AV$27 -> 0 | CK4: =AP4/$AV$28 -> 0
AR5: Ce | AS5: 1 | AU5: Rb | AV5: 1 | AX5: =C5/$AS$4 -> 0 | AY5: =D5/$AS$5 -> 0 | AZ5: =E5/$AS$6 -> 0 | BA5: =F5/$AS$7 -> 0 | BB5: =G5/$AS$8 -> 0 | BC5: =H5/$AS$9 -> 0 | BD5: =I5/$AS$10 -> 0 | BE5: =J5/$AS$11 -> 0 | BF5: =K5/$AS$12 -> 0 | BG5: =L5/$AS$13 -> 0 | BH5: =M5/$AS$14 -> 0 | BI5: =N5/$AS$15 -> 0 | BJ5: =O5/$AS$16 -> 0 | BK5: =P5/$AS$17 -> 0 | BM5: =R5/$AV$4 -> 0 | BN5: =S5/$AV$5 -> 0 | BO5: =T5/$AV$6 -> 0 | BP5: =U5/$AV$7 -> 0 | BQ5: =V5/$AV$8 -> 0 | BR5: =W5/$AV$9 -> 0 | BS5: =X5/$AV$10 -> 0 | BT5: =Y5/$AV$11 -> 0 | BU5: =Z5/$AV$12 -> 0 | BV5: =AA5/$AV$13 -> 0 | BW5: =AB5/$AV$14 -> 0 | BX5: =AC5/$AV$15 -> 0 | BY5: =AD5/$AV$16 -> 0 | BZ5: =AE5/$AV$17 -> 0 | CA5: =AF5/$AV$18 -> 0 | CB5: =AG5/$AV$19 -> 0 | CC5: =AH5/$AV$20 -> 0 | CD5: =AI5/$AV$21 -> 0 | CE5: =AJ5/$AV$22 -> 0 | CF5: =AK5/$AV$23 -> 0 | CG5: =AL5/$AV$24 -> 0 | CH5: =AM5/$AV$25 -> 0 | CI5: =AN5/$AV$26 -> 0 | CJ5: =AO5/$AV$27 -> 0 | CK5: =AP5/$AV$28 -> 0
AR6: Pr | AS6: 1 | AU6: Ba | AV6: 1 | AX6: =C6/$AS$4 -> 0 | AY6: =D6/$AS$5 -> 0 | AZ6: =E6/$AS$6 -> 0 | BA6: =F6/$AS$7 -> 0 | BB6: =G6/$AS$8 -> 0 | BC6: =H6/$AS$9 -> 0 | BD6: =I6/$AS$10 -> 0 | BE6: =J6/$AS$11 -> 0 | BF6: =K6/$AS$12 -> 0 | BG6: =L6/$AS$13 -> 0 | BH6: =M6/$AS$14 -> 0 | BI6: =N6/$AS$15 -> 0 | BJ6: =O6/$AS$16 -> 0 | BK6: =P6/$AS$17 -> 0 | BM6: =R6/$AV$4 -> 0 | BN6: =S6/$AV$5 -> 0 | BO6: =T6/$AV$6 -> 0 | BP6: =U6/$AV$7 -> 0 | BQ6: =V6/$AV$8 -> 0 | BR6: =W6/$AV$9 -> 0 | BS6: =X6/$AV$10 -> 0 | BT6: =Y6/$AV$11 -> 0 | BU6: =Z6/$AV$12 -> 0 | BV6: =AA6/$AV$13 -> 0 | BW6: =AB6/$AV$14 -> 0 | BX6: =AC6/$AV$15 -> 0 | BY6: =AD6/$AV$16 -> 0 | BZ6: =AE6/$AV$17 -> 0 | CA6: =AF6/$AV$18 -> 0 | CB6: =AG6/$AV$19 -> 0 | CC6: =AH6/$AV$20 -> 0 | CD6: =AI6/$AV$21 -> 0 | CE6: =AJ6/$AV$22 -> 0 | CF6: =AK6/$AV$23 -> 0 | CG6: =AL6/$AV$24 -> 0 | CH6: =AM6/$AV$25 -> 0 | CI6: =AN6/$AV$26 -> 0 | CJ6: =AO6/$AV$27 -> 0 | CK6: =AP6/$AV$28 -> 0
AR7: Nd | AS7: 1 | AU7: Th | AV7: 1 | AX7: =C7/$AS$4 -> 0 | AY7: =D7/$AS$5 -> 0 | AZ7: =E7/$AS$6 -> 0 | BA7: =F7/$AS$7 -> 0 | BB7: =G7/$AS$8 -> 0 | BC7: =H7/$AS$9 -> 0 | BD7: =I7/$AS$10 -> 0 | BE7: =J7/$AS$11 -> 0 | BF7: =K7/$AS$12 -> 0 | BG7: =L7/$AS$13 -> 0 | BH7: =M7/$AS$14 -> 0 | BI7: =N7/$AS$15 -> 0 | BJ7: =O7/$AS$16 -> 0 | BK7: =P7/$AS$17 -> 0 | BM7: =R7/$AV$4 -> 0 | BN7: =S7/$AV$5 -> 0 | BO7: =T7/$AV$6 -> 0 | BP7: =U7/$AV$7 -> 0 | BQ7: =V7/$AV$8 -> 0 | BR7: =W7/$AV$9 -> 0 | BS7: =X7/$AV$10 -> 0 | BT7: =Y7/$AV$11 -> 0 | BU7: =Z7/$AV$12 -> 0 | BV7: =AA7/$AV$13 -> 0 | BW7: =AB7/$AV$14 -> 0 | BX7: =AC7/$AV$15 -> 0 | BY7: =AD7/$AV$16 -> 0 | BZ7: =AE7/$AV$17 -> 0 | CA7: =AF7/$AV$18 -> 0 | CB7: =AG7/$AV$19 -> 0 | CC7: =AH7/$AV$20 -> 0 | CD7: =AI7/$AV$21 -> 0 | CE7: =AJ7/$AV$22 -> 0 | CF7: =AK7/$AV$23 -> 0 | CG7: =AL7/$AV$24 -> 0 | CH7: =AM7/$AV$25 -> 0 | CI7: =AN7/$AV$26 -> 0 | CJ7: =AO7/$AV$27 -> 0 | CK7: =AP7/$AV$28 -> 0
AR8: Sm | AS8: 1 | AU8: U | AV8: 1 | AX8: =C8/$AS$4 -> 0 | AY8: =D8/$AS$5 -> 0 | AZ8: =E8/$AS$6 -> 0 | BA8: =F8/$AS$7 -> 0 | BB8: =G8/$AS$8 -> 0 | BC8: =H8/$AS$9 -> 0 | BD8: =I8/$AS$10 -> 0 | BE8: =J8/$AS$11 -> 0 | BF8: =K8/$AS$12 -> 0 | BG8: =L8/$AS$13 -> 0 | BH8: =M8/$AS$14 -> 0 | BI8: =N8/$AS$15 -> 0 | BJ8: =O8/$AS$16 -> 0 | BK8: =P8/$AS$17 -> 0 | BM8: =R8/$AV$4 -> 0 | BN8: =S8/$AV$5 -> 0 | BO8: =T8/$AV$6 -> 0 | BP8: =U8/$AV$7 -> 0 | BQ8: =V8/$AV$8 -> 0 | BR8: =W8/$AV$9 -> 0 | BS8: =X8/$AV$10 -> 0 | BT8: =Y8/$AV$11 -> 0 | BU8: =Z8/$AV$12 -> 0 | BV8: =AA8/$AV$13 -> 0 | BW8: =AB8/$AV$14 -> 0 | BX8: =AC8/$AV$15 -> 0 | BY8: =AD8/$AV$16 -> 0 | BZ8: =AE8/$AV$17 -> 0 | CA8: =AF8/$AV$18 -> 0 | CB8: =AG8/$AV$19 -> 0 | CC8: =AH8/$AV$20 -> 0 | CD8: =AI8/$AV$21 -> 0 | CE8: =AJ8/$AV$22 -> 0 | CF8: =AK8/$AV$23 -> 0 | CG8: =AL8/$AV$24 -> 0 | CH8: =AM8/$AV$25 -> 0 | CI8: =AN8/$AV$26 -> 0 | CJ8: =AO8/$AV$27 -> 0 | CK8: =AP8/$AV$28 -> 0
AR9: Eu | AS9: 1 | AU9: Nb | AV9: 1 | AX9: =C9/$AS$4 -> 0 | AY9: =D9/$AS$5 -> 0 | AZ9: =E9/$AS$6 -> 0 | BA9: =F9/$AS$7 -> 0 | BB9: =G9/$AS$8 -> 0 | BC9: =H9/$AS$9 -> 0 | BD9: =I9/$AS$10 -> 0 | BE9: =J9/$AS$11 -> 0 | BF9: =K9/$AS$12 -> 0 | BG9: =L9/$AS$13 -> 0 | BH9: =M9/$AS$14 -> 0 | BI9: =N9/$AS$15 -> 0 | BJ9: =O9/$AS$16 -> 0 | BK9: =P9/$AS$17 -> 0 | BM9: =R9/$AV$4 -> 0 | BN9: =S9/$AV$5 -> 0 | BO9: =T9/$AV$6 -> 0 | BP9: =U9/$AV$7 -> 0 | BQ9: =V9/$AV$8 -> 0 | BR9: =W9/$AV$9 -> 0 | BS9: =X9/$AV$10 -> 0 | BT9: =Y9/$AV$11 -> 0 | BU9: =Z9/$AV$12 -> 0 | BV9: =AA9/$AV$13 -> 0 | BW9: =AB9/$AV$14 -> 0 | BX9: =AC9/$AV$15 -> 0 | BY9: =AD9/$AV$16 -> 0 | BZ9: =AE9/$AV$17 -> 0 | CA9: =AF9/$AV$18 -> 0 | CB9: =AG9/$AV$19 -> 0 | CC9: =AH9/$AV$20 -> 0 | CD9: =AI9/$AV$21 -> 0 | CE9: =AJ9/$AV$22 -> 0 | CF9: =AK9/$AV$23 -> 0 | CG9: =AL9/$AV$24 -> 0 | CH9: =AM9/$AV$25 -> 0 | CI9: =AN9/$AV$26 -> 0 | CJ9: =AO9/$AV$27 -> 0 | CK9: =AP9/$AV$28 -> 0
AR10: Gd | AS10: 1 | AU10: Ta | AV10: 1 | AX10: =C10/$AS$4 -> 0 | AY10: =D10/$AS$5 -> 0 | AZ10: =E10/$AS$6 -> 0 | BA10: =F10/$AS$7 -> 0 | BB10: =G10/$AS$8 -> 0 | BC10: =H10/$AS$9 -> 0 | BD10: =I10/$AS$10 -> 0 | BE10: =J10/$AS$11 -> 0 | BF10: =K10/$AS$12 -> 0 | BG10: =L10/$AS$13 -> 0 | BH10: =M10/$AS$14 -> 0 | BI10: =N10/$AS$15 -> 0 | BJ10: =O10/$AS$16 -> 0 | BK10: =P10/$AS$17 -> 0 | BM10: =R10/$AV$4 -> 0 | BN10: =S10/$AV$5 -> 0 | BO10: =T10/$AV$6 -> 0 | BP10: =U10/$AV$7 -> 0 | BQ10: =V10/$AV$8 -> 0 | BR10: =W10/$AV$9 -> 0 | BS10: =X10/$AV$10 -> 0 | BT10: =Y10/$AV$11 -> 0 | BU10: =Z10/$AV$12 -> 0 | BV10: =AA10/$AV$13 -> 0 | BW10: =AB10/$AV$14 -> 0 | BX10: =AC10/$AV$15 -> 0 | BY10: =AD10/$AV$16 -> 0 | BZ10: =AE10/$AV$17 -> 0 | CA10: =AF10/$AV$18 -> 0 | CB10: =AG10/$AV$19 -> 0 | CC10: =AH10/$AV$20 -> 0 | CD10: =AI10/$AV$21 -> 0 | CE10: =AJ10/$AV$22 -> 0 | CF10: =AK10/$AV$23 -> 0 | CG10: =AL10/$AV$24 -> 0 | CH10: =AM10/$AV$25 -> 0 | CI10: =AN10/$AV$26 -> 0 | CJ10: =AO10/$AV$27 -> 0 | CK10: =AP10/$AV$28 -> 0
AR11: Tb | AS11: 1 | AU11: La | AV11: 1 | AX11: =C11/$AS$4 -> 0 | AY11: =D11/$AS$5 -> 0 | AZ11: =E11/$AS$6 -> 0 | BA11: =F11/$AS$7 -> 0 | BB11: =G11/$AS$8 -> 0 | BC11: =H11/$AS$9 -> 0 | BD11: =I11/$AS$10 -> 0 | BE11: =J11/$AS$11 -> 0 | BF11: =K11/$AS$12 -> 0 | BG11: =L11/$AS$13 -> 0 | BH11: =M11/$AS$14 -> 0 | BI11: =N11/$AS$15 -> 0 | BJ11: =O11/$AS$16 -> 0 | BK11: =P11/$AS$17 -> 0 | BM11: =R11/$AV$4 -> 0 | BN11: =S11/$AV$5 -> 0 | BO11: =T11/$AV$6 -> 0 | BP11: =U11/$AV$7 -> 0 | BQ11: =V11/$AV$8 -> 0 | BR11: =W11/$AV$9 -> 0 | BS11: =X11/$AV$10 -> 0 | BT11: =Y11/$AV$11 -> 0 | BU11: =Z11/$AV$12 -> 0 | BV11: =AA11/$AV$13 -> 0 | BW11: =AB11/$AV$14 -> 0 | BX11: =AC11/$AV$15 -> 0 | BY11: =AD11/$AV$16 -> 0 | BZ11: =AE11/$AV$17 -> 0 | CA11: =AF11/$AV$18 -> 0 | CB11: =AG11/$AV$19 -> 0 | CC11: =AH11/$AV$20 -> 0 | CD11: =AI11/$AV$21 -> 0 | CE11: =AJ11/$AV$22 -> 0 | CF11: =AK11/$AV$23 -> 0 | CG11: =AL11/$AV$24 -> 0 | CH11: =AM11/$AV$25 -> 0 | CI11: =AN11/$AV$26 -> 0 | CJ11: =AO11/$AV$27 -> 0 | CK11: =AP11/$AV$28 -> 0
AR12: Dy | AS12: 1 | AU12: Ce | AV12: 1 | AX12: =C12/$AS$4 -> 0 | AY12: =D12/$AS$5 -> 0 | AZ12: =E12/$AS$6 -> 0 | BA12: =F12/$AS$7 -> 0 | BB12: =G12/$AS$8 -> 0 | BC12: =H12/$AS$9 -> 0 | BD12: =I12/$AS$10 -> 0 | BE12: =J12/$AS$11 -> 0 | BF12: =K12/$AS$12 -> 0 | BG12: =L12/$AS$13 -> 0 | BH12: =M12/$AS$14 -> 0 | BI12: =N12/$AS$15 -> 0 | BJ12: =O12/$AS$16 -> 0 | BK12: =P12/$AS$17 -> 0 | BM12: =R12/$AV$4 -> 0 | BN12: =S12/$AV$5 -> 0 | BO12: =T12/$AV$6 -> 0 | BP12: =U12/$AV$7 -> 0 | BQ12: =V12/$AV$8 -> 0 | BR12: =W12/$AV$9 -> 0 | BS12: =X12/$AV$10 -> 0 | BT12: =Y12/$AV$11 -> 0 | BU12: =Z12/$AV$12 -> 0 | BV12: =AA12/$AV$13 -> 0 | BW12: =AB12/$AV$14 -> 0 | BX12: =AC12/$AV$15 -> 0 | BY12: =AD12/$AV$16 -> 0 | BZ12: =AE12/$AV$17 -> 0 | CA12: =AF12/$AV$18 -> 0 | CB12: =AG12/$AV$19 -> 0 | CC12: =AH12/$AV$20 -> 0 | CD12: =AI12/$AV$21 -> 0 | CE12: =AJ12/$AV$22 -> 0 | CF12: =AK12/$AV$23 -> 0 | CG12: =AL12/$AV$24 -> 0 | CH12: =AM12/$AV$25 -> 0 | CI12: =AN12/$AV$26 -> 0 | CJ12: =AO12/$AV$27 -> 0 | CK12: =AP12/$AV$28 -> 0
AR13: Ho | AS13: 1 | AU13: Pb | AV13: 1 | AX13: =C13/$AS$4 -> 0 | AY13: =D13/$AS$5 -> 0 | AZ13: =E13/$AS$6 -> 0 | BA13: =F13/$AS$7 -> 0 | BB13: =G13/$AS$8 -> 0 | BC13: =H13/$AS$9 -> 0 | BD13: =I13/$AS$10 -> 0 | BE13: =J13/$AS$11 -> 0 | BF13: =K13/$AS$12 -> 0 | BG13: =L13/$AS$13 -> 0 | BH13: =M13/$AS$14 -> 0 | BI13: =N13/$AS$15 -> 0 | BJ13: =O13/$AS$16 -> 0 | BK13: =P13/$AS$17 -> 0 | BM13: =R13/$AV$4 -> 0 | BN13: =S13/$AV$5 -> 0 | BO13: =T13/$AV$6 -> 0 | BP13: =U13/$AV$7 -> 0 | BQ13: =V13/$AV$8 -> 0 | BR13: =W13/$AV$9 -> 0 | BS13: =X13/$AV$10 -> 0 | BT13: =Y13/$AV$11 -> 0 | BU13: =Z13/$AV$12 -> 0 | BV13: =AA13/$AV$13 -> 0 | BW13: =AB13/$AV$14 -> 0 | BX13: =AC13/$AV$15 -> 0 | BY13: =AD13/$AV$16 -> 0 | BZ13: =AE13/$AV$17 -> 0 | CA13: =AF13/$AV$18 -> 0 | CB13: =AG13/$AV$19 -> 0 | CC13: =AH13/$AV$20 -> 0 | CD13: =AI13/$AV$21 -> 0 | CE13: =AJ13/$AV$22 -> 0 | CF13: =AK13/$AV$23 -> 0 | CG13: =AL13/$AV$24 -> 0 | CH13: =AM13/$AV$25 -> 0 | CI13: =AN13/$AV$26 -> 0 | CJ13: =AO13/$AV$27 -> 0 | CK13: =AP13/$AV$28 -> 0
AR14: Er | AS14: 1 | AU14: Pr | AV14: 1 | AX14: =C14/$AS$4 -> 0 | AY14: =D14/$AS$5 -> 0 | AZ14: =E14/$AS$6 -> 0 | BA14: =F14/$AS$7 -> 0 | BB14: =G14/$AS$8 -> 0 | BC14: =H14/$AS$9 -> 0 | BD14: =I14/$AS$10 -> 0 | BE14: =J14/$AS$11 -> 0 | BF14: =K14/$AS$12 -> 0 | BG14: =L14/$AS$13 -> 0 | BH14: =M14/$AS$14 -> 0 | BI14: =N14/$AS$15 -> 0 | BJ14: =O14/$AS$16 -> 0 | BK14: =P14/$AS$17 -> 0 | BM14: =R14/$AV$4 -> 0 | BN14: =S14/$AV$5 -> 0 | BO14: =T14/$AV$6 -> 0 | BP14: =U14/$AV$7 -> 0 | BQ14: =V14/$AV$8 -> 0 | BR14: =W14/$AV$9 -> 0 | BS14: =X14/$AV$10 -> 0 | BT14: =Y14/$AV$11 -> 0 | BU14: =Z14/$AV$12 -> 0 | BV14: =AA14/$AV$13 -> 0 | BW14: =AB14/$AV$14 -> 0 | BX14: =AC14/$AV$15 -> 0 | BY14: =AD14/$AV$16 -> 0 | BZ14: =AE14/$AV$17 -> 0 | CA14: =AF14/$AV$18 -> 0 | CB14: =AG14/$AV$19 -> 0 | CC14: =AH14/$AV$20 -> 0 | CD14: =AI14/$AV$21 -> 0 | CE14: =AJ14/$AV$22 -> 0 | CF14: =AK14/$AV$23 -> 0 | CG14: =AL14/$AV$24 -> 0 | CH14: =AM14/$AV$25 -> 0 | CI14: =AN14/$AV$26 -> 0 | CJ14: =AO14/$AV$27 -> 0 | CK14: =AP14/$AV$28 -> 0
AR15: Tm | AS15: 1 | AU15: Sr | AV15: 1 | AX15: =C15/$AS$4 -> 0 | AY15: =D15/$AS$5 -> 0 | AZ15: =E15/$AS$6 -> 0 | BA15: =F15/$AS$7 -> 0 | BB15: =G15/$AS$8 -> 0 | BC15: =H15/$AS$9 -> 0 | BD15: =I15/$AS$10 -> 0 | BE15: =J15/$AS$11 -> 0 | BF15: =K15/$AS$12 -> 0 | BG15: =L15/$AS$13 -> 0 | BH15: =M15/$AS$14 -> 0 | BI15: =N15/$AS$15 -> 0 | BJ15: =O15/$AS$16 -> 0 | BK15: =P15/$AS$17 -> 0 | BM15: =R15/$AV$4 -> 0 | BN15: =S15/$AV$5 -> 0 | BO15: =T15/$AV$6 -> 0 | BP15: =U15/$AV$7 -> 0 | BQ15: =V15/$AV$8 -> 0 | BR15: =W15/$AV$9 -> 0 | BS15: =X15/$AV$10 -> 0 | BT15: =Y15/$AV$11 -> 0 | BU15: =Z15/$AV$12 -> 0 | BV15: =AA15/$AV$13 -> 0 | BW15: =AB15/$AV$14 -> 0 | BX15: =AC15/$AV$15 -> 0 | BY15: =AD15/$AV$16 -> 0 | BZ15: =AE15/$AV$17 -> 0 | CA15: =AF15/$AV$18 -> 0 | CB15: =AG15/$AV$19 -> 0 | CC15: =AH15/$AV$20 -> 0 | CD15: =AI15/$AV$21 -> 0 | CE15: =AJ15/$AV$22 -> 0 | CF15: =AK15/$AV$23 -> 0 | CG15: =AL15/$AV$24 -> 0 | CH15: =AM15/$AV$25 -> 0 | CI15: =AN15/$AV$26 -> 0 | CJ15: =AO15/$AV$27 -> 0 | CK15: =AP15/$AV$28 -> 0
... AR17: Lu | AS17: 1 | AU17: Zr | AV17: 1 | AX17: =C17/$AS$4 -> 0 | AY17: =D17/$AS$5 -> 0 | AZ17: =E17/$AS$6 -> 0 | BA17: =F17/$AS$7 -> 0 | BB17: =G17/$AS$8 -> 0 | BC17: =H17/$AS$9 -> 0 | BD17: =I17/$AS$10 -> 0 | BE17: =J17/$AS$11 -> 0 | BF17: =K17/$AS$12 -> 0 | BG17: =L17/$AS$13 -> 0 | BH17: =M17/$AS$14 -> 0 | BI17: =N17/$AS$15 -> 0 | BJ17: =O17/$AS$16 -> 0 | BK17: =P17/$AS$17 -> 0 | BM17: =R17/$AV$4 -> 0 | BN17: =S17/$AV$5 -> 0 | BO17: =T17/$AV$6 -> 0 | BP17: =U17/$AV$7 -> 0 | BQ17: =V17/$AV$8 -> 0 | BR17: =W17/$AV$9 -> 0 | BS17: =X17/$AV$10 -> 0 | BT17: =Y17/$AV$11 -> 0 | BU17: =Z17/$AV$12 -> 0 | BV17: =AA17/$AV$13 -> 0 | BW17: =AB17/$AV$14 -> 0 | BX17: =AC17/$AV$15 -> 0 | BY17: =AD17/$AV$16 -> 0 | BZ17: =AE17/$AV$17 -> 0 | CA17: =AF17/$AV$18 -> 0 | CB17: =AG17/$AV$19 -> 0 | CC17: =AH17/$AV$20 -> 0 | CD17: =AI17/$AV$21 -> 0 | CE17: =AJ17/$AV$22 -> 0 | CF17: =AK17/$AV$23 -> 0 | CG17: =AL17/$AV$24 -> 0 | CH17: =AM17/$AV$25 -> 0 | CI17: =AN17/$AV$26 -> 0 | CJ17: =AO17/$AV$27 -> 0 | CK17: =AP17/$AV$28 -> 0
AU18: Hf | AV18: 1 | AX18: =C18/$AS$4 -> 0 | AY18: =D18/$AS$5 -> 0 | AZ18: =E18/$AS$6 -> 0 | BA18: =F18/$AS$7 -> 0 | BB18: =G18/$AS$8 -> 0 | BC18: =H18/$AS$9 -> 0 | BD18: =I18/$AS$10 -> 0 | BE18: =J18/$AS$11 -> 0 | BF18: =K18/$AS$12 -> 0 | BG18: =L18/$AS$13 -> 0 | BH18: =M18/$AS$14 -> 0 | BI18: =N18/$AS$15 -> 0 | BJ18: =O18/$AS$16 -> 0 | BK18: =P18/$AS$17 -> 0 | BM18: =R18/$AV$4 -> 0 | BN18: =S18/$AV$5 -> 0 | BO18: =T18/$AV$6 -> 0 | BP18: =U18/$AV$7 -> 0 | BQ18: =V18/$AV$8 -> 0 | BR18: =W18/$AV$9 -> 0 | BS18: =X18/$AV$10 -> 0 | BT18: =Y18/$AV$11 -> 0 | BU18: =Z18/$AV$12 -> 0 | BV18: =AA18/$AV$13 -> 0 | BW18: =AB18/$AV$14 -> 0 | BX18: =AC18/$AV$15 -> 0 | BY18: =AD18/$AV$16 -> 0 | BZ18: =AE18/$AV$17 -> 0 | CA18: =AF18/$AV$18 -> 0 | CB18: =AG18/$AV$19 -> 0 | CC18: =AH18/$AV$20 -> 0 | CD18: =AI18/$AV$21 -> 0 | CE18: =AJ18/$AV$22 -> 0 | CF18: =AK18/$AV$23 -> 0 | CG18: =AL18/$AV$24 -> 0 | CH18: =AM18/$AV$25 -> 0 | CI18: =AN18/$AV$26 -> 0 | CJ18: =AO18/$AV$27 -> 0 | CK18: =AP18/$AV$28 -> 0
AU19: Sm | AV19: 1 | AX19: =C19/$AS$4 -> 0 | AY19: =D19/$AS$5 -> 0 | AZ19: =E19/$AS$6 -> 0 | BA19: =F19/$AS$7 -> 0 | BB19: =G19/$AS$8 -> 0 | BC19: =H19/$AS$9 -> 0 | BD19: =I19/$AS$10 -> 0 | BE19: =J19/$AS$11 -> 0 | BF19: =K19/$AS$12 -> 0 | BG19: =L19/$AS$13 -> 0 | BH19: =M19/$AS$14 -> 0 | BI19: =N19/$AS$15 -> 0 | BJ19: =O19/$AS$16 -> 0 | BK19: =P19/$AS$17 -> 0 | BM19: =R19/$AV$4 -> 0 | BN19: =S19/$AV$5 -> 0 | BO19: =T19/$AV$6 -> 0 | BP19: =U19/$AV$7 -> 0 | BQ19: =V19/$AV$8 -> 0 | BR19: =W19/$AV$9 -> 0 | BS19: =X19/$AV$10 -> 0 | BT19: =Y19/$AV$11 -> 0 | BU19: =Z19/$AV$12 -> 0 | BV19: =AA19/$AV$13 -> 0 | BW19: =AB19/$AV$14 -> 0 | BX19: =AC19/$AV$15 -> 0 | BY19: =AD19/$AV$16 -> 0 | BZ19: =AE19/$AV$17 -> 0 | CA19: =AF19/$AV$18 -> 0 | CB19: =AG19/$AV$19 -> 0 | CC19: =AH19/$AV$20 -> 0 | CD19: =AI19/$AV$21 -> 0 | CE19: =AJ19/$AV$22 -> 0 | CF19: =AK19/$AV$23 -> 0 | CG19: =AL19/$AV$24 -> 0 | CH19: =AM19/$AV$25 -> 0 | CI19: =AN19/$AV$26 -> 0 | CJ19: =AO19/$AV$27 -> 0 | CK19: =AP19/$AV$28 -> 0
AU20: Eu | AV20: 1 | AX20: =C20/$AS$4 -> 0 | AY20: =D20/$AS$5 -> 0 | AZ20: =E20/$AS$6 -> 0 | BA20: =F20/$AS$7 -> 0 | BB20: =G20/$AS$8 -> 0 | BC20: =H20/$AS$9 -> 0 | BD20: =I20/$AS$10 -> 0 | BE20: =J20/$AS$11 -> 0 | BF20: =K20/$AS$12 -> 0 | BG20: =L20/$AS$13 -> 0 | BH20: =M20/$AS$14 -> 0 | BI20: =N20/$AS$15 -> 0 | BJ20: =O20/$AS$16 -> 0 | BK20: =P20/$AS$17 -> 0 | BM20: =R20/$AV$4 -> 0 | BN20: =S20/$AV$5 -> 0 | BO20: =T20/$AV$6 -> 0 | BP20: =U20/$AV$7 -> 0 | BQ20: =V20/$AV$8 -> 0 | BR20: =W20/$AV$9 -> 0 | BS20: =X20/$AV$10 -> 0 | BT20: =Y20/$AV$11 -> 0 | BU20: =Z20/$AV$12 -> 0 | BV20: =AA20/$AV$13 -> 0 | BW20: =AB20/$AV$14 -> 0 | BX20: =AC20/$AV$15 -> 0 | BY20: =AD20/$AV$16 -> 0 | BZ20: =AE20/$AV$17 -> 0 | CA20: =AF20/$AV$18 -> 0 | CB20: =AG20/$AV$19 -> 0 | CC20: =AH20/$AV$20 -> 0 | CD20: =AI20/$AV$21 -> 0 | CE20: =AJ20/$AV$22 -> 0 | CF20: =AK20/$AV$23 -> 0 | CG20: =AL20/$AV$24 -> 0 | CH20: =AM20/$AV$25 -> 0 | CI20: =AN20/$AV$26 -> 0 | CJ20: =AO20/$AV$27 -> 0 | CK20: =AP20/$AV$28 -> 0
AU21: Gd | AV21: 1 | AX21: =C21/$AS$4 -> 0 | AY21: =D21/$AS$5 -> 0 | AZ21: =E21/$AS$6 -> 0 | BA21: =F21/$AS$7 -> 0 | BB21: =G21/$AS$8 -> 0 | BC21: =H21/$AS$9 -> 0 | BD21: =I21/$AS$10 -> 0 | BE21: =J21/$AS$11 -> 0 | BF21: =K21/$AS$12 -> 0 | BG21: =L21/$AS$13 -> 0 | BH21: =M21/$AS$14 -> 0 | BI21: =N21/$AS$15 -> 0 | BJ21: =O21/$AS$16 -> 0 | BK21: =P21/$AS$17 -> 0 | BM21: =R21/$AV$4 -> 0 | BN21: =S21/$AV$5 -> 0 | BO21: =T21/$AV$6 -> 0 | BP21: =U21/$AV$7 -> 0 | BQ21: =V21/$AV$8 -> 0 | BR21: =W21/$AV$9 -> 0 | BS21: =X21/$AV$10 -> 0 | BT21: =Y21/$AV$11 -> 0 | BU21: =Z21/$AV$12 -> 0 | BV21: =AA21/$AV$13 -> 0 | BW21: =AB21/$AV$14 -> 0 | BX21: =AC21/$AV$15 -> 0 | BY21: =AD21/$AV$16 -> 0 | BZ21: =AE21/$AV$17 -> 0 | CA21: =AF21/$AV$18 -> 0 | CB21: =AG21/$AV$19 -> 0 | CC21: =AH21/$AV$20 -> 0 | CD21: =AI21/$AV$21 -> 0 | CE21: =AJ21/$AV$22 -> 0 | CF21: =AK21/$AV$23 -> 0 | CG21: =AL21/$AV$24 -> 0 | CH21: =AM21/$AV$25 -> 0 | CI21: =AN21/$AV$26 -> 0 | CJ21: =AO21/$AV$27 -> 0 | CK21: =AP21/$AV$28 -> 0
AU22: Tb | AV22: 1 | AX22: =C22/$AS$4 -> 0 | AY22: =D22/$AS$5 -> 0 | AZ22: =E22/$AS$6 -> 0 | BA22: =F22/$AS$7 -> 0 | BB22: =G22/$AS$8 -> 0 | BC22: =H22/$AS$9 -> 0 | BD22: =I22/$AS$10 -> 0 | BE22: =J22/$AS$11 -> 0 | BF22: =K22/$AS$12 -> 0 | BG22: =L22/$AS$13 -> 0 | BH22: =M22/$AS$14 -> 0 | BI22: =N22/$AS$15 -> 0 | BJ22: =O22/$AS$16 -> 0 | BK22: =P22/$AS$17 -> 0 | BM22: =R22/$AV$4 -> 0 | BN22: =S22/$AV$5 -> 0 | BO22: =T22/$AV$6 -> 0 | BP22: =U22/$AV$7 -> 0 | BQ22: =V22/$AV$8 -> 0 | BR22: =W22/$AV$9 -> 0 | BS22: =X22/$AV$10 -> 0 | BT22: =Y22/$AV$11 -> 0 | BU22: =Z22/$AV$12 -> 0 | BV22: =AA22/$AV$13 -> 0 | BW22: =AB22/$AV$14 -> 0 | BX22: =AC22/$AV$15 -> 0 | BY22: =AD22/$AV$16 -> 0 | BZ22: =AE22/$AV$17 -> 0 | CA22: =AF22/$AV$18 -> 0 | CB22: =AG22/$AV$19 -> 0 | CC22: =AH22/$AV$20 -> 0 | CD22: =AI22/$AV$21 -> 0 | CE22: =AJ22/$AV$22 -> 0 | CF22: =AK22/$AV$23 -> 0 | CG22: =AL22/$AV$24 -> 0 | CH22: =AM22/$AV$25 -> 0 | CI22: =AN22/$AV$26 -> 0 | CJ22: =AO22/$AV$27 -> 0 | CK22: =AP22/$AV$28 -> 0
AU23: Dy | AV23: 1 | AX23: =C23/$AS$4 -> 0 | AY23: =D23/$AS$5 -> 0 | AZ23: =E23/$AS$6 -> 0 | BA23: =F23/$AS$7 -> 0 | BB23: =G23/$AS$8 -> 0 | BC23: =H23/$AS$9 -> 0 | BD23: =I23/$AS$10 -> 0 | BE23: =J23/$AS$11 -> 0 | BF23: =K23/$AS$12 -> 0 | BG23: =L23/$AS$13 -> 0 | BH23: =M23/$AS$14 -> 0 | BI23: =N23/$AS$15 -> 0 | BJ23: =O23/$AS$16 -> 0 | BK23: =P23/$AS$17 -> 0 | BM23: =R23/$AV$4 -> 0 | BN23: =S23/$AV$5 -> 0 | BO23: =T23/$AV$6 -> 0 | BP23: =U23/$AV$7 -> 0 | BQ23: =V23/$AV$8 -> 0 | BR23: =W23/$AV$9 -> 0 | BS23: =X23/$AV$10 -> 0 | BT23: =Y23/$AV$11 -> 0 | BU23: =Z23/$AV$12 -> 0 | BV23: =AA23/$AV$13 -> 0 | BW23: =AB23/$AV$14 -> 0 | BX23: =AC23/$AV$15 -> 0 | BY23: =AD23/$AV$16 -> 0 | BZ23: =AE23/$AV$17 -> 0 | CA23: =AF23/$AV$18 -> 0 | CB23: =AG23/$AV$19 -> 0 | CC23: =AH23/$AV$20 -> 0 | CD23: =AI23/$AV$21 -> 0 | CE23: =AJ23/$AV$22 -> 0 | CF23: =AK23/$AV$23 -> 0 | CG23: =AL23/$AV$24 -> 0 | CH23: =AM23/$AV$25 -> 0 | CI23: =AN23/$AV$26 -> 0 | CJ23: =AO23/$AV$27 -> 0 | CK23: =AP23/$AV$28 -> 0
AU24: Ho | AV24: 1 | AX24: =C24/$AS$4 -> 0 | AY24: =D24/$AS$5 -> 0 | AZ24: =E24/$AS$6 -> 0 | BA24: =F24/$AS$7 -> 0 | BB24: =G24/$AS$8 -> 0 | BC24: =H24/$AS$9 -> 0 | BD24: =I24/$AS$10 -> 0 | BE24: =J24/$AS$11 -> 0 | BF24: =K24/$AS$12 -> 0 | BG24: =L24/$AS$13 -> 0 | BH24: =M24/$AS$14 -> 0 | BI24: =N24/$AS$15 -> 0 | BJ24: =O24/$AS$16 -> 0 | BK24: =P24/$AS$17 -> 0 | BM24: =R24/$AV$4 -> 0 | BN24: =S24/$AV$5 -> 0 | BO24: =T24/$AV$6 -> 0 | BP24: =U24/$AV$7 -> 0 | BQ24: =V24/$AV$8 -> 0 | BR24: =W24/$AV$9 -> 0 | BS24: =X24/$AV$10 -> 0 | BT24: =Y24/$AV$11 -> 0 | BU24: =Z24/$AV$12 -> 0 | BV24: =AA24/$AV$13 -> 0 | BW24: =AB24/$AV$14 -> 0 | BX24: =AC24/$AV$15 -> 0 | BY24: =AD24/$AV$16 -> 0 | BZ24: =AE24/$AV$17 -> 0 | CA24: =AF24/$AV$18 -> 0 | CB24: =AG24/$AV$19 -> 0 | CC24: =AH24/$AV$20 -> 0 | CD24: =AI24/$AV$21 -> 0 | CE24: =AJ24/$AV$22 -> 0 | CF24: =AK24/$AV$23 -> 0 | CG24: =AL24/$AV$24 -> 0 | CH24: =AM24/$AV$25 -> 0 | CI24: =AN24/$AV$26 -> 0 | CJ24: =AO24/$AV$27 -> 0 | CK24: =AP24/$AV$28 -> 0
AU25: Er | AV25: 1 | AX25: =C25/$AS$4 -> 0 | AY25: =D25/$AS$5 -> 0 | AZ25: =E25/$AS$6 -> 0 | BA25: =F25/$AS$7 -> 0 | BB25: =G25/$AS$8 -> 0 | BC25: =H25/$AS$9 -> 0 | BD25: =I25/$AS$10 -> 0 | BE25: =J25/$AS$11 -> 0 | BF25: =K25/$AS$12 -> 0 | BG25: =L25/$AS$13 -> 0 | BH25: =M25/$AS$14 -> 0 | BI25: =N25/$AS$15 -> 0 | BJ25: =O25/$AS$16 -> 0 | BK25: =P25/$AS$17 -> 0 | BM25: =R25/$AV$4 -> 0 | BN25: =S25/$AV$5 -> 0 | BO25: =T25/$AV$6 -> 0 | BP25: =U25/$AV$7 -> 0 | BQ25: =V25/$AV$8 -> 0 | BR25: =W25/$AV$9 -> 0 | BS25: =X25/$AV$10 -> 0 | BT25: =Y25/$AV$11 -> 0 | BU25: =Z25/$AV$12 -> 0 | BV25: =AA25/$AV$13 -> 0 | BW25: =AB25/$AV$14 -> 0 | BX25: =AC25/$AV$15 -> 0 | BY25: =AD25/$AV$16 -> 0 | BZ25: =AE25/$AV$17 -> 0 | CA25: =AF25/$AV$18 -> 0 | CB25: =AG25/$AV$19 -> 0 | CC25: =AH25/$AV$20 -> 0 | CD25: =AI25/$AV$21 -> 0 | CE25: =AJ25/$AV$22 -> 0 | CF25: =AK25/$AV$23 -> 0 | CG25: =AL25/$AV$24 -> 0 | CH25: =AM25/$AV$25 -> 0 | CI25: =AN25/$AV$26 -> 0 | CJ25: =AO25/$AV$27 -> 0 | CK25: =AP25/$AV$28 -> 0
AU26: Yb | AV26: 1 | AX26: =C26/$AS$4 -> 0 | AY26: =D26/$AS$5 -> 0 | AZ26: =E26/$AS$6 -> 0 | BA26: =F26/$AS$7 -> 0 | BB26: =G26/$AS$8 -> 0 | BC26: =H26/$AS$9 -> 0 | BD26: =I26/$AS$10 -> 0 | BE26: =J26/$AS$11 -> 0 | BF26: =K26/$AS$12 -> 0 | BG26: =L26/$AS$13 -> 0 | BH26: =M26/$AS$14 -> 0 | BI26: =N26/$AS$15 -> 0 | BJ26: =O26/$AS$16 -> 0 | BK26: =P26/$AS$17 -> 0 | BM26: =R26/$AV$4 -> 0 | BN26: =S26/$AV$5 -> 0 | BO26: =T26/$AV$6 -> 0 | BP26: =U26/$AV$7 -> 0 | BQ26: =V26/$AV$8 -> 0 | BR26: =W26/$AV$9 -> 0 | BS26: =X26/$AV$10 -> 0 | BT26: =Y26/$AV$11 -> 0 | BU26: =Z26/$AV$12 -> 0 | BV26: =AA26/$AV$13 -> 0 | BW26: =AB26/$AV$14 -> 0 | BX26: =AC26/$AV$15 -> 0 | BY26: =AD26/$AV$16 -> 0 | BZ26: =AE26/$AV$17 -> 0 | CA26: =AF26/$AV$18 -> 0 | CB26: =AG26/$AV$19 -> 0 | CC26: =AH26/$AV$20 -> 0 | CD26: =AI26/$AV$21 -> 0 | CE26: =AJ26/$AV$22 -> 0 | CF26: =AK26/$AV$23 -> 0 | CG26: =AL26/$AV$24 -> 0 | CH26: =AM26/$AV$25 -> 0 | CI26: =AN26/$AV$26 -> 0 | CJ26: =AO26/$AV$27 -> 0 | CK26: =AP26/$AV$28 -> 0
AU27: Y | AV27: 1 | AX27: =C27/$AS$4 -> 0 | AY27: =D27/$AS$5 -> 0 | AZ27: =E27/$AS$6 -> 0 | BA27: =F27/$AS$7 -> 0 | BB27: =G27/$AS$8 -> 0 | BC27: =H27/$AS$9 -> 0 | BD27: =I27/$AS$10 -> 0 | BE27: =J27/$AS$11 -> 0 | BF27: =K27/$AS$12 -> 0 | BG27: =L27/$AS$13 -> 0 | BH27: =M27/$AS$14 -> 0 | BI27: =N27/$AS$15 -> 0 | BJ27: =O27/$AS$16 -> 0 | BK27: =P27/$AS$17 -> 0 | BM27: =R27/$AV$4 -> 0 | BN27: =S27/$AV$5 -> 0 | BO27: =T27/$AV$6 -> 0 | BP27: =U27/$AV$7 -> 0 | BQ27: =V27/$AV$8 -> 0 | BR27: =W27/$AV$9 -> 0 | BS27: =X27/$AV$10 -> 0 | BT27: =Y27/$AV$11 -> 0 | BU27: =Z27/$AV$12 -> 0 | BV27: =AA27/$AV$13 -> 0 | BW27: =AB27/$AV$14 -> 0 | BX27: =AC27/$AV$15 -> 0 | BY27: =AD27/$AV$16 -> 0 | BZ27: =AE27/$AV$17 -> 0 | CA27: =AF27/$AV$18 -> 0 | CB27: =AG27/$AV$19 -> 0 | CC27: =AH27/$AV$20 -> 0 | CD27: =AI27/$AV$21 -> 0 | CE27: =AJ27/$AV$22 -> 0 | CF27: =AK27/$AV$23 -> 0 | CG27: =AL27/$AV$24 -> 0 | CH27: =AM27/$AV$25 -> 0 | CI27: =AN27/$AV$26 -> 0 | CJ27: =AO27/$AV$27 -> 0 | CK27: =AP27/$AV$28 -> 0
AU28: Lu | AV28: 1 | AX28: =C28/$AS$4 -> 0 | AY28: =D28/$AS$5 -> 0 | AZ28: =E28/$AS$6 -> 0 | BA28: =F28/$AS$7 -> 0 | BB28: =G28/$AS$8 -> 0 | BC28: =H28/$AS$9 -> 0 | BD28: =I28/$AS$10 -> 0 | BE28: =J28/$AS$11 -> 0 | BF28: =K28/$AS$12 -> 0 | BG28: =L28/$AS$13 -> 0 | BH28: =M28/$AS$14 -> 0 | BI28: =N28/$AS$15 -> 0 | BJ28: =O28/$AS$16 -> 0 | BK28: =P28/$AS$17 -> 0 | BM28: =R28/$AV$4 -> 0 | BN28: =S28/$AV$5 -> 0 | BO28: =T28/$AV$6 -> 0 | BP28: =U28/$AV$7 -> 0 | BQ28: =V28/$AV$8 -> 0 | BR28: =W28/$AV$9 -> 0 | BS28: =X28/$AV$10 -> 0 | BT28: =Y28/$AV$11 -> 0 | BU28: =Z28/$AV$12 -> 0 | BV28: =AA28/$AV$13 -> 0 | BW28: =AB28/$AV$14 -> 0 | BX28: =AC28/$AV$15 -> 0 | BY28: =AD28/$AV$16 -> 0 | BZ28: =AE28/$AV$17 -> 0 | CA28: =AF28/$AV$18 -> 0 | CB28: =AG28/$AV$19 -> 0 | CC28: =AH28/$AV$20 -> 0 | CD28: =AI28/$AV$21 -> 0 | CE28: =AJ28/$AV$22 -> 0 | CF28: =AK28/$AV$23 -> 0 | CG28: =AL28/$AV$24 -> 0 | CH28: =AM28/$AV$25 -> 0 | CI28: =AN28/$AV$26 -> 0 | CJ28: =AO28/$AV$27 -> 0 | CK28: =AP28/$AV$28 -> 0

Sheet Relaciones de elementos traza
A1: Nombre de Muestra | C1: Eu/Eu* | D1: Nb/Nb* | E1: Ta/Ta* | F1: Dy/Dy* | G1: (Dy/Yb)N | H1: La/Sm | I1: (La/Sm)N | J1: La/Yb | K1: (La/Yb)N | L1: Gd/Yb | M1: (Gd/Yb)N | N1: Y/Ho | O1: Hf/Sm | P1: Zr/Hf | Q1: Nb/Ta | R1: Th/U | S1: La/Ta | T1: Rb/Cs
A2: ='Cálculo de Normalización'!A4 -> 0 | C2: ='Cálculo de Normalización'!BC4/SQRT(('Cálculo de Normalización'!BB4*'Cálculo de Normalización'!BD4)) -> #DIV/0! | D2: =(2*('Cálculo de Normalización'!W4/'Cálculo de Normalización'!BR4))/(('Cálculo de Normalización'!T4/'Cálculo de Normalización'!BO4)+('Cálculo de Normalización'!C4/'Cálculo de Normalización'!AX4)) -> #DIV/0! | E2: =(2*('Cálculo de Normalización'!X4/'Cálculo de Normalización'!BS4)/(('Cálculo de Normalización'!T4/'Cálculo de Normalización'!BO4)+('Cálculo de Normalización'!C4/'Cálculo de Normalización'!AX4))) -> #DIV/0! | F2: ='Cálculo de Normalización'!BF4/('Cálculo de Normalización'!AX4^4/13)*('Cálculo de Normalización'!BJ4^9/13) -> #DIV/0! | G2: ='Cálculo de Normalización'!BF4/'Cálculo de Normalización'!BJ4 -> #DIV/0! | H2: ='Cálculo de Normalización'!C4/'Cálculo de Normalización'!G4 -> #DIV/0! | I2: ='Cálculo de Normalización'!AX4/'Cálculo de Normalización'!BB4 -> #DIV/0! | J2: ='Cálculo de Normalización'!C4/'Cálculo de Normalización'!O4 -> #DIV/0! | K2: ='Cálculo de Normalización'!AX4/'Cálculo de Normalización'!BJ4 -> #DIV/0! | L2: ='Cálculo de Normalización'!I4/'Cálculo de Normalización'!O4 -> #DIV/0! | M2: ='Cálculo de Normalización'!BD4/'Cálculo de Normalización'!BJ4 -> #DIV/0! | N2: ='Cálculo de Normalización'!AO4/'Cálculo de Normalización'!L4 -> #DIV/0! | O2: ='Cálculo de Normalización'!AF4/'Cálculo de Normalización'!AG4 -> #DIV/0! | P2: ='Cálculo de Normalización'!AE4/'Cálculo de Normalización'!AF4 -> #DIV/0! | Q2: ='Cálculo de Normalización'!W4/'Cálculo de Normalización'!X4 -> #DIV/0! | R2: ='Cálculo de Normalización'!U4/'Cálculo de Normalización'!V4 -> #DIV/0! | S2: ='Cálculo de Normalización'!C4/'Cálculo de Normalización'!X4 -> #DIV/0! | T2: ='Cálculo de Normalización'!S4/'Cálculo de Normalización'!R4 -> #DIV/0!
A3: ='Cálculo de Normalización'!A5 -> 0 | C3: ='Cálculo de Normalización'!BC5/SQRT(('Cálculo de Normalización'!BB5*'Cálculo de Normalización'!BD5)) -> #DIV/0! | D3: =(2*('Cálculo de Normalización'!W5/'Cálculo de Normalización'!BR5))/(('Cálculo de Normalización'!T5/'Cálculo de Normalización'!BO5)+('Cálculo de Normalización'!C5/'Cálculo de Normalización'!AX5)) -> #DIV/0! | E3: =(2*('Cálculo de Normalización'!X5/'Cálculo de Normalización'!BS5)/(('Cálculo de Normalización'!T5/'Cálculo de Normalización'!BO5)+('Cálculo de Normalización'!C5/'Cálculo de Normalización'!AX5))) -> #DIV/0! | F3: ='Cálculo de Normalización'!BF5/('Cálculo de Normalización'!AX5^4/13)*('Cálculo de Normalización'!BJ5^9/13) -> #DIV/0! | G3: ='Cálculo de Normalización'!BF5/'Cálculo de Normalización'!BJ5 -> #DIV/0! | H3: ='Cálculo de Normalización'!C5/'Cálculo de Normalización'!G5 -> #DIV/0! | I3: ='Cálculo de Normalización'!AX5/'Cálculo de Normalización'!BB5 -> #DIV/0! | J3: ='Cálculo de Normalización'!C5/'Cálculo de Normalización'!O5 -> #DIV/0! | K3: ='Cálculo de Normalización'!AX5/'Cálculo de Normalización'!BJ5 -> #DIV/0! | L3: ='Cálculo de Normalización'!I5/'Cálculo de Normalización'!O5 -> #DIV/0! | M3: ='Cálculo de Normalización'!BD5/'Cálculo de Normalización'!BJ5 -> #DIV/0! | N3: ='Cálculo de Normalización'!AO5/'Cálculo de Normalización'!L5 -> #DIV/0! | O3: ='Cálculo de Normalización'!AF5/'Cálculo de Normalización'!AG5 -> #DIV/0! | P3: ='Cálculo de Normalización'!AE5/'Cálculo de Normalización'!AF5 -> #DIV/0! | Q3: ='Cálculo de Normalización'!W5/'Cálculo de Normalización'!X5 -> #DIV/0! | R3: ='Cálculo de Normalización'!U5/'Cálculo de Normalización'!V5 -> #DIV/0! | S3: ='Cálculo de Normalización'!C5/'Cálculo de Normalización'!X5 -> #DIV/0! | T3: ='Cálculo de Normalización'!S5/'Cálculo de Normalización'!R5 -> #DIV/0!
A4: ='Cálculo de Normalización'!A6 -> 0 | C4: ='Cálculo de Normalización'!BC6/SQRT(('Cálculo de Normalización'!BB6*'Cálculo de Normalización'!BD6)) -> #DIV/0! | D4: =(2*('Cálculo de Normalización'!W6/'Cálculo de Normalización'!BR6))/(('Cálculo de Normalización'!T6/'Cálculo de Normalización'!BO6)+('Cálculo de Normalización'!C6/'Cálculo de Normalización'!AX6)) -> #DIV/0! | E4: =(2*('Cálculo de Normalización'!X6/'Cálculo de Normalización'!BS6)/(('Cálculo de Normalización'!T6/'Cálculo de Normalización'!BO6)+('Cálculo de Normalización'!C6/'Cálculo de Normalización'!AX6))) -> #DIV/0! | F4: ='Cálculo de Normalización'!BF6/('Cálculo de Normalización'!AX6^4/13)*('Cálculo de Normalización'!BJ6^9/13) -> #DIV/0! | G4: ='Cálculo de Normalización'!BF6/'Cálculo de Normalización'!BJ6 -> #DIV/0! | H4: ='Cálculo de Normalización'!C6/'Cálculo de Normalización'!G6 -> #DIV/0! | I4: ='Cálculo de Normalización'!AX6/'Cálculo de Normalización'!BB6 -> #DIV/0! | J4: ='Cálculo de Normalización'!C6/'Cálculo de Normalización'!O6 -> #DIV/0! | K4: ='Cálculo de Normalización'!AX6/'Cálculo de Normalización'!BJ6 -> #DIV/0! | L4: ='Cálculo de Normalización'!I6/'Cálculo de Normalización'!O6 -> #DIV/0! | M4: ='Cálculo de Normalización'!BD6/'Cálculo de Normalización'!BJ6 -> #DIV/0! | N4: ='Cálculo de Normalización'!AO6/'Cálculo de Normalización'!L6 -> #DIV/0! | O4: ='Cálculo de Normalización'!AF6/'Cálculo de Normalización'!AG6 -> #DIV/0! | P4: ='Cálculo de Normalización'!AE6/'Cálculo de Normalización'!AF6 -> #DIV/0! | Q4: ='Cálculo de Normalización'!W6/'Cálculo de Normalización'!X6 -> #DIV/0! | R4: ='Cálculo de Normalización'!U6/'Cálculo de Normalización'!V6 -> #DIV/0! | S4: ='Cálculo de Normalización'!C6/'Cálculo de Normalización'!X6 -> #DIV/0! | T4: ='Cálculo de Normalización'!S6/'Cálculo de Normalización'!R6 -> #DIV/0!
A5: ='Cálculo de Normalización'!A7 -> 0 | C5: ='Cálculo de Normalización'!BC7/SQRT(('Cálculo de Normalización'!BB7*'Cálculo de Normalización'!BD7)) -> #DIV/0! | D5: =(2*('Cálculo de Normalización'!W7/'Cálculo de Normalización'!BR7))/(('Cálculo de Normalización'!T7/'Cálculo de Normalización'!BO7)+('Cálculo de Normalización'!C7/'Cálculo de Normalización'!AX7)) -> #DIV/0! | E5: =(2*('Cálculo de Normalización'!X7/'Cálculo de Normalización'!BS7)/(('Cálculo de Normalización'!T7/'Cálculo de Normalización'!BO7)+('Cálculo de Normalización'!C7/'Cálculo de Normalización'!AX7))) -> #DIV/0! | F5: ='Cálculo de Normalización'!BF7/('Cálculo de Normalización'!AX7^4/13)*('Cálculo de Normalización'!BJ7^9/13) -> #DIV/0! | G5: ='Cálculo de Normalización'!BF7/'Cálculo de Normalización'!BJ7 -> #DIV/0! | H5: ='Cálculo de Normalización'!C7/'Cálculo de Normalización'!G7 -> #DIV/0! | I5: ='Cálculo de Normalización'!AX7/'Cálculo de Normalización'!BB7 -> #DIV/0! | J5: ='Cálculo de Normalización'!C7/'Cálculo de Normalización'!O7 -> #DIV/0! | K5: ='Cálculo de Normalización'!AX7/'Cálculo de Normalización'!BJ7 -> #DIV/0! | L5: ='Cálculo de Normalización'!I7/'Cálculo de Normalización'!O7 -> #DIV/0! | M5: ='Cálculo de Normalización'!BD7/'Cálculo de Normalización'!BJ7 -> #DIV/0! | N5: ='Cálculo de Normalización'!AO7/'Cálculo de Normalización'!L7 -> #DIV/0! | O5: ='Cálculo de Normalización'!AF7/'Cálculo de Normalización'!AG7 -> #DIV/0! | P5: ='Cálculo de Normalización'!AE7/'Cálculo de Normalización'!AF7 -> #DIV/0! | Q5: ='Cálculo de Normalización'!W7/'Cálculo de Normalización'!X7 -> #DIV/0! | R5: ='Cálculo de Normalización'!U7/'Cálculo de Normalización'!V7 -> #DIV/0! | S5: ='Cálculo de Normalización'!C7/'Cálculo de Normalización'!X7 -> #DIV/0! | T5: ='Cálculo de Normalización'!S7/'Cálculo de Normalización'!R7 -> #DIV/0!
A6: ='Cálculo de Normalización'!A8 -> 0 | C6: ='Cálculo de Normalización'!BC8/SQRT(('Cálculo de Normalización'!BB8*'Cálculo de Normalización'!BD8)) -> #DIV/0! | D6: =(2*('Cálculo de Normalización'!W8/'Cálculo de Normalización'!BR8))/(('Cálculo de Normalización'!T8/'Cálculo de Normalización'!BO8)+('Cálculo de Normalización'!C8/'Cálculo de Normalización'!AX8)) -> #DIV/0! | E6: =(2*('Cálculo de Normalización'!X8/'Cálculo de Normalización'!BS8)/(('Cálculo de Normalización'!T8/'Cálculo de Normalización'!BO8)+('Cálculo de Normalización'!C8/'Cálculo de Normalización'!AX8))) -> #DIV/0! | F6: ='Cálculo de Normalización'!BF8/('Cálculo de Normalización'!AX8^4/13)*('Cálculo de Normalización'!BJ8^9/13) -> #DIV/0! | G6: ='Cálculo de Normalización'!BF8/'Cálculo de Normalización'!BJ8 -> #DIV/0! | H6: ='Cálculo de Normalización'!C8/'Cálculo de Normalización'!G8 -> #DIV/0! | I6: ='Cálculo de Normalización'!AX8/'Cálculo de Normalización'!BB8 -> #DIV/0! | J6: ='Cálculo de Normalización'!C8/'Cálculo de Normalización'!O8 -> #DIV/0! | K6: ='Cálculo de Normalización'!AX8/'Cálculo de Normalización'!BJ8 -> #DIV/0! | L6: ='Cálculo de Normalización'!I8/'Cálculo de Normalización'!O8 -> #DIV/0! | M6: ='Cálculo de Normalización'!BD8/'Cálculo de Normalización'!BJ8 -> #DIV/0! | N6: ='Cálculo de Normalización'!AO8/'Cálculo de Normalización'!L8 -> #DIV/0! | O6: ='Cálculo de Normalización'!AF8/'Cálculo de Normalización'!AG8 -> #DIV/0! | P6: ='Cálculo de Normalización'!AE8/'Cálculo de Normalización'!AF8 -> #DIV/0! | Q6: ='Cálculo de Normalización'!W8/'Cálculo de Normalización'!X8 -> #DIV/0! | R6: ='Cálculo de Normalización'!U8/'Cálculo de Normalización'!V8 -> #DIV/0! | S6: ='Cálculo de Normalización'!C8/'Cálculo de Normalización'!X8 -> #DIV/0! | T6: ='Cálculo de Normalización'!S8/'Cálculo de Normalización'!R8 -> #DIV/0!
A7: ='Cálculo de Normalización'!A9 -> 0 | C7: ='Cálculo de Normalización'!BC9/SQRT(('Cálculo de Normalización'!BB9*'Cálculo de Normalización'!BD9)) -> #DIV/0! | D7: =(2*('Cálculo de Normalización'!W9/'Cálculo de Normalización'!BR9))/(('Cálculo de Normalización'!T9/'Cálculo de Normalización'!BO9)+('Cálculo de Normalización'!C9/'Cálculo de Normalización'!AX9)) -> #DIV/0! | E7: =(2*('Cálculo de Normalización'!X9/'Cálculo de Normalización'!BS9)/(('Cálculo de Normalización'!T9/'Cálculo de Normalización'!BO9)+('Cálculo de Normalización'!C9/'Cálculo de Normalización'!AX9))) -> #DIV/0! | F7: ='Cálculo de Normalización'!BF9/('Cálculo de Normalización'!AX9^4/13)*('Cálculo de Normalización'!BJ9^9/13) -> #DIV/0! | G7: ='Cálculo de Normalización'!BF9/'Cálculo de Normalización'!BJ9 -> #DIV/0! | H7: ='Cálculo de Normalización'!C9/'Cálculo de Normalización'!G9 -> #DIV/0! | I7: ='Cálculo de Normalización'!AX9/'Cálculo de Normalización'!BB9 -> #DIV/0! | J7: ='Cálculo de Normalización'!C9/'Cálculo de Normalización'!O9 -> #DIV/0! | K7: ='Cálculo de Normalización'!AX9/'Cálculo de Normalización'!BJ9 -> #DIV/0! | L7: ='Cálculo de Normalización'!I9/'Cálculo de Normalización'!O9 -> #DIV/0! | M7: ='Cálculo de Normalización'!BD9/'Cálculo de Normalización'!BJ9 -> #DIV/0! | N7: ='Cálculo de Normalización'!AO9/'Cálculo de Normalización'!L9 -> #DIV/0! | O7: ='Cálculo de Normalización'!AF9/'Cálculo de Normalización'!AG9 -> #DIV/0! | P7: ='Cálculo de Normalización'!AE9/'Cálculo de Normalización'!AF9 -> #DIV/0! | Q7: ='Cálculo de Normalización'!W9/'Cálculo de Normalización'!X9 -> #DIV/0! | R7: ='Cálculo de Normalización'!U9/'Cálculo de Normalización'!V9 -> #DIV/0! | S7: ='Cálculo de Normalización'!C9/'Cálculo de Normalización'!X9 -> #DIV/0! | T7: ='Cálculo de Normalización'!S9/'Cálculo de Normalización'!R9 -> #DIV/0!
A8: ='Cálculo de Normalización'!A10 -> 0 | C8: ='Cálculo de Normalización'!BC10/SQRT(('Cálculo de Normalización'!BB10*'Cálculo de Normalización'!BD10)) -> #DIV/0! | D8: =(2*('Cálculo de Normalización'!W10/'Cálculo de Normalización'!BR10))/(('Cálculo de Normalización'!T10/'Cálculo de Normalización'!BO10)+('Cálculo de Normalización'!C10/'Cálculo de Normalización'!AX10)) -> #DIV/0! | E8: =(2*('Cálculo de Normalización'!X10/'Cálculo de Normalización'!BS10)/(('Cálculo de Normalización'!T10/'Cálculo de Normalización'!BO10)+('Cálculo de Normalización'!C10/'Cálculo de Normalización'!AX10))) -> #DIV/0! | F8: ='Cálculo de Normalización'!BF10/('Cálculo de Normalización'!AX10^4/13)*('Cálculo de Normalización'!BJ10^9/13) -> #DIV/0! | G8: ='Cálculo de Normalización'!BF10/'Cálculo de Normalización'!BJ10 -> #DIV/0! | H8: ='Cálculo de Normalización'!C10/'Cálculo de Normalización'!G10 -> #DIV/0! | I8: ='Cálculo de Normalización'!AX10/'Cálculo de Normalización'!BB10 -> #DIV/0! | J8: ='Cálculo de Normalización'!C10/'Cálculo de Normalización'!O10 -> #DIV/0! | K8: ='Cálculo de Normalización'!AX10/'Cálculo de Normalización'!BJ10 -> #DIV/0! | L8: ='Cálculo de Normalización'!I10/'Cálculo de Normalización'!O10 -> #DIV/0! | M8: ='Cálculo de Normalización'!BD10/'Cálculo de Normalización'!BJ10 -> #DIV/0! | N8: ='Cálculo de Normalización'!AO10/'Cálculo de Normalización'!L10 -> #DIV/0! | O8: ='Cálculo de Normalización'!AF10/'Cálculo de Normalización'!AG10 -> #DIV/0! | P8: ='Cálculo de Normalización'!AE10/'Cálculo de Normalización'!AF10 -> #DIV/0! | Q8: ='Cálculo de Normalización'!W10/'Cálculo de Normalización'!X10 -> #DIV/0! | R8: ='Cálculo de Normalización'!U10/'Cálculo de Normalización'!V10 -> #DIV/0! | S8: ='Cálculo de Normalización'!C10/'Cálculo de Normalización'!X10 -> #DIV/0! | T8: ='Cálculo de Normalización'!S10/'Cálculo de Normalización'!R10 -> #DIV/0!
A9: ='Cálculo de Normalización'!A11 -> 0 | C9: ='Cálculo de Normalización'!BC11/SQRT(('Cálculo de Normalización'!BB11*'Cálculo de Normalización'!BD11)) -> #DIV/0! | D9: =(2*('Cálculo de Normalización'!W11/'Cálculo de Normalización'!BR11))/(('Cálculo de Normalización'!T11/'Cálculo de Normalización'!BO11)+('Cálculo de Normalización'!C11/'Cálculo de Normalización'!AX11)) -> #DIV/0! | E9: =(2*('Cálculo de Normalización'!X11/'Cálculo de Normalización'!BS11)/(('Cálculo de Normalización'!T11/'Cálculo de Normalización'!BO11)+('Cálculo de Normalización'!C11/'Cálculo de Normalización'!AX11))) -> #DIV/0! | F9: ='Cálculo de Normalización'!BF11/('Cálculo de Normalización'!AX11^4/13)*('Cálculo de Normalización'!BJ11^9/13) -> #DIV/0! | G9: ='Cálculo de Normalización'!BF11/'Cálculo de Normalización'!BJ11 -> #DIV/0! | H9: ='Cálculo de Normalización'!C11/'Cálculo de Normalización'!G11 -> #DIV/0! | I9: ='Cálculo de Normalización'!AX11/'Cálculo de Normalización'!BB11 -> #DIV/0! | J9: ='Cálculo de Normalización'!C11/'Cálculo de Normalización'!O11 -> #DIV/0! | K9: ='Cálculo de Normalización'!AX11/'Cálculo de Normalización'!BJ11 -> #DIV/0! | L9: ='Cálculo de Normalización'!I11/'Cálculo de Normalización'!O11 -> #DIV/0! | M9: ='Cálculo de Normalización'!BD11/'Cálculo de Normalización'!BJ11 -> #DIV/0! | N9: ='Cálculo de Normalización'!AO11/'Cálculo de Normalización'!L11 -> #DIV/0! | O9: ='Cálculo de Normalización'!AF11/'Cálculo de Normalización'!AG11 -> #DIV/0! | P9: ='Cálculo de Normalización'!AE11/'Cálculo de Normalización'!AF11 -> #DIV/0! | Q9: ='Cálculo de Normalización'!W11/'Cálculo de Normalización'!X11 -> #DIV/0! | R9: ='Cálculo de Normalización'!U11/'Cálculo de Normalización'!V11 -> #DIV/0! | S9: ='Cálculo de Normalización'!C11/'Cálculo de Normalización'!X11 -> #DIV/0! | T9: ='Cálculo de Normalización'!S11/'Cálculo de Normalización'!R11 -> #DIV/0!
A10: ='Cálculo de Normalización'!A12 -> 0 | C10: ='Cálculo de Normalización'!BC12/SQRT(('Cálculo de Normalización'!BB12*'Cálculo de Normalización'!BD12)) -> #DIV/0! | D10: =(2*('Cálculo de Normalización'!W12/'Cálculo de Normalización'!BR12))/(('Cálculo de Normalización'!T12/'Cálculo de Normalización'!BO12)+('Cálculo de Normalización'!C12/'Cálculo de Normalización'!AX12)) -> #DIV/0! | E10: =(2*('Cálculo de Normalización'!X12/'Cálculo de Normalización'!BS12)/(('Cálculo de Normalización'!T12/'Cálculo de Normalización'!BO12)+('Cálculo de Normalización'!C12/'Cálculo de Normalización'!AX12))) -> #DIV/0! | F10: ='Cálculo de Normalización'!BF12/('Cálculo de Normalización'!AX12^4/13)*('Cálculo de Normalización'!BJ12^9/13) -> #DIV/0! | G10: ='Cálculo de Normalización'!BF12/'Cálculo de Normalización'!BJ12 -> #DIV/0! | H10: ='Cálculo de Normalización'!C12/'Cálculo de Normalización'!G12 -> #DIV/0! | I10: ='Cálculo de Normalización'!AX12/'Cálculo de Normalización'!BB12 -> #DIV/0! | J10: ='Cálculo de Normalización'!C12/'Cálculo de Normalización'!O12 -> #DIV/0! | K10: ='Cálculo de Normalización'!AX12/'Cálculo de Normalización'!BJ12 -> #DIV/0! | L10: ='Cálculo de Normalización'!I12/'Cálculo de Normalización'!O12 -> #DIV/0! | M10: ='Cálculo de Normalización'!BD12/'Cálculo de Normalización'!BJ12 -> #DIV/0! | N10: ='Cálculo de Normalización'!AO12/'Cálculo de Normalización'!L12 -> #DIV/0! | O10: ='Cálculo de Normalización'!AF12/'Cálculo de Normalización'!AG12 -> #DIV/0! | P10: ='Cálculo de Normalización'!AE12/'Cálculo de Normalización'!AF12 -> #DIV/0! | Q10: ='Cálculo de Normalización'!W12/'Cálculo de Normalización'!X12 -> #DIV/0! | R10: ='Cálculo de Normalización'!U12/'Cálculo de Normalización'!V12 -> #DIV/0! | S10: ='Cálculo de Normalización'!C12/'Cálculo de Normalización'!X12 -> #DIV/0! | T10: ='Cálculo de Normalización'!S12/'Cálculo de Normalización'!R12 -> #DIV/0!
A11: ='Cálculo de Normalización'!A13 -> 0 | C11: ='Cálculo de Normalización'!BC13/SQRT(('Cálculo de Normalización'!BB13*'Cálculo de Normalización'!BD13)) -> #DIV/0! | D11: =(2*('Cálculo de Normalización'!W13/'Cálculo de Normalización'!BR13))/(('Cálculo de Normalización'!T13/'Cálculo de Normalización'!BO13)+('Cálculo de Normalización'!C13/'Cálculo de Normalización'!AX13)) -> #DIV/0! | E11: =(2*('Cálculo de Normalización'!X13/'Cálculo de Normalización'!BS13)/(('Cálculo de Normalización'!T13/'Cálculo de Normalización'!BO13)+('Cálculo de Normalización'!C13/'Cálculo de Normalización'!AX13))) -> #DIV/0! | F11: ='Cálculo de Normalización'!BF13/('Cálculo de Normalización'!AX13^4/13)*('Cálculo de Normalización'!BJ13^9/13) -> #DIV/0! | G11: ='Cálculo de Normalización'!BF13/'Cálculo de Normalización'!BJ13 -> #DIV/0! | H11: ='Cálculo de Normalización'!C13/'Cálculo de Normalización'!G13 -> #DIV/0! | I11: ='Cálculo de Normalización'!AX13/'Cálculo de Normalización'!BB13 -> #DIV/0! | J11: ='Cálculo de Normalización'!C13/'Cálculo de Normalización'!O13 -> #DIV/0! | K11: ='Cálculo de Normalización'!AX13/'Cálculo de Normalización'!BJ13 -> #DIV/0! | L11: ='Cálculo de Normalización'!I13/'Cálculo de Normalización'!O13 -> #DIV/0! | M11: ='Cálculo de Normalización'!BD13/'Cálculo de Normalización'!BJ13 -> #DIV/0! | N11: ='Cálculo de Normalización'!AO13/'Cálculo de Normalización'!L13 -> #DIV/0! | O11: ='Cálculo de Normalización'!AF13/'Cálculo de Normalización'!AG13 -> #DIV/0! | P11: ='Cálculo de Normalización'!AE13/'Cálculo de Normalización'!AF13 -> #DIV/0! | Q11: ='Cálculo de Normalización'!W13/'Cálculo de Normalización'!X13 -> #DIV/0! | R11: ='Cálculo de Normalización'!U13/'Cálculo de Normalización'!V13 -> #DIV/0! | S11: ='Cálculo de Normalización'!C13/'Cálculo de Normalización'!X13 -> #DIV/0! | T11: ='Cálculo de Normalización'!S13/'Cálculo de Normalización'!R13 -> #DIV/0!
A12: ='Cálculo de Normalización'!A14 -> 0 | C12: ='Cálculo de Normalización'!BC14/SQRT(('Cálculo de Normalización'!BB14*'Cálculo de Normalización'!BD14)) -> #DIV/0! | D12: =(2*('Cálculo de Normalización'!W14/'Cálculo de Normalización'!BR14))/(('Cálculo de Normalización'!T14/'Cálculo de Normalización'!BO14)+('Cálculo de Normalización'!C14/'Cálculo de Normalización'!AX14)) -> #DIV/0! | E12: =(2*('Cálculo de Normalización'!X14/'Cálculo de Normalización'!BS14)/(('Cálculo de Normalización'!T14/'Cálculo de Normalización'!BO14)+('Cálculo de Normalización'!C14/'Cálculo de Normalización'!AX14))) -> #DIV/0! | F12: ='Cálculo de Normalización'!BF14/('Cálculo de Normalización'!AX14^4/13)*('Cálculo de Normalización'!BJ14^9/13) -> #DIV/0! | G12: ='Cálculo de Normalización'!BF14/'Cálculo de Normalización'!BJ14 -> #DIV/0! | H12: ='Cálculo de Normalización'!C14/'Cálculo de Normalización'!G14 -> #DIV/0! | I12: ='Cálculo de Normalización'!AX14/'Cálculo de Normalización'!BB14 -> #DIV/0! | J12: ='Cálculo de Normalización'!C14/'Cálculo de Normalización'!O14 -> #DIV/0! | K12: ='Cálculo de Normalización'!AX14/'Cálculo de Normalización'!BJ14 -> #DIV/0! | L12: ='Cálculo de Normalización'!I14/'Cálculo de Normalización'!O14 -> #DIV/0! | M12: ='Cálculo de Normalización'!BD14/'Cálculo de Normalización'!BJ14 -> #DIV/0! | N12: ='Cálculo de Normalización'!AO14/'Cálculo de Normalización'!L14 -> #DIV/0! | O12: ='Cálculo de Normalización'!AF14/'Cálculo de Normalización'!AG14 -> #DIV/0! | P12: ='Cálculo de Normalización'!AE14/'Cálculo de Normalización'!AF14 -> #DIV/0! | Q12: ='Cálculo de Normalización'!W14/'Cálculo de Normalización'!X14 -> #DIV/0! | R12: ='Cálculo de Normalización'!U14/'Cálculo de Normalización'!V14 -> #DIV/0! | S12: ='Cálculo de Normalización'!C14/'Cálculo de Normalización'!X14 -> #DIV/0! | T12: ='Cálculo de Normalización'!S14/'Cálculo de Normalización'!R14 -> #DIV/0!
A13: ='Cálculo de Normalización'!A15 -> 0 | C13: ='Cálculo de Normalización'!BC15/SQRT(('Cálculo de Normalización'!BB15*'Cálculo de Normalización'!BD15)) -> #DIV/0! | D13: =(2*('Cálculo de Normalización'!W15/'Cálculo de Normalización'!BR15))/(('Cálculo de Normalización'!T15/'Cálculo de Normalización'!BO15)+('Cálculo de Normalización'!C15/'Cálculo de Normalización'!AX15)) -> #DIV/0! | E13: =(2*('Cálculo de Normalización'!X15/'Cálculo de Normalización'!BS15)/(('Cálculo de Normalización'!T15/'Cálculo de Normalización'!BO15)+('Cálculo de Normalización'!C15/'Cálculo de Normalización'!AX15))) -> #DIV/0! | F13: ='Cálculo de Normalización'!BF15/('Cálculo de Normalización'!AX15^4/13)*('Cálculo de Normalización'!BJ15^9/13) -> #DIV/0! | G13: ='Cálculo de Normalización'!BF15/'Cálculo de Normalización'!BJ15 -> #DIV/0! | H13: ='Cálculo de Normalización'!C15/'Cálculo de Normalización'!G15 -> #DIV/0! | I13: ='Cálculo de Normalización'!AX15/'Cálculo de Normalización'!BB15 -> #DIV/0! | J13: ='Cálculo de Normalización'!C15/'Cálculo de Normalización'!O15 -> #DIV/0! | K13: ='Cálculo de Normalización'!AX15/'Cálculo de Normalización'!BJ15 -> #DIV/0! | L13: ='Cálculo de Normalización'!I15/'Cálculo de Normalización'!O15 -> #DIV/0! | M13: ='Cálculo de Normalización'!BD15/'Cálculo de Normalización'!BJ15 -> #DIV/0! | N13: ='Cálculo de Normalización'!AO15/'Cálculo de Normalización'!L15 -> #DIV/0! | O13: ='Cálculo de Normalización'!AF15/'Cálculo de Normalización'!AG15 -> #DIV/0! | P13: ='Cálculo de Normalización'!AE15/'Cálculo de Normalización'!AF15 -> #DIV/0! | Q13: ='Cálculo de Normalización'!W15/'Cálculo de Normalización'!X15 -> #DIV/0! | R13: ='Cálculo de Normalización'!U15/'Cálculo de Normalización'!V15 -> #DIV/0! | S13: ='Cálculo de Normalización'!C15/'Cálculo de Normalización'!X15 -> #DIV/0! | T13: ='Cálculo de Normalización'!S15/'Cálculo de Normalización'!R15 -> #DIV/0!
... A28: ='Cálculo de Normalización'!A30 -> 0 | C28: ='Cálculo de Normalización'!BC30/SQRT(('Cálculo de Normalización'!BB30*'Cálculo de Normalización'!BD30)) -> #DIV/0! | D28: =(2*('Cálculo de Normalización'!W30/'Cálculo de Normalización'!BR30))/(('Cálculo de Normalización'!T30/'Cálculo de Normalización'!BO30)+('Cálculo de Normalización'!C30/'Cálculo de Normalización'!AX30)) -> #DIV/0! | E28: =(2*('Cálculo de Normalización'!X30/'Cálculo de Normalización'!BS30)/(('Cálculo de Normalización'!T30/'Cálculo de Normalización'!BO30)+('Cálculo de Normalización'!C30/'Cálculo de Normalización'!AX30))) -> #DIV/0! | F28: ='Cálculo de Normalización'!BF30/('Cálculo de Normalización'!AX30^4/13)*('Cálculo de Normalización'!BJ30^9/13) -> #DIV/0! | G28: ='Cálculo de Normalización'!BF30/'Cálculo de Normalización'!BJ30 -> #DIV/0! | H28: ='Cálculo de Normalización'!C30/'Cálculo de Normalización'!G30 -> #DIV/0! | I28: ='Cálculo de Normalización'!AX30/'Cálculo de Normalización'!BB30 -> #DIV/0! | J28: ='Cálculo de Normalización'!C30/'Cálculo de Normalización'!O30 -> #DIV/0! | K28: ='Cálculo de Normalización'!AX30/'Cálculo de Normalización'!BJ30 -> #DIV/0! | L28: ='Cálculo de Normalización'!I30/'Cálculo de Normalización'!O30 -> #DIV/0! | M28: ='Cálculo de Normalización'!BD30/'Cálculo de Normalización'!BJ30 -> #DIV/0! | N28: ='Cálculo de Normalización'!AO30/'Cálculo de Normalización'!L30 -> #DIV/0! | O28: ='Cálculo de Normalización'!AF30/'Cálculo de Normalización'!AG30 -> #DIV/0! | P28: ='Cálculo de Normalización'!AE30/'Cálculo de Normalización'!AF30 -> #DIV/0! | Q28: ='Cálculo de Normalización'!W30/'Cálculo de Normalización'!X30 -> #DIV/0! | R28: ='Cálculo de Normalización'!U30/'Cálculo de Normalización'!V30 -> #DIV/0! | S28: ='Cálculo de Normalización'!C30/'Cálculo de Normalización'!X30 -> #DIV/0! | T28: ='Cálculo de Normalización'!S30/'Cálculo de Normalización'!R30 -> #DIV/0!

Sheet Valores de normalización
A1: Element | B1: CI chondrite (McDonough & Sun 95) | C1: Pyrolite (McDonough & Sun 95) | D1: CI chondrite (Sun & McDonough 89) | E1: P mantle (Sun & McDonough 89) | F1: NMORB (Sun & McDonough 89) | G1: EMORB (Sun & McDonough 89) | H1: OIB (Sun & McDonough 89) | J1: Element | K1: CI chondrite (McDonough & Sun 95) | L1: Pyrolite (McDonough & Sun 95) | M1: CI chondrite (Sun & McDonough 89) | N1: P mantle (Sun & McDonough 89) | O1: NMORB (Sun & McDonough 89) | P1: EMORB (Sun & McDonough 89)
A2: La | B2: 0.237 | C2: 0.648 | D2: 0.237 | E2: 0.687 | F2: 2.5 | G2: 6.3 | H2: 37 | J2: Cs | K2: 0.19 | L2: 0.021 | M2: 0.188 | N2: 0.0079 | O2: 0.007 | P2: 0.063
A3: Ce | B3: 0.613 | C3: 1.675 | D3: 0.612 | E3: 1.775 | F3: 7.5 | G3: 15 | H3: 80 | J3: Rb | K3: 2.3 | L3: 0.6 | M3: 2.32 | N3: 0.635 | O3: 0.56 | P3: 5.04
A4: Pr | B4: 0.0928 | C4: 0.254 | D4: 0.095 | E4: 0.276 | F4: 1.32 | G4: 2.05 | H4: 9.7 | J4: Ba | K4: 2.41 | L4: 6.6 | M4: 2.41 | N4: 6.989 | O4: 6.3 | P4: 57
A5: Nd | B5: 0.457 | C5: 1.25 | D5: 0.467 | E5: 1.354 | F5: 7.3 | G5: 9 | H5: 38.5 | J5: Th | K5: 0.029 | L5: 0.0795 | M5: 0.029 | N5: 0.085 | O5: 0.12 | P5: 0.6
A6: Sm | B6: 0.148 | C6: 0.406 | D6: 0.153 | E6: 0.444 | F6: 2.63 | G6: 2.6 | H6: 10 | J6: U | K6: 0.0074 | L6: 0.0203 | M6: 0.008 | N6: 0.021 | O6: 0.047 | P6: 0.18
A7: Eu | B7: 0.0563 | C7: 0.154 | D7: 0.058 | E7: 0.168 | F7: 1.02 | G7: 0.91 | H7: 3 | J7: Nb | K7: 0.24 | L7: 0.685 | M7: 0.246 | N7: 0.713 | O7: 2.33 | P7: 8.3
A8: Gd | B8: 0.199 | C8: 0.544 | D8: 0.2055 | E8: 0.596 | F8: 3.68 | G8: 2.97 | H8: 7.62 | J8: Ta | K8: 0.0136 | L8: 0.037 | M8: 0.014 | N8: 0.041 | O8: 0.132 | P8: 0.47
A9: Tb | B9: 0.0361 | C9: 0.099 | D9: 0.0374 | E9: 0.108 | F9: 0.67 | G9: 0.53 | H9: 1.05 | J9: La | K9: 0.237 | L9: 0.648 | M9: 0.237 | N9: 0.687 | O9: 2.5 | P9: 6.3
A10: Dy | B10: 0.246 | C10: 0.674 | D10: 0.254 | E10: 0.737 | F10: 4.55 | G10: 3.55 | H10: 5.6 | J10: Ce | K10: 0.613 | L10: 1.675 | M10: 0.612 | N10: 1.775 | O10: 7.5 | P10: 15
A11: Ho | B11: 0.0546 | C11: 0.149 | D11: 0.0566 | E11: 0.164 | F11: 1.01 | G11: 0.79 | H11: 1.06 | J11: Pb | K11: 2.47 | L11: 0.15 | M11: 2.47 | N11: 0.071 | O11: 0.3 | P11: 0.6
A12: Er | B12: 0.16 | C12: 0.438 | D12: 0.1655 | E12: 0.48 | F12: 2.97 | G12: 2.31 | H12: 2.62 | J12: Pr | K12: 0.0928 | L12: 0.254 | M12: 0.095 | N12: 0.276 | O12: 1.32 | P12: 2.05
A13: Yb | B13: 0.161 | C13: 0.441 | D13: 0.17 | E13: 0.493 | F13: 3.05 | G13: 2.37 | H13: 2.16 | J13: Sr | K13: 7.25 | L13: 19.9 | M13: 7.26 | N13: 21.1 | O13: 90 | P13: 155
A14: Lu | B14: 0.0246 | C14: 0.0675 | D14: 0.0254 | E14: 0.074 | F14: 0.455 | G14: 0.354 | H14: 0.3 | J14: Nd | K14: 0.457 | L14: 1.25 | M14: 0.467 | N14: 1.354 | O14: 7.3 | P14: 9
J15: Zr | K15: 3.82 | L15: 10.5 | M15: 3.87 | N15: 11.2 | O15: 74 | P15: 73
J16: Hf | K16: 0.103 | L16: 0.283 | M16: 0.1066 | N16: 0.309 | O16: 2.05 | P16: 2.03
J17: Sm | K17: 0.148 | L17: 0.406 | M17: 0.153 | N17: 0.444 | O17: 2.63 | P17: 2.6
J18: Eu | K18: 0.0563 | L18: 0.154 | M18: 0.058 | N18: 0.168 | O18: 1.02 | P18: 0.91
J19: Gd | K19: 0.199 | L19: 0.544 | M19: 0.2055 | N19: 0.596 | O19: 3.68 | P19: 2.97
J20: Tb | K20: 0.0361 | L20: 0.099 | M20: 0.0374 | N20: 0.108 | O20: 0.67 | P20: 0.53
J21: Dy | K21: 0.246 | L21: 0.674 | M21: 0.254 | N21: 0.737 | O21: 4.55 | P21: 3.55
J22: Ho | K22: 0.0546 | L22: 0.149 | M22: 0.0566 | N22: 0.164 | O22: 1.01 | P22: 0.79
J23: Er | K23: 0.16 | L23: 0.438 | M23: 0.1655 | N23: 0.48 | O23: 2.97 | P23: 2.31
J24: Yb | K24: 0.161 | L24: 0.441 | M24: 0.17 | N24: 0.493 | O24: 3.05 | P24: 2.37
J25: Y | K25: 1.57 | L25: 4.3 | M25: 1.57 | N25: 4.55 | O25: 28 | P25: 22
J26: Lu | K26: 0.0246 | L26: 0.0675 | M26: 0.0254 | N26: 0.074 | O26: 0.455 | P26: 0.354
