Workbook

Sheet Instructions

Sheet Amphibole P-T calcs
A1: Amphibole-liquid Thermometers and Barometers
AV2: 0 | AW2: =AV2 -> 0
A3: INPUT IS IN GRAY CELLS | G3: Choose Log units(x) above or below | AV3: 1 | AW3: =AV3 -> 1
A4: 1) Enter Liquid compositions in columns F-Q, & amphibole compositions in S-AB | G4: Quartz-Fayalite-Magnetite (QFM) buffer | AV4: 4 | AW4: =AV4 -> 4 | BT4: Molecular weights | DJ4: Molecular weights
A5: 2) To add more data, select an entire row below, by selecting a row nubmer, then copy and paste into | G5: X = | AV5: 7 | AW5: =AV5 -> 7 | BT5: SiO2 | BU5: TiO2 | BV5: Al2O3 | BW5: FeO | BX5: MnO | BY5: MgO | BZ5: CaO | CA5: Na2O | CB5: K2O | CC5: Cr2O3 | CD5: P2O5 | CE5: H2O | DJ5: SiO2 | DK5: TiO2 | DL5: Al2O3 | DM5: Cr2O3 | DN5: FeO | DO5: MnO | DP5: MgO | DQ5: CaO | DR5: Na2O | DS5: K2O | DT5: H2O
A6: empty rows below. Add new data as in step 1). Then "Fill down" in "Amph exhcg components sheet" | G6: 0 | AV6: 12 | AW6: =AV6 -> 12 | BT6: 60.0843 | BU6: 79.8788 | BV6: 101.961 | BW6: 71.8464 | BX6: 70.9375 | BY6: 40.3044 | BZ6: 56.0774 | CA6: 61.9789 | CB6: 94.196 | CC6: =3*15.998+2*51.9961 -> 151.9862 | CD6: =2*30.97+5*15.9994 -> 141.937 | CE6: =15.998+2*1.00794 -> 18.01388 | DJ6: 60.0843 | DK6: 79.8788 | DL6: 101.961 | DM6: =3*15.998+2*51.9961 -> 151.9862 | DN6: 71.8464 | DO6: 70.9375 | DP6: 40.3044 | DQ6: 56.0774 | DR6: 61.9789 | DS6: 94.196 | DT6: =15.998+2*1.00794 -> 18.01388
A7: OUTPUT IS IN BLUE CELLS | BT7: =BT6 -> 60.0843 | BU7: =BU6 -> 79.8788 | BV7: =0.5*BV6 -> 50.9805 | BW7: =BW6 -> 71.8464 | BX7: =BX6 -> 70.9375 | BY7: =BY6 -> 40.3044 | BZ7: =BZ6 -> 56.0774 | CA7: =CA6/2 -> 30.98945 | CB7: =CB6/2 -> 47.098 | CC7: =CC6/2 -> 75.9931 | CD7: =CD6/2 -> 70.9685 | CE7: =CE6/2 -> 9.00694 | DJ7: =DJ6 -> 60.0843 | DK7: =DK6 -> 79.8788 | DL7: =0.5*DL6 -> 50.9805 | DM7: =DM6/2 -> 75.9931 | DN7: 71.8464 | DO7: =DO6 -> 70.9375 | DP7: =DP6 -> 40.3044 | DQ7: =DQ6 -> 56.0774 | DR7: =DR6/2 -> 30.98945 | DS7: =DS6/2 -> 47.098 | DT7: =DT6/2 -> 9.00694
A8: P-T-X in Columns AD to BP; cations on 23 O in ES-FC;
A9: Site occupancies in FO-GQ
C11: Leave these cells blank | AH11: Barometers from Putirka (2016) Am Min | AL11: Thermometers from Putirka (2016) American Mineralogist | BK11: Al-in-hornblende barometers | EU11: 23 Oxygens + H2O = 22 oxygens plus 2(OH) (So, 23 anhydrous cations, +H2O, or 22 cations plus H and 2(OH)) | FR11: Site Occupanices
C12: (test of models using expt'l data) | F12: Enter (in wt. %) | S12: Enter (in wt. %) | AF12: Test for Equilibrium | AG12: Predict SiO2 | AH12: P(kbar) | AL12: T(C ) | AU12: Mutch et al. (2016) | AW12: Molina et al. (2015) | AZ12: Helz (1979) | BB12: Ridolfi and Renzulli (2012) | BG12: Ridolfi et al. (2010) | BJ12: Passes Anderson | BK12: P(kbar) | BT12: Liquid - hydrous | CI12: Liquid - hydrous | CX12: Liquid - anhydrous | FN12: From Fegley (2012)
C13: Reported | D13: Reported | F13: Liquid Composition | S13: Amphibole Compositions | AD13: H2O(Liq) wt. % | AF13: Eqn. 2: KD = 0.28±0.11 | AG13: In Amph Equilib Liq | AH13: D(Al) | AI13: D(Al) | AJ13: D(Al) | AL13: P indep | AM13: P dep | AO13: Liquid Only | AP13: D(Na) | AQ13: D(Ti) | AR13: Global Sat | AS13: Global, Na-K exchg | AU13: P(kbar) | AW13: T(C) | AZ13: Coeff | BB13: P(kbar) | BG13: P(kbar) | BI13: Hbl | BJ13: & Smith Test? | BK13: Hammerstrom & | BL13: Hammerstrom & | BM13: Hammerstrom & | BN13: Hollister et al | BO13: Johnson and | BP13: Anderson and | BQ13: Blundy et al. | BR13: Schmidt | BT13: Trad Mole prop | CG13: anhyd | CH13: anhyd | CI13: Trad Mole fractions | CX13: Cation Fractions | DJ13: Amphibole Mole Proportions - ahydrous | DU13: Amphibole Number of Cations | EG13: Amphibole - Total # of O | EU13: Amphibole Cations on Basis of 23 O | FF13: Anhydrous | FG13: Cation | FI13: Cat sum must be | FN13: QFM ± X | FO13: liquid & Amph | FP13: Amph | FQ13: Amph | FR13: Tetrahedral cations | FV13: C | GG13: excess | GK13: B | GP13: Leake et al. | GR13: A
A14: Data Source | C14: T (C) | D14: P (kbar) | F14: SiO2 | G14: TiO2 | H14: Al2O3 | I14: FeOt | J14: MnO | K14: MgO | L14: CaO | M14: Na2O | N14: K2O | O14: Cr2O3 | P14: P2O5 | Q14: H2O | S14: SiO2 | T14: TiO2 | U14: Al2O3 | V14: FeOt | W14: MnO | X14: MgO | Y14: CaO | Z14: Na2O | AA14: K2O | AB14: Cr2O3 | AD14: At Saturation | AF14: KD(Fe-Mg) | AG14: Eqn. 10 SiO2 (wt. %) | AH14: Eqn. 7a | AI14: Eqn. 7b | AJ14: Eqn. 7c (anhyd 7a) | AL14: Eqn. 5 | AM14: Eqn. 6 | AN14: Si in Hbl Only | AO14: Eqn. 3 | AP14: Eqn. 4a | AQ14: Eqn. 4b | AR14: Eqn. 8 | AS14: Eqn. 9 | AU14: D(Mg) | AW14: D(Mg) | AX14: Liq only | AZ14: ln(KD(Na-K)) | BB14: 1a | BC14: 1b | BD14: 1c | BE14: 1d | BF14: 1e | BG14: Al-in-hbl | BI14: Fe# | BJ14: Fe#<0.65 AND T<800? | BK14: Zen (1986) 1 | BL14: Zen (1986) 2 | BM14: Zen (1986) 3 | BN14: 1987 | BO14: Rutherford, 1989 | BP14: Smith (1995) | BQ14: 1990 | BR14: 1992 | BT14: Wt: SiO2 | BU14: Wt: TiO2 | BV14: Wt: Al2O3 | BW14: Wt: Cr2O3 | BX14: FeOt | BY14: Wt: MnO | BZ14: Wt: MgO | CA14: Wt: CaO | CB14: Wt: Na2O | CC14: Wt: K2O | CD14: Wt: P2O5 | CE14: H2O | CF14: hyd sum | CG14: cation sum | CH14: mole frac sum | CI14: Wt: SiO2 | CJ14: Wt: TiO2 | CK14: Wt: Al2O3 | CL14: Wt: Cr2O3 | CM14: FeOt | CN14: Wt: MnO | CO14: Wt: MgO | CP14: Wt: CaO | CQ14: Wt: Na2O | CR14: Wt: K2O | CS14: Wt: P2O5 | CT14: H2O | CU14: Sum | CV14: Anhyd sum | CX14: Wt: SiO2 | CY14: Wt: TiO2 | CZ14: Wt: Al2O3 | DA14: Wt: Cr2O3 | DB14: FeOt | DC14: Wt: MnO | DD14: Wt: MgO | DE14: Wt: CaO | DF14: Wt: Na2O | DG14: Wt: K2O | DH14: Wt: P2O5 | DJ14: Wt: SiO2 | DK14: Wt: TiO2 | DL14: Wt: Al2O3 | DM14: Wt: Cr2O3 | DN14: FeOt | DO14: Wt: MnO | DP14: Wt: MgO | DQ14: Wt: CaO | DR14: Wt: Na2O | DS14: Wt: K2O | DT14: sum | DU14: Wt: SiO2 | DV14: Wt: TiO2 | DW14: Wt: Al2O3 | DX14: Wt: Cr2O3 | DY14: Fe2O3 | DZ14: FeOt | EA14: Wt: MnO | EB14: Wt: MgO | EC14: Wt: CaO | ED14: Wt: Na2O | EE14: Wt: K2O | EG14: Wt: SiO2 | EH14: Wt: TiO2 | EI14: Wt: Al2O3 | EJ14: Wt: Cr2O3 | EK14: Fe2O3 | EL14: FeOt | EM14: Wt: MnO | EN14: Wt: MgO | EO14: Wt: CaO | EP14: Wt: Na2O | EQ14: Wt: K2O | ER14: sum | ES14: oxy factor | EU14: Si | EV14: Ti | EW14: Al | EX14: Cr | EY14: Fe3+ | EZ14: Fe2+ | FA14: Mn | FB14: Mg | FC14: Ca | FD14: Na | FE14: K | FF14: cation sum | FG14: Sum | FH14: cat sum Si to Mg | FI14: betw. 15 & 16 | FJ14: D(Mg) | FK14: Mg# amph | FL14: Ca# (liq) | FN14: log[fO2] | FO14: Fe2O3/FeO | FP14: Fe3+ | FQ14: Fe2+ | FR14: Si | FS14: Al(IV) | FT14: Ti | FU14: sum T | FV14: Al(VI) | FW14: Cr | FX14: Fe3+ | FY14: Ti | FZ14: sum | GA14: Mg | GB14: sum | GC14: Fe | GD14: sum | GE14: Mn | GF14: sum C | GG14: Mg | GH14: Fe2+ | GI14: Mn | GJ14: total ex | GK14: Fm | GL14: Ca | GM14: Na | GN14: sum B | GP14: Group | GR14: Na | GS14: K | GT14: sum A | GU14: Na(M4) Helz | GV14: Na (A site) Helz
A15: 11211A | B15: Merapi (2010) | C15: =AVERAGE(AL15:AS15) -> 953.50442 | D15: =AI15 -> 4.2514947 | F15: 62.317403 | G15: 0.59258296 | H15: 17.015042 | I15: 5.5789738 | J15: 0.14738383 | K15: 1.493784 | L15: 5.1990672 | M15: 3.7995169 | N15: 3.8401249 | O15: 0 | P15: 0.32096743 | Q15: 5 | S15: 40.57 | T15: 2.45 | U15: 12.82 | V15: 13.11 | W15: 0.26 | X15: 13.02 | Y15: 11.63 | Z15: 2.2 | AA15: 0.92 | AB15: 0 | AD15: =0.7996+15.347*SQRT(AH15/10)-0.00233*AL15+0.06248*(N15+M15) -> 11.133826 | AF15: =(DN15/DP15)/(CM15/CO15) -> 0.26960329 | AG15: =751.95-0.4*AL15-278000/AL15-9.184*EW15 -> 57.936795 | AH15: =ROUND(10*(-3.093-4.274*LN(EW15/CK15)-4.216*LN(CK15)+63.3*CS15+1.264*CT15+2.457*EW15+1.86*FE15+0.4*LN(FD15/CQ15)),1) -> 6.2 | AI15: =-64.79-6.064*LN(EW15/CK15)+61.75*CI15+682*CS15-101.9*CP15+7.85*EW15-46.46*LN(CI15)-4.81*LN(CQ15+CR15) -> 4.2514947 | AJ15: =-45.55+26.65*EW15+22.52*FE15+439*CD15/CH15-51.1*LN(BV15/CH15)-46.3*LN(EW15/(BV15/CH15))+5.231*LN(FD15/(CB15/CH15)) -> 6.6912002 | AL15: =1781-132.74*EU15+116.6*EV15-69.41*EZ15+101.62*FD15 -> 955.93957 | AM15: =1687-118.7*EU15+131.56*EV15-71.41*EZ15+86.13*FD15+22.44*AH15/10 -> 952.26274 | AN15: =2061-178.4*EU15 -> 974.8557 | AO15: =(24429.2)/(2.31+42.1*CM15+32.2*CP15+2.21*LN(CI15)-1.4*LN(CJ15)-2.666*LN((CM15+CO15)*CK15)) -> 941.88672 | AP15: =6383.4/(-12.07+45.4*CK15+12.21*CM15-0.415*LN(CJ15)-3.555*LN(CK15)-0.832*LN(CQ15)-0.481*LN((CM15+CO15+CN15)*CK15)-0.679*LN(FD15/CQ15)) -> 955.64567 | AQ15: =8037.85/(3.69-2.62*CT15+0.66*EZ15-0.416*LN(CJ15)+0.37*LN(CO15)-1.05*LN((CM15+CO15+CN15)*CK15)-0.462*LN(EV15/CJ15)) -> 929.35579 | AR15: =1201.4-97.93*EU15+201.82*EV15+72.85*FB15+88.9*FD15+40.65*AH15/10 -> 955.29689 | AS15: =10073.5/(9.75+0.934*EU15-1.454*EV15-0.882*FB15-1.123*FD15-0.322*LN(CM15)-0.7593*LN(EW15/CK15)-0.15*AZ15) -> 962.79231 | AU15: =0.5+0.331*EW15+0.995*EW15^2 -> 6.3660196 | AW15: =(71975-11896*LN(FL15))/(8.3144*LN(FJ15)+58) -> 910.24894 | AX15: =107*LN(DD15)-108*LN(FL15)+1184 -> 933.54563 | AZ15: =LN((GS15/GV15)*(CQ15/CR15)) -> -0.88246992 | BB15: =10*(EXP(125.93-9.5876*EU15*13/FH15-10.116*EV15*13/FH15-8.1735*EW15*13/FH15-9.2261*EZ15*13/FH15-8.7934*FB15*13/FH15-1.6659*FC15+2.4835*FD15+2.5192*FE15))/1000 -> 5.9492046 | BC15: =10*(EXP(38.723-2.6957*EU15*13/FH15-2.3565*EV15*13/FH15-1.3006*EW15*13/FH15-2.778*EZ15*13/FH15-2.4838*FB15*13/FH15-0.6614*FC15-0.2705*FD15+0.1117*FE15))/1000 -> 4.2493418 | BD15: =10*(24023-1925.3*EU15*13/FH15-1720.6*EV15*13/FH15-1478.5*EW15*13/FH15-1843.2*EZ15*13/FH15-1746.9*FB15*13/FH15-158.28*FC15-40.444*FD15+253.52*FE15)/1000 -> 4.747204 | BE15: =10*(26106-1991.9*EU15*13/FH15-3035*EV15*13/FH15-1472.2*EW15*13/FH15-2454.8*EZ15*13/FH15-2125.8*FB15*13/FH15-830.64*FC15+2708.8*FD15+2204.1*FE15)/1000 -> 5.8756665 | BF15: =10*EXP(26.543-1.2085*EU15*13/FH15-3.8593*EV15*13/FH15-1.1054*EW15*13/FH15-2.9068*EZ15*13/FH15-2.6483*FB15*13/FH15+0.5134*FC15+2.9752*FD15+1.8147*FE15)/1000 -> 8.0837246 | BG15: =10*(19.209*EXP(1.438*EW15*13/FF15))/1000 -> 3.1852931 | BI15: =EZ15/(EZ15+FB15) -> 0.36096431 | BJ15: =IF(AND(BI15<0.65,OR(AP15<800,AQ15<800,AO15<800,AM15<800)),"YES","NO") -> NO | BK15: =(-3.92+5.03*EW15) -> 7.4851394 | BL15: =1.27*(EW15^2.01) -> 6.5830063 | BM15: =0.26*EXP(1.48*EW15) -> 7.4537174 | BN15: =(-4.76+5.64*EW15) -> 8.0282676 | BO15: =(-3.46+4.23*EW15) -> 6.1312007 | BP15: =(4.76*EW15-3.01-((C15-675)/85)*(0.53*EW15+0.005294*(C15-675))) -> -0.98548763 | BQ15: =(5.03*EW15-3.53) -> 7.8751394 | BR15: =(-3.01+4.76*EW15) -> 7.7829351 | BT15: =F15/BT$6 -> 1.0371662 | BU15: =G15/BU$6 -> 0.007418526 | BV15: =H15/BV$6 -> 0.16687795 | BW15: =O15/CC$6 -> 0 | BX15: =I15/BW$6 -> 0.077651404 | BY15: =J15/BX$6 -> 0.0020776576 | BZ15: =K15/BY$6 -> 0.037062554 | CA15: =L15/BZ$6 -> 0.092712344 | CB15: =M15/CA$6 -> 0.061303394 | CC15: =N15/CB$6 -> 0.040767388 | CD15: =P15/CD$6 -> 0.0022613373 | CE15: =Q15/CE$6 -> 0.27756375 | CF15: =SUM(BT15:CE15) -> 1.8028625 | CG15: =BT15+BU15+BX15+BY15+BZ15+CA15+2*(BV15+BW15+CB15+CC15+CD15) -> 1.7965088 | CH15: =SUM(BT15:CD15) -> 1.5252987 | CI15: =BT15/$CF15 -> 0.57528857 | CJ15: =BU15/$CF15 -> 0.0041148597 | CK15: =BV15/$CF15 -> 0.092562772 | CL15: =BW15/$CF15 -> 0 | CM15: =BX15/$CF15 -> 0.043071175 | CN15: =BY15/$CF15 -> 0.0011524216 | CO15: =BZ15/$CF15 -> 0.020557616 | CP15: =CA15/$CF15 -> 0.051425079 | ... CT15: =CE15/$CF15 -> 0.15395725 | CU15: =SUM(CI15:CT15) -> 1 | CV15: =SUM(CI15:CS15) -> 0.84604275 | CW15: =BV15/CH15 -> 0.10940673 | CX15: =BT15/$CG15 -> 0.57732318 | CY15: =BU15/$CG15 -> 0.0041294126 | CZ15: =BV15*2/$CG15 -> 0.18578027 | DA15: =BW15*2/$CG15 -> 0 | DB15: =BX15/$CG15 -> 0.043223504 | DC15: =BY15/$CG15 -> 0.0011564973 | DD15: =BZ15/$CG15 -> 0.020630322 | DE15: =CA15/$CG15 -> 0.051606953 | DF15: =CB15*2/$CG15 -> 0.068247252 | DG15: =CC15*2/$CG15 -> 0.045385125 | DH15: =CD15*2/$CG15 -> 0.0025174798 | DI15: =SUM(CX15:DH15) -> 1 | DJ15: =S15/DJ$6 -> 0.67521799 | DK15: =T15/DK$6 -> 0.030671467 | DL15: =U15/DL$6 -> 0.12573435 | DM15: =AB15/DM$6 -> 0 | DN15: =V15/DN$6 -> 0.18247261 | DO15: =W15/DO$6 -> 0.0036651982 | DP15: =X15/DP$6 -> 0.32304165 | DQ15: =Y15/DQ$6 -> 0.20739193 | DR15: =Z15/DR$6 -> 0.035495951 | DS15: =AA15/DS$6 -> 0.0097668691 | DT15: =SUM(DJ15:DS15) -> 1.593458 | DU15: =S15/DJ$7 -> 0.67521799 | DV15: =T15/DK$7 -> 0.030671467 | DW15: =U15/DL$7 -> 0.2514687 | DX15: =AB15/DM$7 -> 0 | DZ15: =V15/DN$7 -> 0.18247261 | EA15: =W15/DO$7 -> 0.0036651982 | EB15: =X15/DP$7 -> 0.32304165 | EC15: =Y15/DQ$7 -> 0.20739193 | ED15: =Z15/DR$7 -> 0.070991902 | EE15: =AA15/DS$7 -> 0.019533738 | EG15: =DJ15*2 -> 1.350436 | EH15: =DK15*2 -> 0.061342935 | EI15: =DL15*3 -> 0.37720305 | EJ15: =DM15*3 -> 0 | EL15: =DN15 -> 0.18247261 | EM15: =DO15 -> 0.0036651982 | EN15: =DP15 -> 0.32304165 | EO15: =DQ15 -> 0.20739193 | EP15: =DR15 -> 0.035495951 | EQ15: =DS15 -> 0.0097668691 | ER15: =SUM(EG15:EQ15) -> 2.5508162 | ES15: =23/ER15 -> 9.0167219 | EU15: =DU15*$ES15 -> 6.0882528 | EV15: =DV15*$ES15 -> 0.27655609 | EW15: =DW15*$ES15 -> 2.2674233 | EX15: =DX15*$ES15 -> 0 | EZ15: =DZ15*$ES15 -> 1.6453048 | FA15: =EA15*$ES15 -> 0.033048073 | FB15: =EB15*$ES15 -> 2.9127768 | FC15: =EC15*$ES15 -> 1.8699953 | FD15: =ED15*$ES15 -> 0.64011424 | FE15: =EE15*$ES15 -> 0.17613029 | FF15: =SUM(EU15:FC15) -> 15.093357 | FG15: =SUM(EU15:FE15) -> 15.909602 | FH15: =SUM(EU15:FB15) -> 13.223362 | FI15: =IF(OR(FG15>16,FG15<15),"BAD","Good") -> Good | FJ15: =(FB15*13/(EU15+EV15+EW15+EZ15+FA15+FB15))/(DD15) -> 138.80422 | FK15: =FB15/(FB15+EZ15) -> 0.63903569 | FL15: =DE15/(DE15+CZ15) -> 0.21739566 | FN15: =5.5976-24505/(AM15+273.15)+0.8099*LOG(AM15+273.15)+0.0937*(AH15*1000-1)/(273.15+AM15)+$G$6 -> -11.424544 | FO15: =EXP(-6.53+10813.8/(AM15+273.15)+0.19*FN15*2.3026+12.4*(CB15+CC15)/CG15-3.44*BV15/(BV15+BT15)+4.15*CA15/CG15) -> 0.10417973 | FP15: =(EZ15)*FO15/(1+2*FO15) -> 0.14185133 | FQ15: =(EZ15)-FP15 -> 1.5034534 | FR15: =EU15 -> 6.0882528 | FS15: =IF(EU15+EW15>8,8-EU15,EW15) -> 1.9117472 | FT15: =IF(FS15+FR15=8,0,IF(8<FS15+FR15+EV15,EV15,8-FR15-FS15)) -> 0 | FU15: =FS15+FR15+FT15 -> 8 | FV15: =IF(EW15-FS15<0,0,EW15-FS15) -> 0.35567615 | FW15: =EX15 -> 0 | FX15: =FP15 -> 0.14185133 | FY15: =EV15-FT15 -> 0.27655609 | FZ15: =SUM(FV15:FY15) -> 0.77408357 | GA15: =IF(FZ15>5,0,IF(FZ15+FB15<5,FB15,5-FZ15)) -> 2.9127768 | GB15: =GA15+FZ15 -> 3.6868603 | GC15: =IF(GB15>5,0,IF(GB15+FQ15<5,FQ15,5-GB15)) -> 1.3131397 | GD15: =GC15+GB15 -> 5 | GE15: =IF(GD15=5,0,IF(GD15+FA15<5,FA15,5-GD15)) -> 0 | GF15: =GE15+GD15 -> 5 | GG15: =FB15-GA15 -> 0 | GH15: =FQ15-GC15 -> 0.19031376 | GI15: =FA15-GE15 -> 0.033048073 | GJ15: =SUM(GG15:GI15) -> 0.22336184 | GK15: =GJ15 -> 0.22336184 | GL15: =IF(FC15>2-GK15,2-GK15,FC15) -> 1.7766382 | GM15: =IF(GL15+GK15+FD15<2,FD15,2-GK15-GL15) -> 0 | GN15: =GL15+GK15+GM15 -> 2 | GP15: =IF(GL15<1,"Mg-Fe-Li grpup",IF(AND(GL15+GM15>=1,GM15<0.5),"CALCIC",IF(AND(GL15+GM15>=1,GM15>0.5),"SODIC-CALCIC"))) -> CALCIC | GR15: =IF(FD15-GM15>0,FD15-GM15,0) -> 0.64011424 | GS15: =FE15 -> 0.17613029 | GT15: =GS15+GR15 -> 0.81624453 | GU15: =IF(2-FC15-EZ15<=0.1,0,2-FC15-EZ15) -> 0 | GV15: =FD15-GU15 -> 0.64011424
A16: 11211B | B16: Merapi (2010) | C16: =AVERAGE(AL16:AS16) -> 919.28175 | D16: =AI16 -> 3.3062284 | F16: 63.410655 | G16: 0.56762678 | H16: 16.682223 | I16: 5.2116479 | J16: 0.13947331 | K16: 1.3430742 | L16: 4.6802908 | M16: 3.7972257 | N16: 4.1183364 | O16: 0 | P16: 0.32085386 | Q16: =Q15 -> 5 | S16: 39.45 | T16: 1.88 | U16: 10.8 | V16: 11.85 | W16: 0 | X16: 11.32 | Y16: 10.94 | Z16: 2.04 | AA16: 0.75 | AB16: 0 | AD16: =0.7996+15.347*SQRT(AH16/10)-0.00233*AL16+0.06248*(N16+M16) -> 9.8021608 | AF16: =(DN16/DP16)/(CM16/CO16) -> 0.26977199 | AG16: =751.95-0.4*AL16-278000/AL16-9.184*EW16 -> 63.369069 | AH16: =ROUND(10*(-3.093-4.274*LN(EW16/CK16)-4.216*LN(CK16)+63.3*CS16+1.264*CT16+2.457*EW16+1.86*FE16+0.4*LN(FD16/CQ16)),1) -> 4.8 | AI16: =-64.79-6.064*LN(EW16/CK16)+61.75*CI16+682*CS16-101.9*CP16+7.85*EW16-46.46*LN(CI16)-4.81*LN(CQ16+CR16) -> 3.3062284 | AJ16: =-45.55+26.65*EW16+22.52*FE16+439*CD16/CH16-51.1*LN(BV16/CH16)-46.3*LN(EW16/(BV16/CH16))+5.231*LN(FD16/(CB16/CH16)) -> 5.2602235 | AL16: =1781-132.74*EU16+116.6*EV16-69.41*EZ16+101.62*FD16 -> 911.89573 | AM16: =1687-118.7*EU16+131.56*EV16-71.41*EZ16+86.13*FD16+22.44*AH16/10 -> 908.79396 | AN16: =2061-178.4*EU16 -> 919.32775 | AO16: =(24429.2)/(2.31+42.1*CM16+32.2*CP16+2.21*LN(CI16)-1.4*LN(CJ16)-2.666*LN((CM16+CO16)*CK16)) -> 938.97933 | AP16: =6383.4/(-12.07+45.4*CK16+12.21*CM16-0.415*LN(CJ16)-3.555*LN(CK16)-0.832*LN(CQ16)-0.481*LN((CM16+CO16+CN16)*CK16)-0.679*LN(FD16/CQ16)) -> 953.15024 | AQ16: =8037.85/(3.69-2.62*CT16+0.66*EZ16-0.416*LN(CJ16)+0.37*LN(CO16)-1.05*LN((CM16+CO16+CN16)*CK16)-0.462*LN(EV16/CJ16)) -> 916.22487 | AR16: =1201.4-97.93*EU16+201.82*EV16+72.85*FB16+88.9*FD16+40.65*AH16/10 -> 896.97194 | AS16: =10073.5/(9.75+0.934*EU16-1.454*EV16-0.882*FB16-1.123*FD16-0.322*LN(CM16)-0.7593*LN(EW16/CK16)-0.15*AZ16) -> 908.91015 | AU16: =0.5+0.331*EW16+0.995*EW16^2 -> 5.4255787 | AW16: =(71975-11896*LN(FL16))/(8.3144*LN(FJ16)+58) -> 913.91494 | AX16: =107*LN(DD16)-108*LN(FL16)+1184 -> 929.50832 | AZ16: =LN((GS16/GV16)*(CQ16/CR16)) -> -1.0818104 | BB16: =10*(EXP(125.93-9.5876*EU16*13/FH16-10.116*EV16*13/FH16-8.1735*EW16*13/FH16-9.2261*EZ16*13/FH16-8.7934*FB16*13/FH16-1.6659*FC16+2.4835*FD16+2.5192*FE16))/1000 -> 2.8297978 | BC16: =10*(EXP(38.723-2.6957*EU16*13/FH16-2.3565*EV16*13/FH16-1.3006*EW16*13/FH16-2.778*EZ16*13/FH16-2.4838*FB16*13/FH16-0.6614*FC16-0.2705*FD16+0.1117*FE16))/1000 -> 2.8746752 | BD16: =10*(24023-1925.3*EU16*13/FH16-1720.6*EV16*13/FH16-1478.5*EW16*13/FH16-1843.2*EZ16*13/FH16-1746.9*FB16*13/FH16-158.28*FC16-40.444*FD16+253.52*FE16)/1000 -> 2.9167086 | BE16: =10*(26106-1991.9*EU16*13/FH16-3035*EV16*13/FH16-1472.2*EW16*13/FH16-2454.8*EZ16*13/FH16-2125.8*FB16*13/FH16-830.64*FC16+2708.8*FD16+2204.1*FE16)/1000 -> 4.3589524 | BF16: =10*EXP(26.543-1.2085*EU16*13/FH16-3.8593*EV16*13/FH16-1.1054*EW16*13/FH16-2.9068*EZ16*13/FH16-2.6483*FB16*13/FH16+0.5134*FC16+2.9752*FD16+1.8147*FE16)/1000 -> 10.468376 | BG16: =10*(19.209*EXP(1.438*EW16*13/FF16))/1000 -> 2.5441598 | BI16: =EZ16/(EZ16+FB16) -> 0.36997756 | BJ16: =IF(AND(BI16<0.65,OR(AP16<800,AQ16<800,AO16<800,AM16<800)),"YES","NO") -> NO | BK16: =(-3.92+5.03*EW16) -> 6.4659982 | BL16: =1.27*(EW16^2.01) -> 5.4539737 | BM16: =0.26*EXP(1.48*EW16) -> 5.5225865 | BN16: =(-4.76+5.64*EW16) -> 6.8855328 | BO16: =(-3.46+4.23*EW16) -> 5.2741496 | BP16: =(4.76*EW16-3.01-((C16-675)/85)*(0.53*EW16+0.005294*(C16-675))) -> -0.04316589 | BQ16: =(5.03*EW16-3.53) -> 6.8559982 | BR16: =(-3.01+4.76*EW16) -> 6.8184993 | BT16: =F16/BT$6 -> 1.0553615 | BU16: =G16/BU$6 -> 0.0071061005 | BV16: =H16/BV$6 -> 0.16361376 | BW16: =O16/CC$6 -> 0 | BX16: =I16/BW$6 -> 0.072538748 | BY16: =J16/BX$6 -> 0.0019661436 | BZ16: =K16/BY$6 -> 0.033323265 | CA16: =L16/BZ$6 -> 0.083461266 | CB16: =M16/CA$6 -> 0.061266427 | CC16: =N16/CB$6 -> 0.043720926 | CD16: =P16/CD$6 -> 0.0022605372 | CE16: =Q16/CE$6 -> 0.27756375 | CF16: =SUM(BT16:CE16) -> 1.8021824 | CG16: =BT16+BU16+BX16+BY16+BZ16+CA16+2*(BV16+BW16+CB16+CC16+CD16) -> 1.7954803 | CH16: =SUM(BT16:CD16) -> 1.5246186 | CI16: =BT16/$CF16 -> 0.58560192 | CJ16: =BU16/$CF16 -> 0.0039430529 | CK16: =BV16/$CF16 -> 0.09078646 | CL16: =BW16/$CF16 -> 0 | CM16: =BX16/$CF16 -> 0.040250503 | CN16: =BY16/$CF16 -> 0.0010909792 | CO16: =BZ16/$CF16 -> 0.018490506 | CP16: =CA16/$CF16 -> 0.04631122 | ... CT16: =CE16/$CF16 -> 0.15401535 | CU16: =SUM(CI16:CT16) -> 1 | CV16: =SUM(CI16:CS16) -> 0.84598465 | CX16: =BT16/$CG16 -> 0.58778783 | CY16: =BU16/$CG16 -> 0.0039577714 | CZ16: =BV16*2/$CG16 -> 0.18225069 | DA16: =BW16*2/$CG16 -> 0 | DB16: =BX16/$CG16 -> 0.040400749 | DC16: =BY16/$CG16 -> 0.0010950516 | DD16: =BZ16/$CG16 -> 0.018559527 | DE16: =CA16/$CG16 -> 0.046484089 | DF16: =CB16*2/$CG16 -> 0.068245168 | DG16: =CC16*2/$CG16 -> 0.048701093 | DH16: =CD16*2/$CG16 -> 0.0025180306 | DI16: =SUM(CX16:DH16) -> 1 | DJ16: =S16/DJ$6 -> 0.65657751 | DK16: =T16/DK$6 -> 0.023535657 | DL16: =U16/DL$6 -> 0.10592285 | DM16: =AB16/DM$6 -> 0 | DN16: =V16/DN$6 -> 0.1649352 | DO16: =W16/DO$6 -> 0 | DP16: =X16/DP$6 -> 0.28086264 | DQ16: =Y16/DQ$6 -> 0.1950875 | DR16: =Z16/DR$6 -> 0.032914427 | DS16: =AA16/DS$6 -> 0.0079621215 | DT16: =SUM(DJ16:DS16) -> 1.4677979 | DU16: =S16/DJ$7 -> 0.65657751 | DV16: =T16/DK$7 -> 0.023535657 | DW16: =U16/DL$7 -> 0.21184571 | DX16: =AB16/DM$7 -> 0 | DZ16: =V16/DN$7 -> 0.1649352 | EA16: =W16/DO$7 -> 0 | EB16: =X16/DP$7 -> 0.28086264 | EC16: =Y16/DQ$7 -> 0.1950875 | ED16: =Z16/DR$7 -> 0.065828855 | EE16: =AA16/DS$7 -> 0.015924243 | EG16: =DJ16*2 -> 1.313155 | EH16: =DK16*2 -> 0.047071313 | EI16: =DL16*3 -> 0.31776856 | EJ16: =DM16*3 -> 0 | EL16: =DN16 -> 0.1649352 | EM16: =DO16 -> 0 | EN16: =DP16 -> 0.28086264 | EO16: =DQ16 -> 0.1950875 | EP16: =DR16 -> 0.032914427 | EQ16: =DS16 -> 0.0079621215 | ER16: =SUM(EG16:EQ16) -> 2.3597568 | ES16: =23/ER16 -> 9.7467672 | EU16: =DU16*$ES16 -> 6.3995082 | EV16: =DV16*$ES16 -> 0.22939657 | EW16: =DW16*$ES16 -> 2.0648108 | EX16: =DX16*$ES16 -> 0 | EZ16: =DZ16*$ES16 -> 1.607585 | FA16: =EA16*$ES16 -> 0 | FB16: =EB16*$ES16 -> 2.7375027 | FC16: =EC16*$ES16 -> 1.9014725 | FD16: =ED16*$ES16 -> 0.64161852 | FE16: =EE16*$ES16 -> 0.15520989 | FF16: =SUM(EU16:FC16) -> 14.940276 | FG16: =SUM(EU16:FE16) -> 15.737104 | FH16: =SUM(EU16:FB16) -> 13.038803 | FI16: =IF(OR(FG16>16,FG16<15),"BAD","Good") -> Good | FJ16: =(FB16*13/(EU16+EV16+EW16+EZ16+FA16+FB16))/(DD16) -> 147.05957 | FK16: =FB16/(FB16+EZ16) -> 0.63002244 | FL16: =DE16/(DE16+CZ16) -> 0.20322266 | FN16: =5.5976-24505/(AM16+273.15)+0.8099*LOG(AM16+273.15)+0.0937*(AH16*1000-1)/(273.15+AM16)+$G$6 -> -12.266251 | FO16: =EXP(-6.53+10813.8/(AM16+273.15)+0.19*FN16*2.3026+12.4*(CB16+CC16)/CG16-3.44*BV16/(BV16+BT16)+4.15*CA16/CG16) -> 0.10116569 | FP16: =(EZ16)*FO16/(1+2*FO16) -> 0.13526424 | FQ16: =(EZ16)-FP16 -> 1.4723207 | FR16: =EU16 -> 6.3995082 | FS16: =IF(EU16+EW16>8,8-EU16,EW16) -> 1.6004918 | FT16: =IF(FS16+FR16=8,0,IF(8<FS16+FR16+EV16,EV16,8-FR16-FS16)) -> 0 | FU16: =FS16+FR16+FT16 -> 8 | FV16: =IF(EW16-FS16<0,0,EW16-FS16) -> 0.46431894 | FW16: =EX16 -> 0 | FX16: =FP16 -> 0.13526424 | FY16: =EV16-FT16 -> 0.22939657 | FZ16: =SUM(FV16:FY16) -> 0.82897974 | GA16: =IF(FZ16>5,0,IF(FZ16+FB16<5,FB16,5-FZ16)) -> 2.7375027 | GB16: =GA16+FZ16 -> 3.5664825 | GC16: =IF(GB16>5,0,IF(GB16+FQ16<5,FQ16,5-GB16)) -> 1.4335175 | GD16: =GC16+GB16 -> 5 | GE16: =IF(GD16=5,0,IF(GD16+FA16<5,FA16,5-GD16)) -> 0 | GF16: =GE16+GD16 -> 5 | GG16: =FB16-GA16 -> 0 | GH16: =FQ16-GC16 -> 0.03880319 | GI16: =FA16-GE16 -> 0 | GJ16: =SUM(GG16:GI16) -> 0.03880319 | GK16: =GJ16 -> 0.03880319 | GL16: =IF(FC16>2-GK16,2-GK16,FC16) -> 1.9014725 | GM16: =IF(GL16+GK16+FD16<2,FD16,2-GK16-GL16) -> 0.059724316 | GN16: =GL16+GK16+GM16 -> 2 | GP16: =IF(GL16<1,"Mg-Fe-Li grpup",IF(AND(GL16+GM16>=1,GM16<0.5),"CALCIC",IF(AND(GL16+GM16>=1,GM16>0.5),"SODIC-CALCIC"))) -> CALCIC | GR16: =IF(FD16-GM16>0,FD16-GM16,0) -> 0.58189421 | GS16: =FE16 -> 0.15520989 | GT16: =GS16+GR16 -> 0.7371041 | GU16: =IF(2-FC16-EZ16<=0.1,0,2-FC16-EZ16) -> 0 | GV16: =FD16-GU16 -> 0.64161852
A17: 11212A | B17: Merapi (2010) | C17: =AVERAGE(AL17:AS17) -> 968.17758 | D17: =AI17 -> 4.7009606 | F17: 64.978351 | G17: 0.53184026 | H17: 16.204967 | I17: 4.684912 | J17: 0.12812982 | K17: 1.1269601 | L17: 3.9363787 | M17: 3.7939402 | N17: 4.5172845 | O17: 0 | P17: 0.320691 | Q17: =Q16 -> 5 | S17: 42.88 | T17: 3.46 | U17: 14.28 | V17: 15.99 | W17: 0.54 | X17: 14.25 | Y17: 12.12 | Z17: 2.43 | AA17: 1.18 | AB17: 0.03 | AD17: =0.7996+15.347*SQRT(AH17/10)-0.00233*AL17+0.06248*(N17+M17) -> 11.878099 | AF17: =(DN17/DP17)/(CM17/CO17) -> 0.26992352 | AG17: =751.95-0.4*AL17-278000/AL17-9.184*EW17 -> 55.154573 | AH17: =ROUND(10*(-3.093-4.274*LN(EW17/CK17)-4.216*LN(CK17)+63.3*CS17+1.264*CT17+2.457*EW17+1.86*FE17+0.4*LN(FD17/CQ17)),1) -> 7 | AI17: =-64.79-6.064*LN(EW17/CK17)+61.75*CI17+682*CS17-101.9*CP17+7.85*EW17-46.46*LN(CI17)-4.81*LN(CQ17+CR17) -> 4.7009606 | AJ17: =-45.55+26.65*EW17+22.52*FE17+439*CD17/CH17-51.1*LN(BV17/CH17)-46.3*LN(EW17/(BV17/CH17))+5.231*LN(FD17/(CB17/CH17)) -> 7.9592967 | AL17: =1781-132.74*EU17+116.6*EV17-69.41*EZ17+101.62*FD17 -> 978.97328 | AM17: =1687-118.7*EU17+131.56*EV17-71.41*EZ17+86.13*FD17+22.44*AH17/10 -> 975.04005 | AN17: =2061-178.4*EU17 -> 1010.0363 | AO17: =(24429.2)/(2.31+42.1*CM17+32.2*CP17+2.21*LN(CI17)-1.4*LN(CJ17)-2.666*LN((CM17+CO17)*CK17)) -> 933.46074 | AP17: =6383.4/(-12.07+45.4*CK17+12.21*CM17-0.415*LN(CJ17)-3.555*LN(CK17)-0.832*LN(CQ17)-0.481*LN((CM17+CO17+CN17)*CK17)-0.679*LN(FD17/CQ17)) -> 948.6936 | AQ17: =8037.85/(3.69-2.62*CT17+0.66*EZ17-0.416*LN(CJ17)+0.37*LN(CO17)-1.05*LN((CM17+CO17+CN17)*CK17)-0.462*LN(EV17/CJ17)) -> 911.94548 | AR17: =1201.4-97.93*EU17+201.82*EV17+72.85*FB17+88.9*FD17+40.65*AH17/10 -> 995.26287 | AS17: =10073.5/(9.75+0.934*EU17-1.454*EV17-0.882*FB17-1.123*FD17-0.322*LN(CM17)-0.7593*LN(EW17/CK17)-0.15*AZ17) -> 992.00827 | AU17: =0.5+0.331*EW17+0.995*EW17^2 -> 6.5848178 | AW17: =(71975-11896*LN(FL17))/(8.3144*LN(FJ17)+58) -> 911.61926 | AX17: =107*LN(DD17)-108*LN(FL17)+1184 -> 923.39858 | AZ17: =LN((GS17/GV17)*(CQ17/CR17)) -> -0.89688275 | BB17: =10*(EXP(125.93-9.5876*EU17*13/FH17-10.116*EV17*13/FH17-8.1735*EW17*13/FH17-9.2261*EZ17*13/FH17-8.7934*FB17*13/FH17-1.6659*FC17+2.4835*FD17+2.5192*FE17))/1000 -> 10.459166 | BC17: =10*(EXP(38.723-2.6957*EU17*13/FH17-2.3565*EV17*13/FH17-1.3006*EW17*13/FH17-2.778*EZ17*13/FH17-2.4838*FB17*13/FH17-0.6614*FC17-0.2705*FD17+0.1117*FE17))/1000 -> 5.0533697 | BD17: =10*(24023-1925.3*EU17*13/FH17-1720.6*EV17*13/FH17-1478.5*EW17*13/FH17-1843.2*EZ17*13/FH17-1746.9*FB17*13/FH17-158.28*FC17-40.444*FD17+253.52*FE17)/1000 -> 5.8853681 | BE17: =10*(26106-1991.9*EU17*13/FH17-3035*EV17*13/FH17-1472.2*EW17*13/FH17-2454.8*EZ17*13/FH17-2125.8*FB17*13/FH17-830.64*FC17+2708.8*FD17+2204.1*FE17)/1000 -> 6.6572177 | BF17: =10*EXP(26.543-1.2085*EU17*13/FH17-3.8593*EV17*13/FH17-1.1054*EW17*13/FH17-2.9068*EZ17*13/FH17-2.6483*FB17*13/FH17+0.5134*FC17+2.9752*FD17+1.8147*FE17)/1000 -> 5.5846904 | BG17: =10*(19.209*EXP(1.438*EW17*13/FF17))/1000 -> 3.3206288 | BI17: =EZ17/(EZ17+FB17) -> 0.3863068 | BJ17: =IF(AND(BI17<0.65,OR(AP17<800,AQ17<800,AO17<800,AM17<800)),"YES","NO") -> NO | BK17: =(-3.92+5.03*EW17) -> 7.710307 | BL17: =1.27*(EW17^2.01) -> 6.8468425 | BM17: =0.26*EXP(1.48*EW17) -> 7.9642676 | BN17: =(-4.76+5.64*EW17) -> 8.2807418 | BO17: =(-3.46+4.23*EW17) -> 6.3205564 | BP17: =(4.76*EW17-3.01-((C17-675)/85)*(0.53*EW17+0.005294*(C17-675))) -> -1.5841368 | BQ17: =(5.03*EW17-3.53) -> 8.100307 | BR17: =(-3.01+4.76*EW17) -> 7.9960162 | BT17: =F17/BT$6 -> 1.0814531 | BU17: =G17/BU$6 -> 0.0066580903 | BV17: =H17/BV$6 -> 0.158933 | BW17: =O17/CC$6 -> 0 | BX17: =I17/BW$6 -> 0.065207331 | BY17: =J17/BX$6 -> 0.0018062353 | BZ17: =K17/BY$6 -> 0.027961219 | CA17: =L17/BZ$6 -> 0.070195456 | CB17: =M17/CA$6 -> 0.061213417 | CC17: =N17/CB$6 -> 0.047956225 | CD17: =P17/CD$6 -> 0.0022593897 | CE17: =Q17/CE$6 -> 0.27756375 | CF17: =SUM(BT17:CE17) -> 1.8012072 | CG17: =BT17+BU17+BX17+BY17+BZ17+CA17+2*(BV17+BW17+CB17+CC17+CD17) -> 1.7940055 | CH17: =SUM(BT17:CD17) -> 1.5236434 | CI17: =BT17/$CF17 -> 0.6004046 | CJ17: =BU17/$CF17 -> 0.00369646 | CK17: =BV17/$CF17 -> 0.088236933 | CL17: =BW17/$CF17 -> 0 | CM17: =BX17/$CF17 -> 0.036202016 | CN17: =BY17/$CF17 -> 0.0010027915 | CO17: =BZ17/$CF17 -> 0.015523599 | CP17: =CA17/$CF17 -> 0.038971339 | ... CT17: =CE17/$CF17 -> 0.15409873 | CU17: =SUM(CI17:CT17) -> 1 | CV17: =SUM(CI17:CS17) -> 0.84590127 | CX17: =BT17/$CG17 -> 0.60281482 | CY17: =BU17/$CG17 -> 0.0037112988 | CZ17: =BV17*2/$CG17 -> 0.17718229 | DA17: =BW17*2/$CG17 -> 0 | DB17: =BX17/$CG17 -> 0.036347342 | DC17: =BY17/$CG17 -> 0.0010068171 | DD17: =BZ17/$CG17 -> 0.015585916 | DE17: =CA17/$CG17 -> 0.039127783 | DF17: =CB17*2/$CG17 -> 0.068242174 | DG17: =CC17*2/$CG17 -> 0.053462741 | DH17: =CD17*2/$CG17 -> 0.0025188215 | DI17: =SUM(CX17:DH17) -> 1 | DJ17: =S17/DJ$6 -> 0.71366397 | DK17: =T17/DK$6 -> 0.043315623 | DL17: =U17/DL$6 -> 0.14005355 | DM17: =AB17/DM$6 -> 0.00019738634 | DN17: =V17/DN$6 -> 0.22255812 | DO17: =W17/DO$6 -> 0.0076123348 | DP17: =X17/DP$6 -> 0.35355941 | DQ17: =Y17/DQ$6 -> 0.21612985 | DR17: =Z17/DR$6 -> 0.039206891 | DS17: =AA17/DS$6 -> 0.012527071 | DT17: =SUM(DJ17:DS17) -> 1.7488242 | DU17: =S17/DJ$7 -> 0.71366397 | DV17: =T17/DK$7 -> 0.043315623 | DW17: =U17/DL$7 -> 0.2801071 | DX17: =AB17/DM$7 -> 0.00039477268 | DZ17: =V17/DN$7 -> 0.22255812 | EA17: =W17/DO$7 -> 0.0076123348 | EB17: =X17/DP$7 -> 0.35355941 | EC17: =Y17/DQ$7 -> 0.21612985 | ED17: =Z17/DR$7 -> 0.078413783 | EE17: =AA17/DS$7 -> 0.025054142 | EG17: =DJ17*2 -> 1.4273279 | EH17: =DK17*2 -> 0.086631246 | EI17: =DL17*3 -> 0.42016065 | EJ17: =DM17*3 -> 0.00059215902 | EL17: =DN17 -> 0.22255812 | EM17: =DO17 -> 0.0076123348 | EN17: =DP17 -> 0.35355941 | EO17: =DQ17 -> 0.21612985 | EP17: =DR17 -> 0.039206891 | EQ17: =DS17 -> 0.012527071 | ER17: =SUM(EG17:EQ17) -> 2.7863057 | ES17: =23/ER17 -> 8.2546578 | EU17: =DU17*$ES17 -> 5.8910519 | EV17: =DV17*$ES17 -> 0.35755565 | EW17: =DW17*$ES17 -> 2.3121883 | EX17: =DX17*$ES17 -> 0.0032587134 | EZ17: =DZ17*$ES17 -> 1.8371412 | FA17: =EA17*$ES17 -> 0.062837219 | FB17: =EB17*$ES17 -> 2.918512 | FC17: =EC17*$ES17 -> 1.784078 | FD17: =ED17*$ES17 -> 0.64727895 | FE17: =EE17*$ES17 -> 0.20681337 | FF17: =SUM(EU17:FC17) -> 15.166623 | FG17: =SUM(EU17:FE17) -> 16.020715 | FH17: =SUM(EU17:FB17) -> 13.382545 | FI17: =IF(OR(FG17>16,FG17<15),"BAD","Good") -> BAD | FJ17: =(FB17*13/(EU17+EV17+EW17+EZ17+FA17+FB17))/(DD17) -> 181.94476 | FK17: =FB17/(FB17+EZ17) -> 0.6136932 | FL17: =DE17/(DE17+CZ17) -> 0.18088747 | FN17: =5.5976-24505/(AM17+273.15)+0.8099*LOG(AM17+273.15)+0.0937*(AH17*1000-1)/(273.15+AM17)+$G$6 -> -11.001743 | FO17: =EXP(-6.53+10813.8/(AM17+273.15)+0.19*FN17*2.3026+12.4*(CB17+CC17)/CG17-3.44*BV17/(BV17+BT17)+4.15*CA17/CG17) -> 0.11042319 | FP17: =(EZ17)*FO17/(1+2*FO17) -> 0.16616586 | FQ17: =(EZ17)-FP17 -> 1.6709753 | FR17: =EU17 -> 5.8910519 | FS17: =IF(EU17+EW17>8,8-EU17,EW17) -> 2.1089481 | FT17: =IF(FS17+FR17=8,0,IF(8<FS17+FR17+EV17,EV17,8-FR17-FS17)) -> 0 | FU17: =FS17+FR17+FT17 -> 8 | FV17: =IF(EW17-FS17<0,0,EW17-FS17) -> 0.20324014 | FW17: =EX17 -> 0.0032587134 | FX17: =FP17 -> 0.16616586 | FY17: =EV17-FT17 -> 0.35755565 | FZ17: =SUM(FV17:FY17) -> 0.73022037 | GA17: =IF(FZ17>5,0,IF(FZ17+FB17<5,FB17,5-FZ17)) -> 2.918512 | GB17: =GA17+FZ17 -> 3.6487323 | GC17: =IF(GB17>5,0,IF(GB17+FQ17<5,FQ17,5-GB17)) -> 1.3512677 | GD17: =GC17+GB17 -> 5 | GE17: =IF(GD17=5,0,IF(GD17+FA17<5,FA17,5-GD17)) -> 0 | GF17: =GE17+GD17 -> 5 | GG17: =FB17-GA17 -> 0 | GH17: =FQ17-GC17 -> 0.31970765 | GI17: =FA17-GE17 -> 0.062837219 | GJ17: =SUM(GG17:GI17) -> 0.38254487 | GK17: =GJ17 -> 0.38254487 | GL17: =IF(FC17>2-GK17,2-GK17,FC17) -> 1.6174551 | GM17: =IF(GL17+GK17+FD17<2,FD17,2-GK17-GL17) -> 0 | GN17: =GL17+GK17+GM17 -> 2 | GP17: =IF(GL17<1,"Mg-Fe-Li grpup",IF(AND(GL17+GM17>=1,GM17<0.5),"CALCIC",IF(AND(GL17+GM17>=1,GM17>0.5),"SODIC-CALCIC"))) -> CALCIC | GR17: =IF(FD17-GM17>0,FD17-GM17,0) -> 0.64727895 | GS17: =FE17 -> 0.20681337 | GT17: =GS17+GR17 -> 0.85409232 | GU17: =IF(2-FC17-EZ17<=0.1,0,2-FC17-EZ17) -> 0 | GV17: =FD17-GU17 -> 0.64727895
A18: 11212B | B18: Merapi (2010) | C18: =AVERAGE(AL18:AS18) -> 944.00123 | D18: =AI18 -> 2.5996916 | F18: 60.953715 | G18: 0.62371248 | H18: 17.430191 | I18: 6.0371641 | J18: 0.15725116 | K18: 1.6817745 | L18: 5.8461719 | M18: 3.8023749 | N18: 3.4930929 | O18: 0 | P18: 0.3211091 | Q18: =Q17 -> 5 | S18: 42.2 | T18: 2.75 | U18: 11.1 | V18: 13.1 | W18: 0.39 | X18: 13.55 | Y18: 11.07 | Z18: 2.27 | AA18: 0.95 | AB18: 0.01 | AD18: =0.7996+15.347*SQRT(AH18/10)-0.00233*AL18+0.06248*(N18+M18) -> 9.9278354 | AF18: =(DN18/DP18)/(CM18/CO18) -> 0.26931887 | AG18: =751.95-0.4*AL18-278000/AL18-9.184*EW18 -> 62.682266 | AH18: =ROUND(10*(-3.093-4.274*LN(EW18/CK18)-4.216*LN(CK18)+63.3*CS18+1.264*CT18+2.457*EW18+1.86*FE18+0.4*LN(FD18/CQ18)),1) -> 5 | AI18: =-64.79-6.064*LN(EW18/CK18)+61.75*CI18+682*CS18-101.9*CP18+7.85*EW18-46.46*LN(CI18)-4.81*LN(CQ18+CR18) -> 2.5996916 | AJ18: =-45.55+26.65*EW18+22.52*FE18+439*CD18/CH18-51.1*LN(BV18/CH18)-46.3*LN(EW18/(BV18/CH18))+5.231*LN(FD18/(CB18/CH18)) -> 5.3285404 | AL18: =1781-132.74*EU18+116.6*EV18-69.41*EZ18+101.62*FD18 -> 935.43054 | AM18: =1687-118.7*EU18+131.56*EV18-71.41*EZ18+86.13*FD18+22.44*AH18/10 -> 932.13845 | AN18: =2061-178.4*EU18 -> 938.98664 | AO18: =(24429.2)/(2.31+42.1*CM18+32.2*CP18+2.21*LN(CI18)-1.4*LN(CJ18)-2.666*LN((CM18+CO18)*CK18)) -> 944.59971 | AP18: =6383.4/(-12.07+45.4*CK18+12.21*CM18-0.415*LN(CJ18)-3.555*LN(CK18)-0.832*LN(CQ18)-0.481*LN((CM18+CO18+CN18)*CK18)-0.679*LN(FD18/CQ18)) -> 960.44634 | AQ18: =8037.85/(3.69-2.62*CT18+0.66*EZ18-0.416*LN(CJ18)+0.37*LN(CO18)-1.05*LN((CM18+CO18+CN18)*CK18)-0.462*LN(EV18/CJ18)) -> 943.82373 | AR18: =1201.4-97.93*EU18+201.82*EV18+72.85*FB18+88.9*FD18+40.65*AH18/10 -> 945.65868 | AS18: =10073.5/(9.75+0.934*EU18-1.454*EV18-0.882*FB18-1.123*FD18-0.322*LN(CM18)-0.7593*LN(EW18/CK18)-0.15*AZ18) -> 950.92571 | AU18: =0.5+0.331*EW18+0.995*EW18^2 -> 4.9277277 | AW18: =(71975-11896*LN(FL18))/(8.3144*LN(FJ18)+58) -> 908.13912 | AX18: =107*LN(DD18)-108*LN(FL18)+1184 -> 938.35637 | AZ18: =LN((GS18/GV18)*(CQ18/CR18)) -> -0.78623486 | BB18: =10*(EXP(125.93-9.5876*EU18*13/FH18-10.116*EV18*13/FH18-8.1735*EW18*13/FH18-9.2261*EZ18*13/FH18-8.7934*FB18*13/FH18-1.6659*FC18+2.4835*FD18+2.5192*FE18))/1000 -> 5.8924077 | BC18: =10*(EXP(38.723-2.6957*EU18*13/FH18-2.3565*EV18*13/FH18-1.3006*EW18*13/FH18-2.778*EZ18*13/FH18-2.4838*FB18*13/FH18-0.6614*FC18-0.2705*FD18+0.1117*FE18))/1000 -> 3.1529005 | BD18: =10*(24023-1925.3*EU18*13/FH18-1720.6*EV18*13/FH18-1478.5*EW18*13/FH18-1843.2*EZ18*13/FH18-1746.9*FB18*13/FH18-158.28*FC18-40.444*FD18+253.52*FE18)/1000 -> 4.0500076 | BE18: =10*(26106-1991.9*EU18*13/FH18-3035*EV18*13/FH18-1472.2*EW18*13/FH18-2454.8*EZ18*13/FH18-2125.8*FB18*13/FH18-830.64*FC18+2708.8*FD18+2204.1*FE18)/1000 -> 5.5776367 | BF18: =10*EXP(26.543-1.2085*EU18*13/FH18-3.8593*EV18*13/FH18-1.1054*EW18*13/FH18-2.9068*EZ18*13/FH18-2.6483*FB18*13/FH18+0.5134*FC18+2.9752*FD18+1.8147*FE18)/1000 -> 6.6258253 | BG18: =10*(19.209*EXP(1.438*EW18*13/FF18))/1000 -> 2.1785645 | BI18: =EZ18/(EZ18+FB18) -> 0.35163863 | BJ18: =IF(AND(BI18<0.65,OR(AP18<800,AQ18<800,AO18<800,AM18<800)),"YES","NO") -> NO | BK18: =(-3.92+5.03*EW18) -> 5.8870549 | BL18: =1.27*(EW18^2.01) -> 4.860094 | BM18: =0.26*EXP(1.48*EW18) -> 4.657604 | BN18: =(-4.76+5.64*EW18) -> 6.2363797 | BO18: =(-3.46+4.23*EW18) -> 4.7872848 | BP18: =(4.76*EW18-3.01-((C18-675)/85)*(0.53*EW18+0.005294*(C18-675))) -> -1.5064784 | BQ18: =(5.03*EW18-3.53) -> 6.2770549 | BR18: =(-3.01+4.76*EW18) -> 6.2706325 | BT18: =F18/BT$6 -> 1.0144699 | BU18: =G18/BU$6 -> 0.0078082354 | BV18: =H18/BV$6 -> 0.17094959 | BW18: =O18/CC$6 -> 0 | BX18: =I18/BW$6 -> 0.084028763 | BY18: =J18/BX$6 -> 0.0022167565 | BZ18: =K18/BY$6 -> 0.041726822 | CA18: =L18/BZ$6 -> 0.10425184 | CB18: =M18/CA$6 -> 0.061349506 | CC18: =N18/CB$6 -> 0.037083241 | CD18: =P18/CD$6 -> 0.0022623354 | CE18: =Q18/CE$6 -> 0.27756375 | CF18: =SUM(BT18:CE18) -> 1.8037108 | CG18: =BT18+BU18+BX18+BY18+BZ18+CA18+2*(BV18+BW18+CB18+CC18+CD18) -> 1.7977917 | CH18: =SUM(BT18:CD18) -> 1.526147 | CI18: =BT18/$CF18 -> 0.56243493 | CJ18: =BU18/$CF18 -> 0.0043289842 | CK18: =BV18/$CF18 -> 0.094776608 | CL18: =BW18/$CF18 -> 0 | CM18: =BX18/$CF18 -> 0.046586606 | CN18: =BY18/$CF18 -> 0.0012289978 | CO18: =BZ18/$CF18 -> 0.023133877 | CP18: =CA18/$CF18 -> 0.057798533 | ... CT18: =CE18/$CF18 -> 0.15388484 | CU18: =SUM(CI18:CT18) -> 1 | CV18: =SUM(CI18:CS18) -> 0.84611516 | CX18: =BT18/$CG18 -> 0.5642867 | CY18: =BU18/$CG18 -> 0.0043432371 | CZ18: =BV18*2/$CG18 -> 0.1901773 | DA18: =BW18*2/$CG18 -> 0 | DB18: =BX18/$CG18 -> 0.046739989 | DC18: =BY18/$CG18 -> 0.0012330441 | DD18: =BZ18/$CG18 -> 0.023210043 | DE18: =CA18/$CG18 -> 0.05798883 | DF18: =CB18*2/$CG18 -> 0.068249849 | DG18: =CC18*2/$CG18 -> 0.041254213 | DH18: =CD18*2/$CG18 -> 0.0025167937 | DI18: =SUM(CX18:DH18) -> 1 | DJ18: =S18/DJ$6 -> 0.70234654 | DK18: =T18/DK$6 -> 0.034427157 | DL18: =U18/DL$6 -> 0.10886515 | DM18: =AB18/DM$6 -> 6.5795447e-05 | DN18: =V18/DN$6 -> 0.18233342 | DO18: =W18/DO$6 -> 0.0054977974 | DP18: =X18/DP$6 -> 0.33619158 | DQ18: =Y18/DQ$6 -> 0.19740573 | DR18: =Z18/DR$6 -> 0.036625368 | DS18: =AA18/DS$6 -> 0.010085354 | DT18: =SUM(DJ18:DS18) -> 1.6138439 | DU18: =S18/DJ$7 -> 0.70234654 | DV18: =T18/DK$7 -> 0.034427157 | DW18: =U18/DL$7 -> 0.21773031 | DX18: =AB18/DM$7 -> 0.00013159089 | DZ18: =V18/DN$7 -> 0.18233342 | EA18: =W18/DO$7 -> 0.0054977974 | EB18: =X18/DP$7 -> 0.33619158 | EC18: =Y18/DQ$7 -> 0.19740573 | ED18: =Z18/DR$7 -> 0.073250735 | EE18: =AA18/DS$7 -> 0.020170708 | EG18: =DJ18*2 -> 1.4046931 | EH18: =DK18*2 -> 0.068854314 | EI18: =DL18*3 -> 0.32659546 | EJ18: =DM18*3 -> 0.00019738634 | EL18: =DN18 -> 0.18233342 | EM18: =DO18 -> 0.0054977974 | EN18: =DP18 -> 0.33619158 | EO18: =DQ18 -> 0.19740573 | EP18: =DR18 -> 0.036625368 | EQ18: =DS18 -> 0.010085354 | ER18: =SUM(EG18:EQ18) -> 2.5684795 | ES18: =23/ER18 -> 8.9547143 | EU18: =DU18*$ES18 -> 6.2893126 | EV18: =DV18*$ES18 -> 0.30828536 | EW18: =DW18*$ES18 -> 1.9497127 | EX18: =DX18*$ES18 -> 0.0011783589 | EZ18: =DZ18*$ES18 -> 1.6327437 | FA18: =EA18*$ES18 -> 0.049231205 | FB18: =EB18*$ES18 -> 3.0104996 | FC18: =EC18*$ES18 -> 1.7677119 | FD18: =ED18*$ES18 -> 0.65593941 | FE18: =EE18*$ES18 -> 0.18062293 | FF18: =SUM(EU18:FC18) -> 15.008675 | FG18: =SUM(EU18:FE18) -> 15.845238 | FH18: =SUM(EU18:FB18) -> 13.240963 | FI18: =IF(OR(FG18>16,FG18<15),"BAD","Good") -> Good | FJ18: =(FB18*13/(EU18+EV18+EW18+EZ18+FA18+FB18))/(DD18) -> 127.35765 | FK18: =FB18/(FB18+EZ18) -> 0.64836137 | FL18: =DE18/(DE18+CZ18) -> 0.23366939 | FN18: =5.5976-24505/(AM18+273.15)+0.8099*LOG(AM18+273.15)+0.0937*(AH18*1000-1)/(273.15+AM18)+$G$6 -> -11.849631 | FO18: =EXP(-6.53+10813.8/(AM18+273.15)+0.19*FN18*2.3026+12.4*(CB18+CC18)/CG18-3.44*BV18/(BV18+BT18)+4.15*CA18/CG18) -> 0.098402739 | FP18: =(EZ18)*FO18/(1+2*FO18) -> 0.13424609 | FQ18: =(EZ18)-FP18 -> 1.4984976 | FR18: =EU18 -> 6.2893126 | FS18: =IF(EU18+EW18>8,8-EU18,EW18) -> 1.7106874 | FT18: =IF(FS18+FR18=8,0,IF(8<FS18+FR18+EV18,EV18,8-FR18-FS18)) -> 0 | FU18: =FS18+FR18+FT18 -> 8 | FV18: =IF(EW18-FS18<0,0,EW18-FS18) -> 0.23902528 | FW18: =EX18 -> 0.0011783589 | FX18: =FP18 -> 0.13424609 | FY18: =EV18-FT18 -> 0.30828536 | FZ18: =SUM(FV18:FY18) -> 0.68273508 | GA18: =IF(FZ18>5,0,IF(FZ18+FB18<5,FB18,5-FZ18)) -> 3.0104996 | GB18: =GA18+FZ18 -> 3.6932346 | GC18: =IF(GB18>5,0,IF(GB18+FQ18<5,FQ18,5-GB18)) -> 1.3067654 | GD18: =GC18+GB18 -> 5 | GE18: =IF(GD18=5,0,IF(GD18+FA18<5,FA18,5-GD18)) -> 0 | GF18: =GE18+GD18 -> 5 | GG18: =FB18-GA18 -> 0 | GH18: =FQ18-GC18 -> 0.19173227 | GI18: =FA18-GE18 -> 0.049231205 | GJ18: =SUM(GG18:GI18) -> 0.24096347 | GK18: =GJ18 -> 0.24096347 | GL18: =IF(FC18>2-GK18,2-GK18,FC18) -> 1.7590365 | GM18: =IF(GL18+GK18+FD18<2,FD18,2-GK18-GL18) -> 0 | GN18: =GL18+GK18+GM18 -> 2 | GP18: =IF(GL18<1,"Mg-Fe-Li grpup",IF(AND(GL18+GM18>=1,GM18<0.5),"CALCIC",IF(AND(GL18+GM18>=1,GM18>0.5),"SODIC-CALCIC"))) -> CALCIC | GR18: =IF(FD18-GM18>0,FD18-GM18,0) -> 0.65593941 | GS18: =FE18 -> 0.18062293 | GT18: =GS18+GR18 -> 0.83656233 | GU18: =IF(2-FC18-EZ18<=0.1,0,2-FC18-EZ18) -> 0 | GV18: =FD18-GU18 -> 0.65593941
A19: 10111123 | B19: Merapi (2010) | C19: =AVERAGE(AL19:AS19) -> 929.39568 | D19: =AI19 -> 2.2991665 | F19: 60.188394 | G19: 0.64118283 | H19: 17.663178 | I19: 6.2943074 | J19: 0.16278886 | K19: 1.7872776 | L19: 6.2093368 | M19: 3.8039788 | N19: 3.2983334 | O19: 0 | P19: 0.3211886 | Q19: =Q18 -> 5 | S19: 40.37 | T19: 2.28 | U19: 10.06 | V19: 11.76 | W19: 0.19 | X19: 12.41 | Y19: 10.4 | Z19: 2.09 | AA19: 0.82 | AB19: 0 | AD19: =0.7996+15.347*SQRT(AH19/10)-0.00233*AL19+0.06248*(N19+M19) -> 9.5210958 | AF19: =(DN19/DP19)/(CM19/CO19) -> 0.26907888 | AG19: =751.95-0.4*AL19-278000/AL19-9.184*EW19 -> 64.774798 | AH19: =ROUND(10*(-3.093-4.274*LN(EW19/CK19)-4.216*LN(CK19)+63.3*CS19+1.264*CT19+2.457*EW19+1.86*FE19+0.4*LN(FD19/CQ19)),1) -> 4.6 | AI19: =-64.79-6.064*LN(EW19/CK19)+61.75*CI19+682*CS19-101.9*CP19+7.85*EW19-46.46*LN(CI19)-4.81*LN(CQ19+CR19) -> 2.2991665 | AJ19: =-45.55+26.65*EW19+22.52*FE19+439*CD19/CH19-51.1*LN(BV19/CH19)-46.3*LN(EW19/(BV19/CH19))+5.231*LN(FD19/(CB19/CH19)) -> 4.7348234 | AL19: =1781-132.74*EU19+116.6*EV19-69.41*EZ19+101.62*FD19 -> 914.63456 | AM19: =1687-118.7*EU19+131.56*EV19-71.41*EZ19+86.13*FD19+22.44*AH19/10 -> 912.33652 | AN19: =2061-178.4*EU19 -> 911.82051 | AO19: =(24429.2)/(2.31+42.1*CM19+32.2*CP19+2.21*LN(CI19)-1.4*LN(CJ19)-2.666*LN((CM19+CO19)*CK19)) -> 945.73157 | AP19: =6383.4/(-12.07+45.4*CK19+12.21*CM19-0.415*LN(CJ19)-3.555*LN(CK19)-0.832*LN(CQ19)-0.481*LN((CM19+CO19+CN19)*CK19)-0.679*LN(FD19/CQ19)) -> 959.95762 | AQ19: =8037.85/(3.69-2.62*CT19+0.66*EZ19-0.416*LN(CJ19)+0.37*LN(CO19)-1.05*LN((CM19+CO19+CN19)*CK19)-0.462*LN(EV19/CJ19)) -> 946.79287 | AR19: =1201.4-97.93*EU19+201.82*EV19+72.85*FB19+88.9*FD19+40.65*AH19/10 -> 917.03663 | AS19: =10073.5/(9.75+0.934*EU19-1.454*EV19-0.882*FB19-1.123*FD19-0.322*LN(CM19)-0.7593*LN(EW19/CK19)-0.15*AZ19) -> 926.85515 | AU19: =0.5+0.331*EW19+0.995*EW19^2 -> 4.6874472 | AW19: =(71975-11896*LN(FL19))/(8.3144*LN(FJ19)+58) -> 909.46512 | AX19: =107*LN(DD19)-108*LN(FL19)+1184 -> 940.95642 | AZ19: =LN((GS19/GV19)*(CQ19/CR19)) -> -0.79298474 | BB19: =10*(EXP(125.93-9.5876*EU19*13/FH19-10.116*EV19*13/FH19-8.1735*EW19*13/FH19-9.2261*EZ19*13/FH19-8.7934*FB19*13/FH19-1.6659*FC19+2.4835*FD19+2.5192*FE19))/1000 -> 3.9445176 | BC19: =10*(EXP(38.723-2.6957*EU19*13/FH19-2.3565*EV19*13/FH19-1.3006*EW19*13/FH19-2.778*EZ19*13/FH19-2.4838*FB19*13/FH19-0.6614*FC19-0.2705*FD19+0.1117*FE19))/1000 -> 2.7199578 | BD19: =10*(24023-1925.3*EU19*13/FH19-1720.6*EV19*13/FH19-1478.5*EW19*13/FH19-1843.2*EZ19*13/FH19-1746.9*FB19*13/FH19-158.28*FC19-40.444*FD19+253.52*FE19)/1000 -> 3.1624069 | BE19: =10*(26106-1991.9*EU19*13/FH19-3035*EV19*13/FH19-1472.2*EW19*13/FH19-2454.8*EZ19*13/FH19-2125.8*FB19*13/FH19-830.64*FC19+2708.8*FD19+2204.1*FE19)/1000 -> 4.8535854 | BF19: =10*EXP(26.543-1.2085*EU19*13/FH19-3.8593*EV19*13/FH19-1.1054*EW19*13/FH19-2.9068*EZ19*13/FH19-2.6483*FB19*13/FH19+0.5134*FC19+2.9752*FD19+1.8147*FE19)/1000 -> 7.6826413 | BG19: =10*(19.209*EXP(1.438*EW19*13/FF19))/1000 -> 2.051758 | BI19: =EZ19/(EZ19+FB19) -> 0.34708698 | BJ19: =IF(AND(BI19<0.65,OR(AP19<800,AQ19<800,AO19<800,AM19<800)),"YES","NO") -> NO | BK19: =(-3.92+5.03*EW19) -> 5.5960594 | BL19: =1.27*(EW19^2.01) -> 4.5745769 | BM19: =0.26*EXP(1.48*EW19) -> 4.2754109 | BN19: =(-4.76+5.64*EW19) -> 5.9100945 | BO19: =(-3.46+4.23*EW19) -> 4.5425709 | BP19: =(4.76*EW19-3.01-((C19-675)/85)*(0.53*EW19+0.005294*(C19-675))) -> -1.0364099 | BQ19: =(5.03*EW19-3.53) -> 5.9860594 | BR19: =(-3.01+4.76*EW19) -> 5.995257 | BT19: =F19/BT$6 -> 1.0017325 | BU19: =G19/BU$6 -> 0.0080269462 | BV19: =H19/BV$6 -> 0.17323465 | BW19: =O19/CC$6 -> 0 | BX19: =I19/BW$6 -> 0.087607833 | BY19: =J19/BX$6 -> 0.0022948209 | BZ19: =K19/BY$6 -> 0.044344479 | CA19: =L19/BZ$6 -> 0.11072797 | CB19: =M19/CA$6 -> 0.061375384 | CC19: =N19/CB$6 -> 0.035015642 | CD19: =P19/CD$6 -> 0.0022628955 | CE19: =Q19/CE$6 -> 0.27756375 | CF19: =SUM(BT19:CE19) -> 1.8041868 | CG19: =BT19+BU19+BX19+BY19+BZ19+CA19+2*(BV19+BW19+CB19+CC19+CD19) -> 1.7985117 | CH19: =SUM(BT19:CD19) -> 1.5266231 | CI19: =BT19/$CF19 -> 0.55522657 | CJ19: =BU19/$CF19 -> 0.004449066 | CK19: =BV19/$CF19 -> 0.096018134 | CL19: =BW19/$CF19 -> 0 | CM19: =BX19/$CF19 -> 0.048558071 | CN19: =BY19/$CF19 -> 0.001271942 | CO19: =BZ19/$CF19 -> 0.024578652 | CP19: =CA19/$CF19 -> 0.061372786 | ... CT19: =CE19/$CF19 -> 0.15384424 | CU19: =SUM(CI19:CT19) -> 1 | CV19: =SUM(CI19:CS19) -> 0.84615576 | CX19: =BT19/$CG19 -> 0.55697857 | CY19: =BU19/$CG19 -> 0.0044631049 | CZ19: =BV19*2/$CG19 -> 0.19264224 | DA19: =BW19*2/$CG19 -> 0 | DB19: =BX19/$CG19 -> 0.048711295 | DC19: =BY19/$CG19 -> 0.0012759555 | DD19: =BZ19/$CG19 -> 0.024656209 | DE19: =CA19/$CG19 -> 0.061566447 | DF19: =CB19*2/$CG19 -> 0.068251305 | DG19: =CC19*2/$CG19 -> 0.038938465 | DH19: =CD19*2/$CG19 -> 0.0025164091 | DI19: =SUM(CX19:DH19) -> 1 | DJ19: =S19/DJ$6 -> 0.67188933 | DK19: =T19/DK$6 -> 0.028543243 | DL19: =U19/DL$6 -> 0.098665176 | DM19: =AB19/DM$6 -> 0 | DN19: =V19/DN$6 -> 0.16368252 | DO19: =W19/DO$6 -> 0.0026784141 | DP19: =X19/DP$6 -> 0.30790683 | DQ19: =Y19/DQ$6 -> 0.18545796 | DR19: =Z19/DR$6 -> 0.033721153 | DS19: =AA19/DS$6 -> 0.0087052529 | DT19: =SUM(DJ19:DS19) -> 1.5012499 | DU19: =S19/DJ$7 -> 0.67188933 | DV19: =T19/DK$7 -> 0.028543243 | DW19: =U19/DL$7 -> 0.19733035 | DX19: =AB19/DM$7 -> 0 | DZ19: =V19/DN$7 -> 0.16368252 | EA19: =W19/DO$7 -> 0.0026784141 | EB19: =X19/DP$7 -> 0.30790683 | EC19: =Y19/DQ$7 -> 0.18545796 | ED19: =Z19/DR$7 -> 0.067442307 | EE19: =AA19/DS$7 -> 0.017410506 | EG19: =DJ19*2 -> 1.3437787 | EH19: =DK19*2 -> 0.057086486 | EI19: =DL19*3 -> 0.29599553 | EJ19: =DM19*3 -> 0 | EL19: =DN19 -> 0.16368252 | EM19: =DO19 -> 0.0026784141 | EN19: =DP19 -> 0.30790683 | EO19: =DQ19 -> 0.18545796 | EP19: =DR19 -> 0.033721153 | EQ19: =DS19 -> 0.0087052529 | ER19: =SUM(EG19:EQ19) -> 2.3990128 | ES19: =23/ER19 -> 9.5872769 | EU19: =DU19*$ES19 -> 6.441589 | EV19: =DV19*$ES19 -> 0.27365197 | EW19: =DW19*$ES19 -> 1.8918607 | EX19: =DX19*$ES19 -> 0 | EZ19: =DZ19*$ES19 -> 1.5692697 | FA19: =EA19*$ES19 -> 0.025678698 | FB19: =EB19*$ES19 -> 2.951988 | FC19: =EC19*$ES19 -> 1.7780368 | FD19: =ED19*$ES19 -> 0.64658807 | FE19: =EE19*$ES19 -> 0.16691934 | FF19: =SUM(EU19:FC19) -> 14.932075 | FG19: =SUM(EU19:FE19) -> 15.745582 | FH19: =SUM(EU19:FB19) -> 13.154038 | FI19: =IF(OR(FG19>16,FG19<15),"BAD","Good") -> Good | FJ19: =(FB19*13/(EU19+EV19+EW19+EZ19+FA19+FB19))/(DD19) -> 118.32392 | FK19: =FB19/(FB19+EZ19) -> 0.65291302 | FL19: =DE19/(DE19+CZ19) -> 0.24218861 | FN19: =5.5976-24505/(AM19+273.15)+0.8099*LOG(AM19+273.15)+0.0937*(AH19*1000-1)/(273.15+AM19)+$G$6 -> -12.220188 | FO19: =EXP(-6.53+10813.8/(AM19+273.15)+0.19*FN19*2.3026+12.4*(CB19+CC19)/CG19-3.44*BV19/(BV19+BT19)+4.15*CA19/CG19) -> 0.096179099 | FP19: =(EZ19)*FO19/(1+2*FO19) -> 0.12658188 | FQ19: =(EZ19)-FP19 -> 1.4426878 | FR19: =EU19 -> 6.441589 | FS19: =IF(EU19+EW19>8,8-EU19,EW19) -> 1.558411 | FT19: =IF(FS19+FR19=8,0,IF(8<FS19+FR19+EV19,EV19,8-FR19-FS19)) -> 0 | FU19: =FS19+FR19+FT19 -> 8 | FV19: =IF(EW19-FS19<0,0,EW19-FS19) -> 0.33344977 | FW19: =EX19 -> 0 | FX19: =FP19 -> 0.12658188 | FY19: =EV19-FT19 -> 0.27365197 | FZ19: =SUM(FV19:FY19) -> 0.73368362 | GA19: =IF(FZ19>5,0,IF(FZ19+FB19<5,FB19,5-FZ19)) -> 2.951988 | GB19: =GA19+FZ19 -> 3.6856716 | GC19: =IF(GB19>5,0,IF(GB19+FQ19<5,FQ19,5-GB19)) -> 1.3143284 | GD19: =GC19+GB19 -> 5 | GE19: =IF(GD19=5,0,IF(GD19+FA19<5,FA19,5-GD19)) -> 0 | GF19: =GE19+GD19 -> 5 | GG19: =FB19-GA19 -> 0 | GH19: =FQ19-GC19 -> 0.12835944 | GI19: =FA19-GE19 -> 0.025678698 | GJ19: =SUM(GG19:GI19) -> 0.15403814 | GK19: =GJ19 -> 0.15403814 | GL19: =IF(FC19>2-GK19,2-GK19,FC19) -> 1.7780368 | GM19: =IF(GL19+GK19+FD19<2,FD19,2-GK19-GL19) -> 0.067925084 | GN19: =GL19+GK19+GM19 -> 2 | GP19: =IF(GL19<1,"Mg-Fe-Li grpup",IF(AND(GL19+GM19>=1,GM19<0.5),"CALCIC",IF(AND(GL19+GM19>=1,GM19>0.5),"SODIC-CALCIC"))) -> CALCIC | GR19: =IF(FD19-GM19>0,FD19-GM19,0) -> 0.57866299 | GS19: =FE19 -> 0.16691934 | GT19: =GS19+GR19 -> 0.74558233 | GU19: =IF(2-FC19-EZ19<=0.1,0,2-FC19-EZ19) -> 0 | GV19: =FD19-GU19 -> 0.64658807
A20: 10110511 | B20: Merapi (2010) | C20: =AVERAGE(AL20:AS20) -> 957.49582 | D20: =AI20 -> 3.0651276 | F20: 63.785726 | G20: 0.55906486 | H20: 16.568039 | I20: 5.0856264 | J20: 0.13675938 | K20: 1.2913689 | L20: 4.5023098 | M20: 3.7964397 | N20: 4.2137847 | O20: 0 | P20: 0.3208149 | Q20: =Q19 -> 5 | S20: 43.4 | T20: 3.39 | U20: 12.15 | V20: 15.28 | W20: 0.67 | X20: 14.38 | Y20: 11.55 | Z20: 2.48 | AA20: 1.14 | AB20: 0.22 | AD20: =0.7996+15.347*SQRT(AH20/10)-0.00233*AL20+0.06248*(N20+M20) -> 10.653386 | AF20: =(DN20/DP20)/(CM20/CO20) -> 0.26981764 | AG20: =751.95-0.4*AL20-278000/AL20-9.184*EW20 -> 60.05693 | AH20: =ROUND(10*(-3.093-4.274*LN(EW20/CK20)-4.216*LN(CK20)+63.3*CS20+1.264*CT20+2.457*EW20+1.86*FE20+0.4*LN(FD20/CQ20)),1) -> 5.7 | AI20: =-64.79-6.064*LN(EW20/CK20)+61.75*CI20+682*CS20-101.9*CP20+7.85*EW20-46.46*LN(CI20)-4.81*LN(CQ20+CR20) -> 3.0651276 | AJ20: =-45.55+26.65*EW20+22.52*FE20+439*CD20/CH20-51.1*LN(BV20/CH20)-46.3*LN(EW20/(BV20/CH20))+5.231*LN(FD20/(CB20/CH20)) -> 6.4367717 | AL20: =1781-132.74*EU20+116.6*EV20-69.41*EZ20+101.62*FD20 -> 958.55077 | AM20: =1687-118.7*EU20+131.56*EV20-71.41*EZ20+86.13*FD20+22.44*AH20/10 -> 954.15003 | AN20: =2061-178.4*EU20 -> 974.69006 | AO20: =(24429.2)/(2.31+42.1*CM20+32.2*CP20+2.21*LN(CI20)-1.4*LN(CJ20)-2.666*LN((CM20+CO20)*CK20)) -> 937.81314 | AP20: =6383.4/(-12.07+45.4*CK20+12.21*CM20-0.415*LN(CJ20)-3.555*LN(CK20)-0.832*LN(CQ20)-0.481*LN((CM20+CO20+CN20)*CK20)-0.679*LN(FD20/CQ20)) -> 956.90158 | AQ20: =8037.85/(3.69-2.62*CT20+0.66*EZ20-0.416*LN(CJ20)+0.37*LN(CO20)-1.05*LN((CM20+CO20+CN20)*CK20)-0.462*LN(EV20/CJ20)) -> 922.63394 | AR20: =1201.4-97.93*EU20+201.82*EV20+72.85*FB20+88.9*FD20+40.65*AH20/10 -> 979.54812 | AS20: =10073.5/(9.75+0.934*EU20-1.454*EV20-0.882*FB20-1.123*FD20-0.322*LN(CM20)-0.7593*LN(EW20/CK20)-0.15*AZ20) -> 975.67895 | AU20: =0.5+0.331*EW20+0.995*EW20^2 -> 5.1813288 | AW20: =(71975-11896*LN(FL20))/(8.3144*LN(FJ20)+58) -> 908.56358 | AX20: =107*LN(DD20)-108*LN(FL20)+1184 -> 928.08274 | AZ20: =LN((GS20/GV20)*(CQ20/CR20)) -> -0.88152782 | BB20: =10*(EXP(125.93-9.5876*EU20*13/FH20-10.116*EV20*13/FH20-8.1735*EW20*13/FH20-9.2261*EZ20*13/FH20-8.7934*FB20*13/FH20-1.6659*FC20+2.4835*FD20+2.5192*FE20))/1000 -> 12.04649 | BC20: =10*(EXP(38.723-2.6957*EU20*13/FH20-2.3565*EV20*13/FH20-1.3006*EW20*13/FH20-2.778*EZ20*13/FH20-2.4838*FB20*13/FH20-0.6614*FC20-0.2705*FD20+0.1117*FE20))/1000 -> 3.8976624 | BD20: =10*(24023-1925.3*EU20*13/FH20-1720.6*EV20*13/FH20-1478.5*EW20*13/FH20-1843.2*EZ20*13/FH20-1746.9*FB20*13/FH20-158.28*FC20-40.444*FD20+253.52*FE20)/1000 -> 5.4860585 | BE20: =10*(26106-1991.9*EU20*13/FH20-3035*EV20*13/FH20-1472.2*EW20*13/FH20-2454.8*EZ20*13/FH20-2125.8*FB20*13/FH20-830.64*FC20+2708.8*FD20+2204.1*FE20)/1000 -> 7.0132477 | BF20: =10*EXP(26.543-1.2085*EU20*13/FH20-3.8593*EV20*13/FH20-1.1054*EW20*13/FH20-2.9068*EZ20*13/FH20-2.6483*FB20*13/FH20+0.5134*FC20+2.9752*FD20+1.8147*FE20)/1000 -> 5.5904569 | BG20: =10*(19.209*EXP(1.438*EW20*13/FF20))/1000 -> 2.311755 | BI20: =EZ20/(EZ20+FB20) -> 0.37346896 | BJ20: =IF(AND(BI20<0.65,OR(AP20<800,AQ20<800,AO20<800,AM20<800)),"YES","NO") -> NO | BK20: =(-3.92+5.03*EW20) -> 6.1857919 | BL20: =1.27*(EW20^2.01) -> 5.1622434 | BM20: =0.26*EXP(1.48*EW20) -> 5.0855333 | BN20: =(-4.76+5.64*EW20) -> 6.5713452 | BO20: =(-3.46+4.23*EW20) -> 5.0385089 | BP20: =(4.76*EW20-3.01-((C20-675)/85)*(0.53*EW20+0.005294*(C20-675))) -> -1.9559651 | BQ20: =(5.03*EW20-3.53) -> 6.5757919 | BR20: =(-3.01+4.76*EW20) -> 6.5533339 | BT20: =F20/BT$6 -> 1.0616039 | BU20: =G20/BU$6 -> 0.0069989141 | BV20: =H20/BV$6 -> 0.16249389 | BW20: =O20/CC$6 -> 0 | BX20: =I20/BW$6 -> 0.070784707 | BY20: =J20/BX$6 -> 0.0019278855 | BZ20: =K20/BY$6 -> 0.032040396 | CA20: =L20/BZ$6 -> 0.080287421 | CB20: =M20/CA$6 -> 0.061253744 | CC20: =N20/CB$6 -> 0.044734221 | CD20: =P20/CD$6 -> 0.0022602626 | CE20: =Q20/CE$6 -> 0.27756375 | CF20: =SUM(BT20:CE20) -> 1.8019491 | CG20: =BT20+BU20+BX20+BY20+BZ20+CA20+2*(BV20+BW20+CB20+CC20+CD20) -> 1.7951274 | CH20: =SUM(BT20:CD20) -> 1.5243853 | CI20: =BT20/$CF20 -> 0.589142 | CJ20: =BU20/$CF20 -> 0.0038840799 | CK20: =BV20/$CF20 -> 0.090176737 | CL20: =BW20/$CF20 -> 0 | CM20: =BX20/$CF20 -> 0.039282302 | CN20: =BY20/$CF20 -> 0.001069889 | CO20: =BZ20/$CF20 -> 0.017780966 | CP20: =CA20/$CF20 -> 0.044555877 | ... CT20: =CE20/$CF20 -> 0.15403529 | CU20: =SUM(CI20:CT20) -> 1 | CV20: =SUM(CI20:CS20) -> 0.84596471 | CX20: =BT20/$CG20 -> 0.59138079 | CY20: =BU20/$CG20 -> 0.0038988397 | CZ20: =BV20*2/$CG20 -> 0.18103883 | DA20: =BW20*2/$CG20 -> 0 | DB20: =BX20/$CG20 -> 0.039431578 | DC20: =BY20/$CG20 -> 0.0010739547 | DD20: =BZ20/$CG20 -> 0.017848535 | DE20: =CA20/$CG20 -> 0.044725193 | DF20: =CB20*2/$CG20 -> 0.068244452 | DG20: =CC20*2/$CG20 -> 0.049839605 | DH20: =CD20*2/$CG20 -> 0.0025182197 | DI20: =SUM(CX20:DH20) -> 1 | DJ20: =S20/DJ$6 -> 0.72231848 | DK20: =T20/DK$6 -> 0.042439296 | DL20: =U20/DL$6 -> 0.11916321 | DM20: =AB20/DM$6 -> 0.0014474998 | DN20: =V20/DN$6 -> 0.21267593 | DO20: =W20/DO$6 -> 0.0094449339 | DP20: =X20/DP$6 -> 0.35678487 | DQ20: =Y20/DQ$6 -> 0.20596533 | DR20: =Z20/DR$6 -> 0.040013618 | DS20: =AA20/DS$6 -> 0.012102425 | DT20: =SUM(DJ20:DS20) -> 1.7223556 | DU20: =S20/DJ$7 -> 0.72231848 | DV20: =T20/DK$7 -> 0.042439296 | DW20: =U20/DL$7 -> 0.23832642 | DX20: =AB20/DM$7 -> 0.0028949997 | DZ20: =V20/DN$7 -> 0.21267593 | EA20: =W20/DO$7 -> 0.0094449339 | EB20: =X20/DP$7 -> 0.35678487 | EC20: =Y20/DQ$7 -> 0.20596533 | ED20: =Z20/DR$7 -> 0.080027235 | EE20: =AA20/DS$7 -> 0.024204849 | EG20: =DJ20*2 -> 1.444637 | EH20: =DK20*2 -> 0.084878591 | EI20: =DL20*3 -> 0.35748963 | EJ20: =DM20*3 -> 0.0043424995 | EL20: =DN20 -> 0.21267593 | EM20: =DO20 -> 0.0094449339 | EN20: =DP20 -> 0.35678487 | EO20: =DQ20 -> 0.20596533 | EP20: =DR20 -> 0.040013618 | EQ20: =DS20 -> 0.012102425 | ER20: =SUM(EG20:EQ20) -> 2.7283348 | ES20: =23/ER20 -> 8.4300505 | EU20: =DU20*$ES20 -> 6.0891813 | EV20: =DV20*$ES20 -> 0.35776541 | EW20: =DW20*$ES20 -> 2.0091038 | EX20: =DX20*$ES20 -> 0.024404994 | EZ20: =DZ20*$ES20 -> 1.7928688 | FA20: =EA20*$ES20 -> 0.07962127 | FB20: =EB20*$ES20 -> 3.0077145 | FC20: =EC20*$ES20 -> 1.7362981 | FD20: =ED20*$ES20 -> 0.67463364 | FE20: =EE20*$ES20 -> 0.2040481 | FF20: =SUM(EU20:FC20) -> 15.096958 | FG20: =SUM(EU20:FE20) -> 15.97564 | FH20: =SUM(EU20:FB20) -> 13.36066 | FI20: =IF(OR(FG20>16,FG20<15),"BAD","Good") -> Good | FJ20: =(FB20*13/(EU20+EV20+EW20+EZ20+FA20+FB20))/(DD20) -> 164.26441 | FK20: =FB20/(FB20+EZ20) -> 0.62653104 | FL20: =DE20/(DE20+CZ20) -> 0.19810593 | FN20: =5.5976-24505/(AM20+273.15)+0.8099*LOG(AM20+273.15)+0.0937*(AH20*1000-1)/(273.15+AM20)+$G$6 -> -11.432153 | FO20: =EXP(-6.53+10813.8/(AM20+273.15)+0.19*FN20*2.3026+12.4*(CB20+CC20)/CG20-3.44*BV20/(BV20+BT20)+4.15*CA20/CG20) -> 0.10441677 | FP20: =(EZ20)*FO20/(1+2*FO20) -> 0.15486464 | FQ20: =(EZ20)-FP20 -> 1.6380042 | FR20: =EU20 -> 6.0891813 | FS20: =IF(EU20+EW20>8,8-EU20,EW20) -> 1.9108187 | FT20: =IF(FS20+FR20=8,0,IF(8<FS20+FR20+EV20,EV20,8-FR20-FS20)) -> 0 | FU20: =FS20+FR20+FT20 -> 8 | FV20: =IF(EW20-FS20<0,0,EW20-FS20) -> 0.098285009 | FW20: =EX20 -> 0.024404994 | FX20: =FP20 -> 0.15486464 | FY20: =EV20-FT20 -> 0.35776541 | FZ20: =SUM(FV20:FY20) -> 0.63532005 | GA20: =IF(FZ20>5,0,IF(FZ20+FB20<5,FB20,5-FZ20)) -> 3.0077145 | GB20: =GA20+FZ20 -> 3.6430345 | GC20: =IF(GB20>5,0,IF(GB20+FQ20<5,FQ20,5-GB20)) -> 1.3569655 | GD20: =GC20+GB20 -> 5 | GE20: =IF(GD20=5,0,IF(GD20+FA20<5,FA20,5-GD20)) -> 0 | GF20: =GE20+GD20 -> 5 | GG20: =FB20-GA20 -> 0 | GH20: =FQ20-GC20 -> 0.28103871 | GI20: =FA20-GE20 -> 0.07962127 | GJ20: =SUM(GG20:GI20) -> 0.36065998 | GK20: =GJ20 -> 0.36065998 | GL20: =IF(FC20>2-GK20,2-GK20,FC20) -> 1.63934 | GM20: =IF(GL20+GK20+FD20<2,FD20,2-GK20-GL20) -> 0 | GN20: =GL20+GK20+GM20 -> 2 | GP20: =IF(GL20<1,"Mg-Fe-Li grpup",IF(AND(GL20+GM20>=1,GM20<0.5),"CALCIC",IF(AND(GL20+GM20>=1,GM20>0.5),"SODIC-CALCIC"))) -> CALCIC | GR20: =IF(FD20-GM20>0,FD20-GM20,0) -> 0.67463364 | GS20: =FE20 -> 0.2040481 | GT20: =GS20+GR20 -> 0.87868174 | GU20: =IF(2-FC20-EZ20<=0.1,0,2-FC20-EZ20) -> 0 | GV20: =FD20-GU20 -> 0.67463364
