Workbook

Sheet Instructions

Sheet Amphibole P-T calcs
A1: Amphibole-liquid Thermometers and Barometers
AV2: 0 | AW2: =AV2 -> 0
A3: INPUT IS IN GRAY CELLS | G3: Choose Log units(x) above or below | AV3: 1 | AW3: =AV3 -> 1
A4: 1) Enter Liquid compositions in columns F-Q, & amphibole compositions in S-AB | G4: Quartz-Fayalite-Magnetite (QFM) buffer | AV4: 4 | AW4: =AV4 -> 4 | BT4: Molecular weights | DJ4: Molecular weights
A5: 2) To add more data, select an entire row below, by selecting a row nubmer, then copy and paste into | G5: X = | AV5: 7 | AW5: =AV5 -> 7 | BT5: SiO2 | BU5: TiO2 | BV5: Al2O3 | BW5: FeO | BX5: MnO | BY5: MgO | BZ5: CaO | CA5: Na2O | CB5: K2O | CC5: Cr2O3 | CD5: P2O5 | CE5: H2O | DJ5: SiO2 | DK5: TiO2 | DL5: Al2O3 | DM5: Cr2O3 | DN5: FeO | DO5: MnO | DP5: MgO | DQ5: CaO | DR5: Na2O | DS5: K2O | DT5: H2O
A6: empty rows below. Add new data as in step 1). Then "Fill down" in "Amph exhcg components sheet" | G6: 0 | AV6: 12 | AW6: =AV6 -> 12 | BT6: 60.0843 | BU6: 79.8788 | BV6: 101.961 | BW6: 71.8464 | BX6: 70.9375 | BY6: 40.3044 | BZ6: 56.0774 | CA6: 61.9789 | CB6: 94.196 | CC6: =3*15.998+2*51.9961 -> 151.9862 | CD6: =2*30.97+5*15.9994 -> 141.937 | CE6: =15.998+2*1.00794 -> 18.01388 | DJ6: 60.0843 | DK6: 79.8788 | DL6: 101.961 | DM6: =3*15.998+2*51.9961 -> 151.9862 | DN6: 71.8464 | DO6: 70.9375 | DP6: 40.3044 | DQ6: 56.0774 | DR6: 61.9789 | DS6: 94.196 | DT6: =15.998+2*1.00794 -> 18.01388
A7: OUTPUT IS IN BLUE CELLS | BT7: =BT6 -> 60.0843 | BU7: =BU6 -> 79.8788 | BV7: =0.5*BV6 -> 50.9805 | BW7: =BW6 -> 71.8464 | BX7: =BX6 -> 70.9375 | BY7: =BY6 -> 40.3044 | BZ7: =BZ6 -> 56.0774 | CA7: =CA6/2 -> 30.98945 | CB7: =CB6/2 -> 47.098 | CC7: =CC6/2 -> 75.9931 | CD7: =CD6/2 -> 70.9685 | CE7: =CE6/2 -> 9.00694 | DJ7: =DJ6 -> 60.0843 | DK7: =DK6 -> 79.8788 | DL7: =0.5*DL6 -> 50.9805 | DM7: =DM6/2 -> 75.9931 | DN7: 71.8464 | DO7: =DO6 -> 70.9375 | DP7: =DP6 -> 40.3044 | DQ7: =DQ6 -> 56.0774 | DR7: =DR6/2 -> 30.98945 | DS7: =DS6/2 -> 47.098 | DT7: =DT6/2 -> 9.00694
A8: P-T-X in Columns AD to BP; cations on 23 O in ES-FC;
A9: Site occupancies in FO-GQ
C11: Leave these cells blank | AH11: Barometers from Putirka (2016) Am Min | AL11: Thermometers from Putirka (2016) American Mineralogist | BK11: Al-in-hornblende barometers | EU11: 23 Oxygens + H2O = 22 oxygens plus 2(OH) (So, 23 anhydrous cations, +H2O, or 22 cations plus H and 2(OH)) | FR11: Site Occupanices
C12: (test of models using expt'l data) | F12: Enter (in wt. %) | S12: Enter (in wt. %) | AF12: Test for Equilibrium | AG12: Predict SiO2 | AH12: P(kbar) | AL12: T(C ) | AU12: Mutch et al. (2016) | AW12: Molina et al. (2015) | AZ12: Helz (1979) | BB12: Ridolfi and Renzulli (2012) | BG12: Ridolfi et al. (2010) | BJ12: Passes Anderson | BK12: P(kbar) | BT12: Liquid - hydrous | CI12: Liquid - hydrous | CX12: Liquid - anhydrous | FN12: From Fegley (2012)
C13: Reported | D13: Reported | F13: Liquid Composition | S13: Amphibole Compositions | AD13: H2O(Liq) wt. % | AF13: Eqn. 2: KD = 0.28±0.11 | AG13: In Amph Equilib Liq | AH13: D(Al) | AI13: D(Al) | AJ13: D(Al) | AL13: P indep | AM13: P dep | AO13: Liquid Only | AP13: D(Na) | AQ13: D(Ti) | AR13: Global Sat | AS13: Global, Na-K exchg | AU13: P(kbar) | AW13: T(C) | AZ13: Coeff | BB13: P(kbar) | BG13: P(kbar) | BI13: Hbl | BJ13: & Smith Test? | BK13: Hammerstrom & | BL13: Hammerstrom & | BM13: Hammerstrom & | BN13: Hollister et al | BO13: Johnson and | BP13: Anderson and | BQ13: Blundy et al. | BR13: Schmidt | BT13: Trad Mole prop | CG13: anhyd | CH13: anhyd | CI13: Trad Mole fractions | CX13: Cation Fractions | DJ13: Amphibole Mole Proportions - ahydrous | DU13: Amphibole Number of Cations | EG13: Amphibole - Total # of O | EU13: Amphibole Cations on Basis of 23 O | FF13: Anhydrous | FG13: Cation | FI13: Cat sum must be | FN13: QFM ± X | FO13: liquid & Amph | FP13: Amph | FQ13: Amph | FR13: Tetrahedral cations | FV13: C | GG13: excess | GK13: B | GP13: Leake et al. | GR13: A
A14: Data Source | C14: T (C) | D14: P (kbar) | F14: SiO2 | G14: TiO2 | H14: Al2O3 | I14: FeOt | J14: MnO | K14: MgO | L14: CaO | M14: Na2O | N14: K2O | O14: Cr2O3 | P14: P2O5 | Q14: H2O | S14: SiO2 | T14: TiO2 | U14: Al2O3 | V14: FeOt | W14: MnO | X14: MgO | Y14: CaO | Z14: Na2O | AA14: K2O | AB14: Cr2O3 | AD14: At Saturation | AF14: KD(Fe-Mg) | AG14: Eqn. 10 SiO2 (wt. %) | AH14: Eqn. 7a | AI14: Eqn. 7b | AJ14: Eqn. 7c (anhyd 7a) | AL14: Eqn. 5 | AM14: Eqn. 6 | AN14: Si in Hbl Only | AO14: Eqn. 3 | AP14: Eqn. 4a | AQ14: Eqn. 4b | AR14: Eqn. 8 | AS14: Eqn. 9 | AU14: D(Mg) | AW14: D(Mg) | AX14: Liq only | AZ14: ln(KD(Na-K)) | BB14: 1a | BC14: 1b | BD14: 1c | BE14: 1d | BF14: 1e | BG14: Al-in-hbl | BI14: Fe# | BJ14: Fe#<0.65 AND T<800? | BK14: Zen (1986) 1 | BL14: Zen (1986) 2 | BM14: Zen (1986) 3 | BN14: 1987 | BO14: Rutherford, 1989 | BP14: Smith (1995) | BQ14: 1990 | BR14: 1992 | BT14: Wt: SiO2 | BU14: Wt: TiO2 | BV14: Wt: Al2O3 | BW14: Wt: Cr2O3 | BX14: FeOt | BY14: Wt: MnO | BZ14: Wt: MgO | CA14: Wt: CaO | CB14: Wt: Na2O | CC14: Wt: K2O | CD14: Wt: P2O5 | CE14: H2O | CF14: hyd sum | CG14: cation sum | CH14: mole frac sum | CI14: Wt: SiO2 | CJ14: Wt: TiO2 | CK14: Wt: Al2O3 | CL14: Wt: Cr2O3 | CM14: FeOt | CN14: Wt: MnO | CO14: Wt: MgO | CP14: Wt: CaO | CQ14: Wt: Na2O | CR14: Wt: K2O | CS14: Wt: P2O5 | CT14: H2O | CU14: Sum | CV14: Anhyd sum | CX14: Wt: SiO2 | CY14: Wt: TiO2 | CZ14: Wt: Al2O3 | DA14: Wt: Cr2O3 | DB14: FeOt | DC14: Wt: MnO | DD14: Wt: MgO | DE14: Wt: CaO | DF14: Wt: Na2O | DG14: Wt: K2O | DH14: Wt: P2O5 | DJ14: Wt: SiO2 | DK14: Wt: TiO2 | DL14: Wt: Al2O3 | DM14: Wt: Cr2O3 | DN14: FeOt | DO14: Wt: MnO | DP14: Wt: MgO | DQ14: Wt: CaO | DR14: Wt: Na2O | DS14: Wt: K2O | DT14: sum | DU14: Wt: SiO2 | DV14: Wt: TiO2 | DW14: Wt: Al2O3 | DX14: Wt: Cr2O3 | DY14: Fe2O3 | DZ14: FeOt | EA14: Wt: MnO | EB14: Wt: MgO | EC14: Wt: CaO | ED14: Wt: Na2O | EE14: Wt: K2O | EG14: Wt: SiO2 | EH14: Wt: TiO2 | EI14: Wt: Al2O3 | EJ14: Wt: Cr2O3 | EK14: Fe2O3 | EL14: FeOt | EM14: Wt: MnO | EN14: Wt: MgO | EO14: Wt: CaO | EP14: Wt: Na2O | EQ14: Wt: K2O | ER14: sum | ES14: oxy factor | EU14: Si | EV14: Ti | EW14: Al | EX14: Cr | EY14: Fe3+ | EZ14: Fe2+ | FA14: Mn | FB14: Mg | FC14: Ca | FD14: Na | FE14: K | FF14: cation sum | FG14: Sum | FH14: cat sum Si to Mg | FI14: betw. 15 & 16 | FJ14: D(Mg) | FK14: Mg# amph | FL14: Ca# (liq) | FN14: log[fO2] | FO14: Fe2O3/FeO | FP14: Fe3+ | FQ14: Fe2+ | FR14: Si | FS14: Al(IV) | FT14: Ti | FU14: sum T | FV14: Al(VI) | FW14: Cr | FX14: Fe3+ | FY14: Ti | FZ14: sum | GA14: Mg | GB14: sum | GC14: Fe | GD14: sum | GE14: Mn | GF14: sum C | GG14: Mg | GH14: Fe2+ | GI14: Mn | GJ14: total ex | GK14: Fm | GL14: Ca | GM14: Na | GN14: sum B | GP14: Group | GR14: Na | GS14: K | GT14: sum A | GU14: Na(M4) Helz | GV14: Na (A site) Helz
A15: 11211A | B15: Merapi (2010) | C15: =AVERAGE(AL15:AS15) -> 953.50442 | D15: =AI15 -> 4.2514947 | F15: 62.317403 | G15: 0.59258296 | H15: 17.015042 | I15: 5.5789738 | J15: 0.14738383 | K15: 1.493784 | L15: 5.1990672 | M15: 3.7995169 | N15: 3.8401249 | O15: 0 | P15: 0.32096743 | Q15: 5 | S15: 40.57 | T15: 2.45 | U15: 12.82 | V15: 13.11 | W15: 0.26 | X15: 13.02 | Y15: 11.63 | Z15: 2.2 | AA15: 0.92 | AB15: 0 | AD15: =0.7996+15.347*SQRT(AH15/10)-0.00233*AL15+0.06248*(N15+M15) -> 11.133826 | AF15: =(DN15/DP15)/(CM15/CO15) -> 0.26960329 | AG15: =751.95-0.4*AL15-278000/AL15-9.184*EW15 -> 57.936795 | AH15: =ROUND(10*(-3.093-4.274*LN(EW15/CK15)-4.216*LN(CK15)+63.3*CS15+1.264*CT15+2.457*EW15+1.86*FE15+0.4*LN(FD15/CQ15)),1) -> 6.2 | AI15: =-64.79-6.064*LN(EW15/CK15)+61.75*CI15+682*CS15-101.9*CP15+7.85*EW15-46.46*LN(CI15)-4.81*LN(CQ15+CR15) -> 4.2514947 | AJ15: =-45.55+26.65*EW15+22.52*FE15+439*CD15/CH15-51.1*LN(BV15/CH15)-46.3*LN(EW15/(BV15/CH15))+5.231*LN(FD15/(CB15/CH15)) -> 6.6912002 | AL15: =1781-132.74*EU15+116.6*EV15-69.41*EZ15+101.62*FD15 -> 955.93957 | AM15: =1687-118.7*EU15+131.56*EV15-71.41*EZ15+86.13*FD15+22.44*AH15/10 -> 952.26274 | AN15: =2061-178.4*EU15 -> 974.8557 | AO15: =(24429.2)/(2.31+42.1*CM15+32.2*CP15+2.21*LN(CI15)-1.4*LN(CJ15)-2.666*LN((CM15+CO15)*CK15)) -> 941.88672 | AP15: =6383.4/(-12.07+45.4*CK15+12.21*CM15-0.415*LN(CJ15)-3.555*LN(CK15)-0.832*LN(CQ15)-0.481*LN((CM15+CO15+CN15)*CK15)-0.679*LN(FD15/CQ15)) -> 955.64567 | AQ15: =8037.85/(3.69-2.62*CT15+0.66*EZ15-0.416*LN(CJ15)+0.37*LN(CO15)-1.05*LN((CM15+CO15+CN15)*CK15)-0.462*LN(EV15/CJ15)) -> 929.35579 | AR15: =1201.4-97.93*EU15+201.82*EV15+72.85*FB15+88.9*FD15+40.65*AH15/10 -> 955.29689 | AS15: =10073.5/(9.75+0.934*EU15-1.454*EV15-0.882*FB15-1.123*FD15-0.322*LN(CM15)-0.7593*LN(EW15/CK15)-0.15*AZ15) -> 962.79231 | AU15: =0.5+0.331*EW15+0.995*EW15^2 -> 6.3660196 | AW15: =(71975-11896*LN(FL15))/(8.3144*LN(FJ15)+58) -> 910.24894 | AX15: =107*LN(DD15)-108*LN(FL15)+1184 -> 933.54563 | AZ15: =LN((GS15/GV15)*(CQ15/CR15)) -> -0.88246992 | BB15: =10*(EXP(125.93-9.5876*EU15*13/FH15-10.116*EV15*13/FH15-8.1735*EW15*13/FH15-9.2261*EZ15*13/FH15-8.7934*FB15*13/FH15-1.6659*FC15+2.4835*FD15+2.5192*FE15))/1000 -> 5.9492046 | BC15: =10*(EXP(38.723-2.6957*EU15*13/FH15-2.3565*EV15*13/FH15-1.3006*EW15*13/FH15-2.778*EZ15*13/FH15-2.4838*FB15*13/FH15-0.6614*FC15-0.2705*FD15+0.1117*FE15))/1000 -> 4.2493418 | BD15: =10*(24023-1925.3*EU15*13/FH15-1720.6*EV15*13/FH15-1478.5*EW15*13/FH15-1843.2*EZ15*13/FH15-1746.9*FB15*13/FH15-158.28*FC15-40.444*FD15+253.52*FE15)/1000 -> 4.747204 | BE15: =10*(26106-1991.9*EU15*13/FH15-3035*EV15*13/FH15-1472.2*EW15*13/FH15-2454.8*EZ15*13/FH15-2125.8*FB15*13/FH15-830.64*FC15+2708.8*FD15+2204.1*FE15)/1000 -> 5.8756665 | BF15: =10*EXP(26.543-1.2085*EU15*13/FH15-3.8593*EV15*13/FH15-1.1054*EW15*13/FH15-2.9068*EZ15*13/FH15-2.6483*FB15*13/FH15+0.5134*FC15+2.9752*FD15+1.8147*FE15)/1000 -> 8.0837246 | BG15: =10*(19.209*EXP(1.438*EW15*13/FF15))/1000 -> 3.1852931 | BI15: =EZ15/(EZ15+FB15) -> 0.36096431 | BJ15: =IF(AND(BI15<0.65,OR(AP15<800,AQ15<800,AO15<800,AM15<800)),"YES","NO") -> NO | BK15: =(-3.92+5.03*EW15) -> 7.4851394 | BL15: =1.27*(EW15^2.01) -> 6.5830063 | BM15: =0.26*EXP(1.48*EW15) -> 7.4537174 | BN15: =(-4.76+5.64*EW15) -> 8.0282676 | BO15: =(-3.46+4.23*EW15) -> 6.1312007 | BP15: =(4.76*EW15-3.01-((C15-675)/85)*(0.53*EW15+0.005294*(C15-675))) -> -0.98548763 | BQ15: =(5.03*EW15-3.53) -> 7.8751394 | BR15: =(-3.01+4.76*EW15) -> 7.7829351 | BT15: =F15/BT$6 -> 1.0371662 | BU15: =G15/BU$6 -> 0.007418526 | BV15: =H15/BV$6 -> 0.16687795 | BW15: =O15/CC$6 -> 0 | BX15: =I15/BW$6 -> 0.077651404 | BY15: =J15/BX$6 -> 0.0020776576 | BZ15: =K15/BY$6 -> 0.037062554 | CA15: =L15/BZ$6 -> 0.092712344 | CB15: =M15/CA$6 -> 0.061303394 | CC15: =N15/CB$6 -> 0.040767388 | CD15: =P15/CD$6 -> 0.0022613373 | CE15: =Q15/CE$6 -> 0.27756375 | CF15: =SUM(BT15:CE15) -> 1.8028625 | CG15: =BT15+BU15+BX15+BY15+BZ15+CA15+2*(BV15+BW15+CB15+CC15+CD15) -> 1.7965088 | CH15: =SUM(BT15:CD15) -> 1.5252987 | CI15: =BT15/$CF15 -> 0.57528857 | CJ15: =BU15/$CF15 -> 0.0041148597 | CK15: =BV15/$CF15 -> 0.092562772 | CL15: =BW15/$CF15 -> 0 | CM15: =BX15/$CF15 -> 0.043071175 | CN15: =BY15/$CF15 -> 0.0011524216 | CO15: =BZ15/$CF15 -> 0.020557616 | CP15: =CA15/$CF15 -> 0.051425079 | ... CT15: =CE15/$CF15 -> 0.15395725 | CU15: =SUM(CI15:CT15) -> 1 | CV15: =SUM(CI15:CS15) -> 0.84604275 | CW15: =BV15/CH15 -> 0.10940673 | CX15: =BT15/$CG15 -> 0.57732318 | CY15: =BU15/$CG15 -> 0.0041294126 | CZ15: =BV15*2/$CG15 -> 0.18578027 | DA15: =BW15*2/$CG15 -> 0 | DB15: =BX15/$CG15 -> 0.043223504 | DC15: =BY15/$CG15 -> 0.0011564973 | DD15: =BZ15/$CG15 -> 0.020630322 | DE15: =CA15/$CG15 -> 0.051606953 | DF15: =CB15*2/$CG15 -> 0.068247252 | DG15: =CC15*2/$CG15 -> 0.045385125 | DH15: =CD15*2/$CG15 -> 0.0025174798 | DI15: =SUM(CX15:DH15) -> 1 | DJ15: =S15/DJ$6 -> 0.67521799 | DK15: =T15/DK$6 -> 0.030671467 | DL15: =U15/DL$6 -> 0.12573435 | DM15: =AB15/DM$6 -> 0 | DN15: =V15/DN$6 -> 0.18247261 | DO15: =W15/DO$6 -> 0.0036651982 | DP15: =X15/DP$6 -> 0.32304165 | DQ15: =Y15/DQ$6 -> 0.20739193 | DR15: =Z15/DR$6 -> 0.035495951 | DS15: =AA15/DS$6 -> 0.0097668691 | DT15: =SUM(DJ15:DS15) -> 1.593458 | DU15: =S15/DJ$7 -> 0.67521799 | DV15: =T15/DK$7 -> 0.030671467 | DW15: =U15/DL$7 -> 0.2514687 | DX15: =AB15/DM$7 -> 0 | DZ15: =V15/DN$7 -> 0.18247261 | EA15: =W15/DO$7 -> 0.0036651982 | EB15: =X15/DP$7 -> 0.32304165 | EC15: =Y15/DQ$7 -> 0.20739193 | ED15: =Z15/DR$7 -> 0.070991902 | EE15: =AA15/DS$7 -> 0.019533738 | EG15: =DJ15*2 -> 1.350436 | EH15: =DK15*2 -> 0.061342935 | EI15: =DL15*3 -> 0.37720305 | EJ15: =DM15*3 -> 0 | EL15: =DN15 -> 0.18247261 | EM15: =DO15 -> 0.0036651982 | EN15: =DP15 -> 0.32304165 | EO15: =DQ15 -> 0.20739193 | EP15: =DR15 -> 0.035495951 | EQ15: =DS15 -> 0.0097668691 | ER15: =SUM(EG15:EQ15) -> 2.5508162 | ES15: =23/ER15 -> 9.0167219 | EU15: =DU15*$ES15 -> 6.0882528 | EV15: =DV15*$ES15 -> 0.27655609 | EW15: =DW15*$ES15 -> 2.2674233 | EX15: =DX15*$ES15 -> 0 | EZ15: =DZ15*$ES15 -> 1.6453048 | FA15: =EA15*$ES15 -> 0.033048073 | FB15: =EB15*$ES15 -> 2.9127768 | FC15: =EC15*$ES15 -> 1.8699953 | FD15: =ED15*$ES15 -> 0.64011424 | FE15: =EE15*$ES15 -> 0.17613029 | FF15: =SUM(EU15:FC15) -> 15.093357 | FG15: =SUM(EU15:FE15) -> 15.909602 | FH15: =SUM(EU15:FB15) -> 13.223362 | FI15: =IF(OR(FG15>16,FG15<15),"BAD","Good") -> Good | FJ15: =(FB15*13/(EU15+EV15+EW15+EZ15+FA15+FB15))/(DD15) -> 138.80422 | FK15: =FB15/(FB15+EZ15) -> 0.63903569 | FL15: =DE15/(DE15+CZ15) -> 0.21739566 | FN15: =5.5976-24505/(AM15+273.15)+0.8099*LOG(AM15+273.15)+0.0937*(AH15*1000-1)/(273.15+AM15)+$G$6 -> -11.424544 | FO15: =EXP(-6.53+10813.8/(AM15+273.15)+0.19*FN15*2.3026+12.4*(CB15+CC15)/CG15-3.44*BV15/(BV15+BT15)+4.15*CA15/CG15) -> 0.10417973 | FP15: =(EZ15)*FO15/(1+2*FO15) -> 0.14185133 | FQ15: =(EZ15)-FP15 -> 1.5034534 | FR15: =EU15 -> 6.0882528 | FS15: =IF(EU15+EW15>8,8-EU15,EW15) -> 1.9117472 | FT15: =IF(FS15+FR15=8,0,IF(8<FS15+FR15+EV15,EV15,8-FR15-FS15)) -> 0 | FU15: =FS15+FR15+FT15 -> 8 | FV15: =IF(EW15-FS15<0,0,EW15-FS15) -> 0.35567615 | FW15: =EX15 -> 0 | FX15: =FP15 -> 0.14185133 | FY15: =EV15-FT15 -> 0.27655609 | FZ15: =SUM(FV15:FY15) -> 0.77408357 | GA15: =IF(FZ15>5,0,IF(FZ15+FB15<5,FB15,5-FZ15)) -> 2.9127768 | GB15: =GA15+FZ15 -> 3.6868603 | GC15: =IF(GB15>5,0,IF(GB15+FQ15<5,FQ15,5-GB15)) -> 1.3131397 | GD15: =GC15+GB15 -> 5 | GE15: =IF(GD15=5,0,IF(GD15+FA15<5,FA15,5-GD15)) -> 0 | GF15: =GE15+GD15 -> 5 | GG15: =FB15-GA15 -> 0 | GH15: =FQ15-GC15 -> 0.19031376 | GI15: =FA15-GE15 -> 0.033048073 | GJ15: =SUM(GG15:GI15) -> 0.22336184 | GK15: =GJ15 -> 0.22336184 | GL15: =IF(FC15>2-GK15,2-GK15,FC15) -> 1.7766382 | GM15: =IF(GL15+GK15+FD15<2,FD15,2-GK15-GL15) -> 0 | GN15: =GL15+GK15+GM15 -> 2 | GP15: =IF(GL15<1,"Mg-Fe-Li grpup",IF(AND(GL15+GM15>=1,GM15<0.5),"CALCIC",IF(AND(GL15+GM15>=1,GM15>0.5),"SODIC-CALCIC"))) -> CALCIC | GR15: =IF(FD15-GM15>0,FD15-GM15,0) -> 0.64011424 | GS15: =FE15 -> 0.17613029 | GT15: =GS15+GR15 -> 0.81624453 | GU15: =IF(2-FC15-EZ15<=0.1,0,2-FC15-EZ15) -> 0 | GV15: =FD15-GU15 -> 0.64011424
A16: 11211B | B16: Merapi (2010) | C16: =AVERAGE(AL16:AS16) -> 919.28175 | D16: =AI16 -> 3.3062284 | F16: 63.410655 | G16: 0.56762678 | H16: 16.682223 | I16: 5.2116479 | J16: 0.13947331 | K16: 1.3430742 | L16: 4.6802908 | M16: 3.7972257 | N16: 4.1183364 | O16: 0 | P16: 0.32085386 | Q16: =Q15 -> 5 | S16: 39.45 | T16: 1.88 | U16: 10.8 | V16: 11.85 | W16: 0 | X16: 11.32 | Y16: 10.94 | Z16: 2.04 | AA16: 0.75 | AB16: 0 | AD16: =0.7996+15.347*SQRT(AH16/10)-0.00233*AL16+0.06248*(N16+M16) -> 9.8021608 | AF16: =(DN16/DP16)/(CM16/CO16) -> 0.26977199 | AG16: =751.95-0.4*AL16-278000/AL16-9.184*EW16 -> 63.369069 | AH16: =ROUND(10*(-3.093-4.274*LN(EW16/CK16)-4.216*LN(CK16)+63.3*CS16+1.264*CT16+2.457*EW16+1.86*FE16+0.4*LN(FD16/CQ16)),1) -> 4.8 | AI16: =-64.79-6.064*LN(EW16/CK16)+61.75*CI16+682*CS16-101.9*CP16+7.85*EW16-46.46*LN(CI16)-4.81*LN(CQ16+CR16) -> 3.3062284 | AJ16: =-45.55+26.65*EW16+22.52*FE16+439*CD16/CH16-51.1*LN(BV16/CH16)-46.3*LN(EW16/(BV16/CH16))+5.231*LN(FD16/(CB16/CH16)) -> 5.2602235 | AL16: =1781-132.74*EU16+116.6*EV16-69.41*EZ16+101.62*FD16 -> 911.89573 | AM16: =1687-118.7*EU16+131.56*EV16-71.41*EZ16+86.13*FD16+22.44*AH16/10 -> 908.79396 | AN16: =2061-178.4*EU16 -> 919.32775 | AO16: =(24429.2)/(2.31+42.1*CM16+32.2*CP16+2.21*LN(CI16)-1.4*LN(CJ16)-2.666*LN((CM16+CO16)*CK16)) -> 938.97933 | AP16: =6383.4/(-12.07+45.4*CK16+12.21*CM16-0.415*LN(CJ16)-3.555*LN(CK16)-0.832*LN(CQ16)-0.481*LN((CM16+CO16+CN16)*CK16)-0.679*LN(FD16/CQ16)) -> 953.15024 | AQ16: =8037.85/(3.69-2.62*CT16+0.66*EZ16-0.416*LN(CJ16)+0.37*LN(CO16)-1.05*LN((CM16+CO16+CN16)*CK16)-0.462*LN(EV16/CJ16)) -> 916.22487 | AR16: =1201.4-97.93*EU16+201.82*EV16+72.85*FB16+88.9*FD16+40.65*AH16/10 -> 896.97194 | AS16: =10073.5/(9.75+0.934*EU16-1.454*EV16-0.882*FB16-1.123*FD16-0.322*LN(CM16)-0.7593*LN(EW16/CK16)-0.15*AZ16) -> 908.91015 | AU16: =0.5+0.331*EW16+0.995*EW16^2 -> 5.4255787 | AW16: =(71975-11896*LN(FL16))/(8.3144*LN(FJ16)+58) -> 913.91494 | AX16: =107*LN(DD16)-108*LN(FL16)+1184 -> 929.50832 | AZ16: =LN((GS16/GV16)*(CQ16/CR16)) -> -1.0818104 | BB16: =10*(EXP(125.93-9.5876*EU16*13/FH16-10.116*EV16*13/FH16-8.1735*EW16*13/FH16-9.2261*EZ16*13/FH16-8.7934*FB16*13/FH16-1.6659*FC16+2.4835*FD16+2.5192*FE16))/1000 -> 2.8297978 | BC16: =10*(EXP(38.723-2.6957*EU16*13/FH16-2.3565*EV16*13/FH16-1.3006*EW16*13/FH16-2.778*EZ16*13/FH16-2.4838*FB16*13/FH16-0.6614*FC16-0.2705*FD16+0.1117*FE16))/1000 -> 2.8746752 | BD16: =10*(24023-1925.3*EU16*13/FH16-1720.6*EV16*13/FH16-1478.5*EW16*13/FH16-1843.2*EZ16*13/FH16-1746.9*FB16*13/FH16-158.28*FC16-40.444*FD16+253.52*FE16)/1000 -> 2.9167086 | BE16: =10*(26106-1991.9*EU16*13/FH16-3035*EV16*13/FH16-1472.2*EW16*13/FH16-2454.8*EZ16*13/FH16-2125.8*FB16*13/FH16-830.64*FC16+2708.8*FD16+2204.1*FE16)/1000 -> 4.3589524 | BF16: =10*EXP(26.543-1.2085*EU16*13/FH16-3.8593*EV16*13/FH16-1.1054*EW16*13/FH16-2.9068*EZ16*13/FH16-2.6483*FB16*13/FH16+0.5134*FC16+2.9752*FD16+1.8147*FE16)/1000 -> 10.468376 | BG16: =10*(19.209*EXP(1.438*EW16*13/FF16))/1000 -> 2.5441598 | BI16: =EZ16/(EZ16+FB16) -> 0.36997756 | BJ16: =IF(AND(BI16<0.65,OR(AP16<800,AQ16<800,AO16<800,AM16<800)),"YES","NO") -> NO | BK16: =(-3.92+5.03*EW16) -> 6.4659982 | BL16: =1.27*(EW16^2.01) -> 5.4539737 | BM16: =0.26*EXP(1.48*EW16) -> 5.5225865 | BN16: =(-4.76+5.64*EW16) -> 6.8855328 | BO16: =(-3.46+4.23*EW16) -> 5.2741496 | BP16: =(4.76*EW16-3.01-((C16-675)/85)*(0.53*EW16+0.005294*(C16-675))) -> -0.04316589 | BQ16: =(5.03*EW16-3.53) -> 6.8559982 | BR16: =(-3.01+4.76*EW16) -> 6.8184993 | BT16: =F16/BT$6 -> 1.0553615 | BU16: =G16/BU$6 -> 0.0071061005 | BV16: =H16/BV$6 -> 0.16361376 | BW16: =O16/CC$6 -> 0 | BX16: =I16/BW$6 -> 0.072538748 | BY16: =J16/BX$6 -> 0.0019661436 | BZ16: =K16/BY$6 -> 0.033323265 | CA16: =L16/BZ$6 -> 0.083461266 | CB16: =M16/CA$6 -> 0.061266427 | CC16: =N16/CB$6 -> 0.043720926 | CD16: =P16/CD$6 -> 0.0022605372 | CE16: =Q16/CE$6 -> 0.27756375 | CF16: =SUM(BT16:CE16) -> 1.8021824 | CG16: =BT16+BU16+BX16+BY16+BZ16+CA16+2*(BV16+BW16+CB16+CC16+CD16) -> 1.7954803 | CH16: =SUM(BT16:CD16) -> 1.5246186 | CI16: =BT16/$CF16 -> 0.58560192 | CJ16: =BU16/$CF16 -> 0.0039430529 | CK16: =BV16/$CF16 -> 0.09078646 | CL16: =BW16/$CF16 -> 0 | CM16: =BX16/$CF16 -> 0.040250503 | CN16: =BY16/$CF16 -> 0.0010909792 | CO16: =BZ16/$CF16 -> 0.018490506 | CP16: =CA16/$CF16 -> 0.04631122 | ... CT16: =CE16/$CF16 -> 0.15401535 | CU16: =SUM(CI16:CT16) -> 1 | CV16: =SUM(CI16:CS16) -> 0.84598465 | CX16: =BT16/$CG16 -> 0.58778783 | CY16: =BU16/$CG16 -> 0.0039577714 | CZ16: =BV16*2/$CG16 -> 0.18225069 | DA16: =BW16*2/$CG16 -> 0 | DB16: =BX16/$CG16 -> 0.040400749 | DC16: =BY16/$CG16 -> 0.0010950516 | DD16: =BZ16/$CG16 -> 0.018559527 | DE16: =CA16/$CG16 -> 0.046484089 | DF16: =CB16*2/$CG16 -> 0.068245168 | DG16: =CC16*2/$CG16 -> 0.048701093 | DH16: =CD16*2/$CG16 -> 0.0025180306 | DI16: =SUM(CX16:DH16) -> 1 | DJ16: =S16/DJ$6 -> 0.65657751 | DK16: =T16/DK$6 -> 0.023535657 | DL16: =U16/DL$6 -> 0.10592285 | DM16: =AB16/DM$6 -> 0 | DN16: =V16/DN$6 -> 0.1649352 | DO16: =W16/DO$6 -> 0 | DP16: =X16/DP$6 -> 0.28086264 | DQ16: =Y16/DQ$6 -> 0.1950875 | DR16: =Z16/DR$6 -> 0.032914427 | DS16: =AA16/DS$6 -> 0.0079621215 | DT16: =SUM(DJ16:DS16) -> 1.4677979 | DU16: =S16/DJ$7 -> 0.65657751 | DV16: =T16/DK$7 -> 0.023535657 | DW16: =U16/DL$7 -> 0.21184571 | DX16: =AB16/DM$7 -> 0 | DZ16: =V16/DN$7 -> 0.1649352 | EA16: =W16/DO$7 -> 0 | EB16: =X16/DP$7 -> 0.28086264 | EC16: =Y16/DQ$7 -> 0.1950875 | ED16: =Z16/DR$7 -> 0.065828855 | EE16: =AA16/DS$7 -> 0.015924243 | EG16: =DJ16*2 -> 1.313155 | EH16: =DK16*2 -> 0.047071313 | EI16: =DL16*3 -> 0.31776856 | EJ16: =DM16*3 -> 0 | EL16: =DN16 -> 0.1649352 | EM16: =DO16 -> 0 | EN16: =DP16 -> 0.28086264 | EO16: =DQ16 -> 0.1950875 | EP16: =DR16 -> 0.032914427 | EQ16: =DS16 -> 0.0079621215 | ER16: =SUM(EG16:EQ16) -> 2.3597568 | ES16: =23/ER16 -> 9.7467672 | EU16: =DU16*$ES16 -> 6.3995082 | EV16: =DV16*$ES16 -> 0.22939657 | EW16: =DW16*$ES16 -> 2.0648108 | EX16: =DX16*$ES16 -> 0 | EZ16: =DZ16*$ES16 -> 1.607585 | FA16: =EA16*$ES16 -> 0 | FB16: =EB16*$ES16 -> 2.7375027 | FC16: =EC16*$ES16 -> 1.9014725 | FD16: =ED16*$ES16 -> 0.64161852 | FE16: =EE16*$ES16 -> 0.15520989 | FF16: =SUM(EU16:FC16) -> 14.940276 | FG16: =SUM(EU16:FE16) -> 15.737104 | FH16: =SUM(EU16:FB16) -> 13.038803 | FI16: =IF(OR(FG16>16,FG16<15),"BAD","Good") -> Good | FJ16: =(FB16*13/(EU16+EV16+EW16+EZ16+FA16+FB16))/(DD16) -> 147.05957 | FK16: =FB16/(FB16+EZ16) -> 0.63002244 | FL16: =DE16/(DE16+CZ16) -> 0.20322266 | FN16: =5.5976-24505/(AM16+273.15)+0.8099*LOG(AM16+273.15)+0.0937*(AH16*1000-1)/(273.15+AM16)+$G$6 -> -12.266251 | FO16: =EXP(-6.53+10813.8/(AM16+273.15)+0.19*FN16*2.3026+12.4*(CB16+CC16)/CG16-3.44*BV16/(BV16+BT16)+4.15*CA16/CG16) -> 0.10116569 | FP16: =(EZ16)*FO16/(1+2*FO16) -> 0.13526424 | FQ16: =(EZ16)-FP16 -> 1.4723207 | FR16: =EU16 -> 6.3995082 | FS16: =IF(EU16+EW16>8,8-EU16,EW16) -> 1.6004918 | FT16: =IF(FS16+FR16=8,0,IF(8<FS16+FR16+EV16,EV16,8-FR16-FS16)) -> 0 | FU16: =FS16+FR16+FT16 -> 8 | FV16: =IF(EW16-FS16<0,0,EW16-FS16) -> 0.46431894 | FW16: =EX16 -> 0 | FX16: =FP16 -> 0.13526424 | FY16: =EV16-FT16 -> 0.22939657 | FZ16: =SUM(FV16:FY16) -> 0.82897974 | GA16: =IF(FZ16>5,0,IF(FZ16+FB16<5,FB16,5-FZ16)) -> 2.7375027 | GB16: =GA16+FZ16 -> 3.5664825 | GC16: =IF(GB16>5,0,IF(GB16+FQ16<5,FQ16,5-GB16)) -> 1.4335175 | GD16: =GC16+GB16 -> 5 | GE16: =IF(GD16=5,0,IF(GD16+FA16<5,FA16,5-GD16)) -> 0 | GF16: =GE16+GD16 -> 5 | GG16: =FB16-GA16 -> 0 | GH16: =FQ16-GC16 -> 0.03880319 | GI16: =FA16-GE16 -> 0 | GJ16: =SUM(GG16:GI16) -> 0.03880319 | GK16: =GJ16 -> 0.03880319 | GL16: =IF(FC16>2-GK16,2-GK16,FC16) -> 1.9014725 | GM16: =IF(GL16+GK16+FD16<2,FD16,2-GK16-GL16) -> 0.059724316 | GN16: =GL16+GK16+GM16 -> 2 | GP16: =IF(GL16<1,"Mg-Fe-Li grpup",IF(AND(GL16+GM16>=1,GM16<0.5),"CALCIC",IF(AND(GL16+GM16>=1,GM16>0.5),"SODIC-CALCIC"))) -> CALCIC | GR16: =IF(FD16-GM16>0,FD16-GM16,0) -> 0.58189421 | GS16: =FE16 -> 0.15520989 | GT16: =GS16+GR16 -> 0.7371041 | GU16: =IF(2-FC16-EZ16<=0.1,0,2-FC16-EZ16) -> 0 | GV16: =FD16-GU16 -> 0.64161852
A17: 11212A | B17: Merapi (2010) | C17: =AVERAGE(AL17:AS17) -> 968.17758 | D17: =AI17 -> 4.7009606 | F17: 64.978351 | G17: 0.53184026 | H17: 16.204967 | I17: 4.684912 | J17: 0.12812982 | K17: 1.1269601 | L17: 3.9363787 | M17: 3.7939402 | N17: 4.5172845 | O17: 0 | P17: 0.320691 | Q17: =Q16 -> 5 | S17: 42.88 | T17: 3.46 | U17: 14.28 | V17: 15.99 | W17: 0.54 | X17: 14.25 | Y17: 12.12 | Z17: 2.43 | AA17: 1.18 | AB17: 0.03 | AD17: =0.7996+15.347*SQRT(AH17/10)-0.00233*AL17+0.06248*(N17+M17) -> 11.878099 | AF17: =(DN17/DP17)/(CM17/CO17) -> 0.26992352 | AG17: =751.95-0.4*AL17-278000/AL17-9.184*EW17 -> 55.154573 | AH17: =ROUND(10*(-3.093-4.274*LN(EW17/CK17)-4.216*LN(CK17)+63.3*CS17+1.264*CT17+2.457*EW17+1.86*FE17+0.4*LN(FD17/CQ17)),1) -> 7 | AI17: =-64.79-6.064*LN(EW17/CK17)+61.75*CI17+682*CS17-101.9*CP17+7.85*EW17-46.46*LN(CI17)-4.81*LN(CQ17+CR17) -> 4.7009606 | AJ17: =-45.55+26.65*EW17+22.52*FE17+439*CD17/CH17-51.1*LN(BV17/CH17)-46.3*LN(EW17/(BV17/CH17))+5.231*LN(FD17/(CB17/CH17)) -> 7.9592967 | AL17: =1781-132.74*EU17+116.6*EV17-69.41*EZ17+101.62*FD17 -> 978.97328 | AM17: =1687-118.7*EU17+131.56*EV17-71.41*EZ17+86.13*FD17+22.44*AH17/10 -> 975.04005 | AN17: =2061-178.4*EU17 -> 1010.0363 | AO17: =(24429.2)/(2.31+42.1*CM17+32.2*CP17+2.21*LN(CI17)-1.4*LN(CJ17)-2.666*LN((CM17+CO17)*CK17)) -> 933.46074 | AP17: =6383.4/(-12.07+45.4*CK17+12.21*CM17-0.415*LN(CJ17)-3.555*LN(CK17)-0.832*LN(CQ17)-0.481*LN((CM17+CO17+CN17)*CK17)-0.679*LN(FD17/CQ17)) -> 948.6936 | AQ17: =8037.85/(3.69-2.62*CT17+0.66*EZ17-0.416*LN(CJ17)+0.37*LN(CO17)-1.05*LN((CM17+CO17+CN17)*CK17)-0.462*LN(EV17/CJ17)) -> 911.94548 | AR17: =1201.4-97.93*EU17+201.82*EV17+72.85*FB17+88.9*FD17+40.65*AH17/10 -> 995.26287 | AS17: =10073.5/(9.75+0.934*EU17-1.454*EV17-0.882*FB17-1.123*FD17-0.322*LN(CM17)-0.7593*LN(EW17/CK17)-0.15*AZ17) -> 992.00827 | AU17: =0.5+0.331*EW17+0.995*EW17^2 -> 6.5848178 | AW17: =(71975-11896*LN(FL17))/(8.3144*LN(FJ17)+58) -> 911.61926 | AX17: =107*LN(DD17)-108*LN(FL17)+1184 -> 923.39858 | AZ17: =LN((GS17/GV17)*(CQ17/CR17)) -> -0.89688275 | BB17: =10*(EXP(125.93-9.5876*EU17*13/FH17-10.116*EV17*13/FH17-8.1735*EW17*13/FH17-9.2261*EZ17*13/FH17-8.7934*FB17*13/FH17-1.6659*FC17+2.4835*FD17+2.5192*FE17))/1000 -> 10.459166 | BC17: =10*(EXP(38.723-2.6957*EU17*13/FH17-2.3565*EV17*13/FH17-1.3006*EW17*13/FH17-2.778*EZ17*13/FH17-2.4838*FB17*13/FH17-0.6614*FC17-0.2705*FD17+0.1117*FE17))/1000 -> 5.0533697 | BD17: =10*(24023-1925.3*EU17*13/FH17-1720.6*EV17*13/FH17-1478.5*EW17*13/FH17-1843.2*EZ17*13/FH17-1746.9*FB17*13/FH17-158.28*FC17-40.444*FD17+253.52*FE17)/1000 -> 5.8853681 | BE17: =10*(26106-1991.9*EU17*13/FH17-3035*EV17*13/FH17-1472.2*EW17*13/FH17-2454.8*EZ17*13/FH17-2125.8*FB17*13/FH17-830.64*FC17+2708.8*FD17+2204.1*FE17)/1000 -> 6.6572177 | BF17: =10*EXP(26.543-1.2085*EU17*13/FH17-3.8593*EV17*13/FH17-1.1054*EW17*13/FH17-2.9068*EZ17*13/FH17-2.6483*FB17*13/FH17+0.5134*FC17+2.9752*FD17+1.8147*FE17)/1000 -> 5.5846904 | BG17: =10*(19.209*EXP(1.438*EW17*13/FF17))/1000 -> 3.3206288 | BI17: =EZ17/(EZ17+FB17) -> 0.3863068 | BJ17: =IF(AND(BI17<0.65,OR(AP17<800,AQ17<800,AO17<800,AM17<800)),"YES","NO") -> NO | BK17: =(-3.92+5.03*EW17) -> 7.710307 | BL17: =1.27*(EW17^2.01) -> 6.8468425 | BM17: =0.26*EXP(1.48*EW17) -> 7.9642676 | BN17: =(-4.76+5.64*EW17) -> 8.2807418 | BO17: =(-3.46+4.23*EW17) -> 6.3205564 | BP17: =(4.76*EW17-3.01-((C17-675)/85)*(0.53*EW17+0.005294*(C17-675))) -> -1.5841368 | BQ17: =(5.03*EW17-3.53) -> 8.100307 | BR17: =(-3.01+4.76*EW17) -> 7.9960162 | BT17: =F17/BT$6 -> 1.0814531 | BU17: =G17/BU$6 -> 0.0066580903 | BV17: =H17/BV$6 -> 0.158933 | BW17: =O17/CC$6 -> 0 | BX17: =I17/BW$6 -> 0.065207331 | BY17: =J17/BX$6 -> 0.0018062353 | BZ17: =K17/BY$6 -> 0.027961219 | CA17: =L17/BZ$6 -> 0.070195456 | CB17: =M17/CA$6 -> 0.061213417 | CC17: =N17/CB$6 -> 0.047956225 | CD17: =P17/CD$6 -> 0.0022593897 | CE17: =Q17/CE$6 -> 0.27756375 | CF17: =SUM(BT17:CE17) -> 1.8012072 | CG17: =BT17+BU17+BX17+BY17+BZ17+CA17+2*(BV17+BW17+CB17+CC17+CD17) -> 1.7940055 | CH17: =SUM(BT17:CD17) -> 1.5236434 | CI17: =BT17/$CF17 -> 0.6004046 | CJ17: =BU17/$CF17 -> 0.00369646 | CK17: =BV17/$CF17 -> 0.088236933 | CL17: =BW17/$CF17 -> 0 | CM17: =BX17/$CF17 -> 0.036202016 | CN17: =BY17/$CF17 -> 0.0010027915 | CO17: =BZ17/$CF17 -> 0.015523599 | CP17: =CA17/$CF17 -> 0.038971339 | ... CT17: =CE17/$CF17 -> 0.15409873 | CU17: =SUM(CI17:CT17) -> 1 | CV17: =SUM(CI17:CS17) -> 0.84590127 | CX17: =BT17/$CG17 -> 0.60281482 | CY17: =BU17/$CG17 -> 0.0037112988 | CZ17: =BV17*2/$CG17 -> 0.17718229 | DA17: =BW17*2/$CG17 -> 0 | DB17: =BX17/$CG17 -> 0.036347342 | DC17: =BY17/$CG17 -> 0.0010068171 | DD17: =BZ17/$CG17 -> 0.015585916 | DE17: =CA17/$CG17 -> 0.039127783 | DF17: =CB17*2/$CG17 -> 0.068242174 | DG17: =CC17*2/$CG17 -> 0.053462741 | DH17: =CD17*2/$CG17 -> 0.0025188215 | DI17: =SUM(CX17:DH17) -> 1 | DJ17: =S17/DJ$6 -> 0.71366397 | DK17: =T17/DK$6 -> 0.043315623 | DL17: =U17/DL$6 -> 0.14005355 | DM17: =AB17/DM$6 -> 0.00019738634 | DN17: =V17/DN$6 -> 0.22255812 | DO17: =W17/DO$6 -> 0.0076123348 | DP17: =X17/DP$6 -> 0.35355941 | DQ17: =Y17/DQ$6 -> 0.21612985 | DR17: =Z17/DR$6 -> 0.039206891 | DS17: =AA17/DS$6 -> 0.012527071 | DT17: =SUM(DJ17:DS17) -> 1.7488242 | DU17: =S17/DJ$7 -> 0.71366397 | DV17: =T17/DK$7 -> 0.043315623 | DW17: =U17/DL$7 -> 0.2801071 | DX17: =AB17/DM$7 -> 0.00039477268 | DZ17: =V17/DN$7 -> 0.22255812 | EA17: =W17/DO$7 -> 0.0076123348 | EB17: =X17/DP$7 -> 0.35355941 | EC17: =Y17/DQ$7 -> 0.21612985 | ED17: =Z17/DR$7 -> 0.078413783 | EE17: =AA17/DS$7 -> 0.025054142 | EG17: =DJ17*2 -> 1.4273279 | EH17: =DK17*2 -> 0.086631246 | EI17: =DL17*3 -> 0.42016065 | EJ17: =DM17*3 -> 0.00059215902 | EL17: =DN17 -> 0.22255812 | EM17: =DO17 -> 0.0076123348 | EN17: =DP17 -> 0.35355941 | EO17: =DQ17 -> 0.21612985 | EP17: =DR17 -> 0.039206891 | EQ17: =DS17 -> 0.012527071 | ER17: =SUM(EG17:EQ17) -> 2.7863057 | ES17: =23/ER17 -> 8.2546578 | EU17: =DU17*$ES17 -> 5.8910519 | EV17: =DV17*$ES17 -> 0.35755565 | EW17: =DW17*$ES17 -> 2.3121883 | EX17: =DX17*$ES17 -> 0.0032587134 | EZ17: =DZ17*$ES17 -> 1.8371412 | FA17: =EA17*$ES17 -> 0.062837219 | FB17: =EB17*$ES17 -> 2.918512 | FC17: =EC17*$ES17 -> 1.784078 | FD17: =ED17*$ES17 -> 0.64727895 | FE17: =EE17*$ES17 -> 0.20681337 | FF17: =SUM(EU17:FC17) -> 15.166623 | FG17: =SUM(EU17:FE17) -> 16.020715 | FH17: =SUM(EU17:FB17) -> 13.382545 | FI17: =IF(OR(FG17>16,FG17<15),"BAD","Good") -> BAD | FJ17: =(FB17*13/(EU17+EV17+EW17+EZ17+FA17+FB17))/(DD17) -> 181.94476 | FK17: =FB17/(FB17+EZ17) -> 0.6136932 | FL17: =DE17/(DE17+CZ17) -> 0.18088747 | FN17: =5.5976-24505/(AM17+273.15)+0.8099*LOG(AM17+273.15)+0.0937*(AH17*1000-1)/(273.15+AM17)+$G$6 -> -11.001743 | FO17: =EXP(-6.53+10813.8/(AM17+273.15)+0.19*FN17*2.3026+12.4*(CB17+CC17)/CG17-3.44*BV17/(BV17+BT17)+4.15*CA17/CG17) -> 0.11042319 | FP17: =(EZ17)*FO17/(1+2*FO17) -> 0.16616586 | FQ17: =(EZ17)-FP17 -> 1.6709753 | FR17: =EU17 -> 5.8910519 | FS17: =IF(EU17+EW17>8,8-EU17,EW17) -> 2.1089481 | FT17: =IF(FS17+FR17=8,0,IF(8<FS17+FR17+EV17,EV17,8-FR17-FS17)) -> 0 | FU17: =FS17+FR17+FT17 -> 8 | FV17: =IF(EW17-FS17<0,0,EW17-FS17) -> 0.20324014 | FW17: =EX17 -> 0.0032587134 | FX17: =FP17 -> 0.16616586 | FY17: =EV17-FT17 -> 0.35755565 | FZ17: =SUM(FV17:FY17) -> 0.73022037 | GA17: =IF(FZ17>5,0,IF(FZ17+FB17<5,FB17,5-FZ17)) -> 2.918512 | GB17: =GA17+FZ17 -> 3.6487323 | GC17: =IF(GB17>5,0,IF(GB17+FQ17<5,FQ17,5-GB17)) -> 1.3512677 | GD17: =GC17+GB17 -> 5 | GE17: =IF(GD17=5,0,IF(GD17+FA17<5,FA17,5-GD17)) -> 0 | GF17: =GE17+GD17 -> 5 | GG17: =FB17-GA17 -> 0 | GH17: =FQ17-GC17 -> 0.31970765 | GI17: =FA17-GE17 -> 0.062837219 | GJ17: =SUM(GG17:GI17) -> 0.38254487 | GK17: =GJ17 -> 0.38254487 | GL17: =IF(FC17>2-GK17,2-GK17,FC17) -> 1.6174551 | GM17: =IF(GL17+GK17+FD17<2,FD17,2-GK17-GL17) -> 0 | GN17: =GL17+GK17+GM17 -> 2 | GP17: =IF(GL17<1,"Mg-Fe-Li grpup",IF(AND(GL17+GM17>=1,GM17<0.5),"CALCIC",IF(AND(GL17+GM17>=1,GM17>0.5),"SODIC-CALCIC"))) -> CALCIC | GR17: =IF(FD17-GM17>0,FD17-GM17,0) -> 0.64727895 | GS17: =FE17 -> 0.20681337 | GT17: =GS17+GR17 -> 0.85409232 | GU17: =IF(2-FC17-EZ17<=0.1,0,2-FC17-EZ17) -> 0 | GV17: =FD17-GU17 -> 0.64727895
A18: 11212B | B18: Merapi (2010) | C18: =AVERAGE(AL18:AS18) -> 944.00123 | D18: =AI18 -> 2.5996916 | F18: 60.953715 | G18: 0.62371248 | H18: 17.430191 | I18: 6.0371641 | J18: 0.15725116 | K18: 1.6817745 | L18: 5.8461719 | M18: 3.8023749 | N18: 3.4930929 | O18: 0 | P18: 0.3211091 | Q18: =Q17 -> 5 | S18: 42.2 | T18: 2.75 | U18: 11.1 | V18: 13.1 | W18: 0.39 | X18: 13.55 | Y18: 11.07 | Z18: 2.27 | AA18: 0.95 | AB18: 0.01 | AD18: =0.7996+15.347*SQRT(AH18/10)-0.00233*AL18+0.06248*(N18+M18) -> 9.9278354 | AF18: =(DN18/DP18)/(CM18/CO18) -> 0.26931887 | AG18: =751.95-0.4*AL18-278000/AL18-9.184*EW18 -> 62.682266 | AH18: =ROUND(10*(-3.093-4.274*LN(EW18/CK18)-4.216*LN(CK18)+63.3*CS18+1.264*CT18+2.457*EW18+1.86*FE18+0.4*LN(FD18/CQ18)),1) -> 5 | AI18: =-64.79-6.064*LN(EW18/CK18)+61.75*CI18+682*CS18-101.9*CP18+7.85*EW18-46.46*LN(CI18)-4.81*LN(CQ18+CR18) -> 2.5996916 | AJ18: =-45.55+26.65*EW18+22.52*FE18+439*CD18/CH18-51.1*LN(BV18/CH18)-46.3*LN(EW18/(BV18/CH18))+5.231*LN(FD18/(CB18/CH18)) -> 5.3285404 | AL18: =1781-132.74*EU18+116.6*EV18-69.41*EZ18+101.62*FD18 -> 935.43054 | AM18: =1687-118.7*EU18+131.56*EV18-71.41*EZ18+86.13*FD18+22.44*AH18/10 -> 932.13845 | AN18: =2061-178.4*EU18 -> 938.98664 | AO18: =(24429.2)/(2.31+42.1*CM18+32.2*CP18+2.21*LN(CI18)-1.4*LN(CJ18)-2.666*LN((CM18+CO18)*CK18)) -> 944.59971 | AP18: =6383.4/(-12.07+45.4*CK18+12.21*CM18-0.415*LN(CJ18)-3.555*LN(CK18)-0.832*LN(CQ18)-0.481*LN((CM18+CO18+CN18)*CK18)-0.679*LN(FD18/CQ18)) -> 960.44634 | AQ18: =8037.85/(3.69-2.62*CT18+0.66*EZ18-0.416*LN(CJ18)+0.37*LN(CO18)-1.05*LN((CM18+CO18+CN18)*CK18)-0.462*LN(EV18/CJ18)) -> 943.82373 | AR18: =1201.4-97.93*EU18+201.82*EV18+72.85*FB18+88.9*FD18+40.65*AH18/10 -> 945.65868 | AS18: =10073.5/(9.75+0.934*EU18-1.454*EV18-0.882*FB18-1.123*FD18-0.322*LN(CM18)-0.7593*LN(EW18/CK18)-0.15*AZ18) -> 950.92571 | AU18: =0.5+0.331*EW18+0.995*EW18^2 -> 4.9277277 | AW18: =(71975-11896*LN(FL18))/(8.3144*LN(FJ18)+58) -> 908.13912 | AX18: =107*LN(DD18)-108*LN(FL18)+1184 -> 938.35637 | AZ18: =LN((GS18/GV18)*(CQ18/CR18)) -> -0.78623486 | BB18: =10*(EXP(125.93-9.5876*EU18*13/FH18-10.116*EV18*13/FH18-8.1735*EW18*13/FH18-9.2261*EZ18*13/FH18-8.7934*FB18*13/FH18-1.6659*FC18+2.4835*FD18+2.5192*FE18))/1000 -> 5.8924077 | BC18: =10*(EXP(38.723-2.6957*EU18*13/FH18-2.3565*EV18*13/FH18-1.3006*EW18*13/FH18-2.778*EZ18*13/FH18-2.4838*FB18*13/FH18-0.6614*FC18-0.2705*FD18+0.1117*FE18))/1000 -> 3.1529005 | BD18: =10*(24023-1925.3*EU18*13/FH18-1720.6*EV18*13/FH18-1478.5*EW18*13/FH18-1843.2*EZ18*13/FH18-1746.9*FB18*13/FH18-158.28*FC18-40.444*FD18+253.52*FE18)/1000 -> 4.0500076 | BE18: =10*(26106-1991.9*EU18*13/FH18-3035*EV18*13/FH18-1472.2*EW18*13/FH18-2454.8*EZ18*13/FH18-2125.8*FB18*13/FH18-830.64*FC18+2708.8*FD18+2204.1*FE18)/1000 -> 5.5776367 | BF18: =10*EXP(26.543-1.2085*EU18*13/FH18-3.8593*EV18*13/FH18-1.1054*EW18*13/FH18-2.9068*EZ18*13/FH18-2.6483*FB18*13/FH18+0.5134*FC18+2.9752*FD18+1.8147*FE18)/1000 -> 6.6258253 | BG18: =10*(19.209*EXP(1.438*EW18*13/FF18))/1000 -> 2.1785645 | BI18: =EZ18/(EZ18+FB18) -> 0.35163863 | BJ18: =IF(AND(BI18<0.65,OR(AP18<800,AQ18<800,AO18<800,AM18<800)),"YES","NO") -> NO | BK18: =(-3.92+5.03*EW18) -> 5.8870549 | BL18: =1.27*(EW18^2.01) -> 4.860094 | BM18: =0.26*EXP(1.48*EW18) -> 4.657604 | BN18: =(-4.76+5.64*EW18) -> 6.2363797 | BO18: =(-3.46+4.23*EW18) -> 4.7872848 | BP18: =(4.76*EW18-3.01-((C18-675)/85)*(0.53*EW18+0.005294*(C18-675))) -> -1.5064784 | BQ18: =(5.03*EW18-3.53) -> 6.2770549 | BR18: =(-3.01+4.76*EW18) -> 6.2706325 | BT18: =F18/BT$6 -> 1.0144699 | BU18: =G18/BU$6 -> 0.0078082354 | BV18: =H18/BV$6 -> 0.17094959 | BW18: =O18/CC$6 -> 0 | BX18: =I18/BW$6 -> 0.084028763 | BY18: =J18/BX$6 -> 0.0022167565 | BZ18: =K18/BY$6 -> 0.041726822 | CA18: =L18/BZ$6 -> 0.10425184 | CB18: =M18/CA$6 -> 0.061349506 | CC18: =N18/CB$6 -> 0.037083241 | CD18: =P18/CD$6 -> 0.0022623354 | CE18: =Q18/CE$6 -> 0.27756375 | CF18: =SUM(BT18:CE18) -> 1.8037108 | CG18: =BT18+BU18+BX18+BY18+BZ18+CA18+2*(BV18+BW18+CB18+CC18+CD18) -> 1.7977917 | CH18: =SUM(BT18:CD18) -> 1.526147 | CI18: =BT18/$CF18 -> 0.56243493 | CJ18: =BU18/$CF18 -> 0.0043289842 | CK18: =BV18/$CF18 -> 0.094776608 | CL18: =BW18/$CF18 -> 0 | CM18: =BX18/$CF18 -> 0.046586606 | CN18: =BY18/$CF18 -> 0.0012289978 | CO18: =BZ18/$CF18 -> 0.023133877 | CP18: =CA18/$CF18 -> 0.057798533 | ... CT18: =CE18/$CF18 -> 0.15388484 | CU18: =SUM(CI18:CT18) -> 1 | CV18: =SUM(CI18:CS18) -> 0.84611516 | CX18: =BT18/$CG18 -> 0.5642867 | CY18: =BU18/$CG18 -> 0.0043432371 | CZ18: =BV18*2/$CG18 -> 0.1901773 | DA18: =BW18*2/$CG18 -> 0 | DB18: =BX18/$CG18 -> 0.046739989 | DC18: =BY18/$CG18 -> 0.0012330441 | DD18: =BZ18/$CG18 -> 0.023210043 | DE18: =CA18/$CG18 -> 0.05798883 | DF18: =CB18*2/$CG18 -> 0.068249849 | DG18: =CC18*2/$CG18 -> 0.041254213 | DH18: =CD18*2/$CG18 -> 0.0025167937 | DI18: =SUM(CX18:DH18) -> 1 | DJ18: =S18/DJ$6 -> 0.70234654 | DK18: =T18/DK$6 -> 0.034427157 | DL18: =U18/DL$6 -> 0.10886515 | DM18: =AB18/DM$6 -> 6.5795447e-05 | DN18: =V18/DN$6 -> 0.18233342 | DO18: =W18/DO$6 -> 0.0054977974 | DP18: =X18/DP$6 -> 0.33619158 | DQ18: =Y18/DQ$6 -> 0.19740573 | DR18: =Z18/DR$6 -> 0.036625368 | DS18: =AA18/DS$6 -> 0.010085354 | DT18: =SUM(DJ18:DS18) -> 1.6138439 | DU18: =S18/DJ$7 -> 0.70234654 | DV18: =T18/DK$7 -> 0.034427157 | DW18: =U18/DL$7 -> 0.21773031 | DX18: =AB18/DM$7 -> 0.00013159089 | DZ18: =V18/DN$7 -> 0.18233342 | EA18: =W18/DO$7 -> 0.0054977974 | EB18: =X18/DP$7 -> 0.33619158 | EC18: =Y18/DQ$7 -> 0.19740573 | ED18: =Z18/DR$7 -> 0.073250735 | EE18: =AA18/DS$7 -> 0.020170708 | EG18: =DJ18*2 -> 1.4046931 | EH18: =DK18*2 -> 0.068854314 | EI18: =DL18*3 -> 0.32659546 | EJ18: =DM18*3 -> 0.00019738634 | EL18: =DN18 -> 0.18233342 | EM18: =DO18 -> 0.0054977974 | EN18: =DP18 -> 0.33619158 | EO18: =DQ18 -> 0.19740573 | EP18: =DR18 -> 0.036625368 | EQ18: =DS18 -> 0.010085354 | ER18: =SUM(EG18:EQ18) -> 2.5684795 | ES18: =23/ER18 -> 8.9547143 | EU18: =DU18*$ES18 -> 6.2893126 | EV18: =DV18*$ES18 -> 0.30828536 | EW18: =DW18*$ES18 -> 1.9497127 | EX18: =DX18*$ES18 -> 0.0011783589 | EZ18: =DZ18*$ES18 -> 1.6327437 | FA18: =EA18*$ES18 -> 0.049231205 | FB18: =EB18*$ES18 -> 3.0104996 | FC18: =EC18*$ES18 -> 1.7677119 | FD18: =ED18*$ES18 -> 0.65593941 | FE18: =EE18*$ES18 -> 0.18062293 | FF18: =SUM(EU18:FC18) -> 15.008675 | FG18: =SUM(EU18:FE18) -> 15.845238 | FH18: =SUM(EU18:FB18) -> 13.240963 | FI18: =IF(OR(FG18>16,FG18<15),"BAD","Good") -> Good | FJ18: =(FB18*13/(EU18+EV18+EW18+EZ18+FA18+FB18))/(DD18) -> 127.35765 | FK18: =FB18/(FB18+EZ18) -> 0.64836137 | FL18: =DE18/(DE18+CZ18) -> 0.23366939 | FN18: =5.5976-24505/(AM18+273.15)+0.8099*LOG(AM18+273.15)+0.0937*(AH18*1000-1)/(273.15+AM18)+$G$6 -> -11.849631 | FO18: =EXP(-6.53+10813.8/(AM18+273.15)+0.19*FN18*2.3026+12.4*(CB18+CC18)/CG18-3.44*BV18/(BV18+BT18)+4.15*CA18/CG18) -> 0.098402739 | FP18: =(EZ18)*FO18/(1+2*FO18) -> 0.13424609 | FQ18: =(EZ18)-FP18 -> 1.4984976 | FR18: =EU18 -> 6.2893126 | FS18: =IF(EU18+EW18>8,8-EU18,EW18) -> 1.7106874 | FT18: =IF(FS18+FR18=8,0,IF(8<FS18+FR18+EV18,EV18,8-FR18-FS18)) -> 0 | FU18: =FS18+FR18+FT18 -> 8 | FV18: =IF(EW18-FS18<0,0,EW18-FS18) -> 0.23902528 | FW18: =EX18 -> 0.0011783589 | FX18: =FP18 -> 0.13424609 | FY18: =EV18-FT18 -> 0.30828536 | FZ18: =SUM(FV18:FY18) -> 0.68273508 | GA18: =IF(FZ18>5,0,IF(FZ18+FB18<5,FB18,5-FZ18)) -> 3.0104996 | GB18: =GA18+FZ18 -> 3.6932346 | GC18: =IF(GB18>5,0,IF(GB18+FQ18<5,FQ18,5-GB18)) -> 1.3067654 | GD18: =GC18+GB18 -> 5 | GE18: =IF(GD18=5,0,IF(GD18+FA18<5,FA18,5-GD18)) -> 0 | GF18: =GE18+GD18 -> 5 | GG18: =FB18-GA18 -> 0 | GH18: =FQ18-GC18 -> 0.19173227 | GI18: =FA18-GE18 -> 0.049231205 | GJ18: =SUM(GG18:GI18) -> 0.24096347 | GK18: =GJ18 -> 0.24096347 | GL18: =IF(FC18>2-GK18,2-GK18,FC18) -> 1.7590365 | GM18: =IF(GL18+GK18+FD18<2,FD18,2-GK18-GL18) -> 0 | GN18: =GL18+GK18+GM18 -> 2 | GP18: =IF(GL18<1,"Mg-Fe-Li grpup",IF(AND(GL18+GM18>=1,GM18<0.5),"CALCIC",IF(AND(GL18+GM18>=1,GM18>0.5),"SODIC-CALCIC"))) -> CALCIC | GR18: =IF(FD18-GM18>0,FD18-GM18,0) -> 0.65593941 | GS18: =FE18 -> 0.18062293 | GT18: =GS18+GR18 -> 0.83656233 | GU18: =IF(2-FC18-EZ18<=0.1,0,2-FC18-EZ18) -> 0 | GV18: =FD18-GU18 -> 0.65593941
A19: 10111123 | B19: Merapi (2010) | C19: =AVERAGE(AL19:AS19) -> 929.39568 | D19: =AI19 -> 2.2991665 | F19: 60.188394 | G19: 0.64118283 | H19: 17.663178 | I19: 6.2943074 | J19: 0.16278886 | K19: 1.7872776 | L19: 6.2093368 | M19: 3.8039788 | N19: 3.2983334 | O19: 0 | P19: 0.3211886 | Q19: =Q18 -> 5 | S19: 40.37 | T19: 2.28 | U19: 10.06 | V19: 11.76 | W19: 0.19 | X19: 12.41 | Y19: 10.4 | Z19: 2.09 | AA19: 0.82 | AB19: 0 | AD19: =0.7996+15.347*SQRT(AH19/10)-0.00233*AL19+0.06248*(N19+M19) -> 9.5210958 | AF19: =(DN19/DP19)/(CM19/CO19) -> 0.26907888 | AG19: =751.95-0.4*AL19-278000/AL19-9.184*EW19 -> 64.774798 | AH19: =ROUND(10*(-3.093-4.274*LN(EW19/CK19)-4.216*LN(CK19)+63.3*CS19+1.264*CT19+2.457*EW19+1.86*FE19+0.4*LN(FD19/CQ19)),1) -> 4.6 | AI19: =-64.79-6.064*LN(EW19/CK19)+61.75*CI19+682*CS19-101.9*CP19+7.85*EW19-46.46*LN(CI19)-4.81*LN(CQ19+CR19) -> 2.2991665 | AJ19: =-45.55+26.65*EW19+22.52*FE19+439*CD19/CH19-51.1*LN(BV19/CH19)-46.3*LN(EW19/(BV19/CH19))+5.231*LN(FD19/(CB19/CH19)) -> 4.7348234 | AL19: =1781-132.74*EU19+116.6*EV19-69.41*EZ19+101.62*FD19 -> 914.63456 | AM19: =1687-118.7*EU19+131.56*EV19-71.41*EZ19+86.13*FD19+22.44*AH19/10 -> 912.33652 | AN19: =2061-178.4*EU19 -> 911.82051 | AO19: =(24429.2)/(2.31+42.1*CM19+32.2*CP19+2.21*LN(CI19)-1.4*LN(CJ19)-2.666*LN((CM19+CO19)*CK19)) -> 945.73157 | AP19: =6383.4/(-12.07+45.4*CK19+12.21*CM19-0.415*LN(CJ19)-3.555*LN(CK19)-0.832*LN(CQ19)-0.481*LN((CM19+CO19+CN19)*CK19)-0.679*LN(FD19/CQ19)) -> 959.95762 | AQ19: =8037.85/(3.69-2.62*CT19+0.66*EZ19-0.416*LN(CJ19)+0.37*LN(CO19)-1.05*LN((CM19+CO19+CN19)*CK19)-0.462*LN(EV19/CJ19)) -> 946.79287 | AR19: =1201.4-97.93*EU19+201.82*EV19+72.85*FB19+88.9*FD19+40.65*AH19/10 -> 917.03663 | AS19: =10073.5/(9.75+0.934*EU19-1.454*EV19-0.882*FB19-1.123*FD19-0.322*LN(CM19)-0.7593*LN(EW19/CK19)-0.15*AZ19) -> 926.85515 | AU19: =0.5+0.331*EW19+0.995*EW19^2 -> 4.6874472 | AW19: =(71975-11896*LN(FL19))/(8.3144*LN(FJ19)+58) -> 909.46512 | AX19: =107*LN(DD19)-108*LN(FL19)+1184 -> 940.95642 | AZ19: =LN((GS19/GV19)*(CQ19/CR19)) -> -0.79298474 | BB19: =10*(EXP(125.93-9.5876*EU19*13/FH19-10.116*EV19*13/FH19-8.1735*EW19*13/FH19-9.2261*EZ19*13/FH19-8.7934*FB19*13/FH19-1.6659*FC19+2.4835*FD19+2.5192*FE19))/1000 -> 3.9445176 | BC19: =10*(EXP(38.723-2.6957*EU19*13/FH19-2.3565*EV19*13/FH19-1.3006*EW19*13/FH19-2.778*EZ19*13/FH19-2.4838*FB19*13/FH19-0.6614*FC19-0.2705*FD19+0.1117*FE19))/1000 -> 2.7199578 | BD19: =10*(24023-1925.3*EU19*13/FH19-1720.6*EV19*13/FH19-1478.5*EW19*13/FH19-1843.2*EZ19*13/FH19-1746.9*FB19*13/FH19-158.28*FC19-40.444*FD19+253.52*FE19)/1000 -> 3.1624069 | BE19: =10*(26106-1991.9*EU19*13/FH19-3035*EV19*13/FH19-1472.2*EW19*13/FH19-2454.8*EZ19*13/FH19-2125.8*FB19*13/FH19-830.64*FC19+2708.8*FD19+2204.1*FE19)/1000 -> 4.8535854 | BF19: =10*EXP(26.543-1.2085*EU19*13/FH19-3.8593*EV19*13/FH19-1.1054*EW19*13/FH19-2.9068*EZ19*13/FH19-2.6483*FB19*13/FH19+0.5134*FC19+2.9752*FD19+1.8147*FE19)/1000 -> 7.6826413 | BG19: =10*(19.209*EXP(1.438*EW19*13/FF19))/1000 -> 2.051758 | BI19: =EZ19/(EZ19+FB19) -> 0.34708698 | BJ19: =IF(AND(BI19<0.65,OR(AP19<800,AQ19<800,AO19<800,AM19<800)),"YES","NO") -> NO | BK19: =(-3.92+5.03*EW19) -> 5.5960594 | BL19: =1.27*(EW19^2.01) -> 4.5745769 | BM19: =0.26*EXP(1.48*EW19) -> 4.2754109 | BN19: =(-4.76+5.64*EW19) -> 5.9100945 | BO19: =(-3.46+4.23*EW19) -> 4.5425709 | BP19: =(4.76*EW19-3.01-((C19-675)/85)*(0.53*EW19+0.005294*(C19-675))) -> -1.0364099 | BQ19: =(5.03*EW19-3.53) -> 5.9860594 | BR19: =(-3.01+4.76*EW19) -> 5.995257 | BT19: =F19/BT$6 -> 1.0017325 | BU19: =G19/BU$6 -> 0.0080269462 | BV19: =H19/BV$6 -> 0.17323465 | BW19: =O19/CC$6 -> 0 | BX19: =I19/BW$6 -> 0.087607833 | BY19: =J19/BX$6 -> 0.0022948209 | BZ19: =K19/BY$6 -> 0.044344479 | CA19: =L19/BZ$6 -> 0.11072797 | CB19: =M19/CA$6 -> 0.061375384 | CC19: =N19/CB$6 -> 0.035015642 | CD19: =P19/CD$6 -> 0.0022628955 | CE19: =Q19/CE$6 -> 0.27756375 | CF19: =SUM(BT19:CE19) -> 1.8041868 | CG19: =BT19+BU19+BX19+BY19+BZ19+CA19+2*(BV19+BW19+CB19+CC19+CD19) -> 1.7985117 | CH19: =SUM(BT19:CD19) -> 1.5266231 | CI19: =BT19/$CF19 -> 0.55522657 | CJ19: =BU19/$CF19 -> 0.004449066 | CK19: =BV19/$CF19 -> 0.096018134 | CL19: =BW19/$CF19 -> 0 | CM19: =BX19/$CF19 -> 0.048558071 | CN19: =BY19/$CF19 -> 0.001271942 | CO19: =BZ19/$CF19 -> 0.024578652 | CP19: =CA19/$CF19 -> 0.061372786 | ... CT19: =CE19/$CF19 -> 0.15384424 | CU19: =SUM(CI19:CT19) -> 1 | CV19: =SUM(CI19:CS19) -> 0.84615576 | CX19: =BT19/$CG19 -> 0.55697857 | CY19: =BU19/$CG19 -> 0.0044631049 | CZ19: =BV19*2/$CG19 -> 0.19264224 | DA19: =BW19*2/$CG19 -> 0 | DB19: =BX19/$CG19 -> 0.048711295 | DC19: =BY19/$CG19 -> 0.0012759555 | DD19: =BZ19/$CG19 -> 0.024656209 | DE19: =CA19/$CG19 -> 0.061566447 | DF19: =CB19*2/$CG19 -> 0.068251305 | DG19: =CC19*2/$CG19 -> 0.038938465 | DH19: =CD19*2/$CG19 -> 0.0025164091 | DI19: =SUM(CX19:DH19) -> 1 | DJ19: =S19/DJ$6 -> 0.67188933 | DK19: =T19/DK$6 -> 0.028543243 | DL19: =U19/DL$6 -> 0.098665176 | DM19: =AB19/DM$6 -> 0 | DN19: =V19/DN$6 -> 0.16368252 | DO19: =W19/DO$6 -> 0.0026784141 | DP19: =X19/DP$6 -> 0.30790683 | DQ19: =Y19/DQ$6 -> 0.18545796 | DR19: =Z19/DR$6 -> 0.033721153 | DS19: =AA19/DS$6 -> 0.0087052529 | DT19: =SUM(DJ19:DS19) -> 1.5012499 | DU19: =S19/DJ$7 -> 0.67188933 | DV19: =T19/DK$7 -> 0.028543243 | DW19: =U19/DL$7 -> 0.19733035 | DX19: =AB19/DM$7 -> 0 | DZ19: =V19/DN$7 -> 0.16368252 | EA19: =W19/DO$7 -> 0.0026784141 | EB19: =X19/DP$7 -> 0.30790683 | EC19: =Y19/DQ$7 -> 0.18545796 | ED19: =Z19/DR$7 -> 0.067442307 | EE19: =AA19/DS$7 -> 0.017410506 | EG19: =DJ19*2 -> 1.3437787 | EH19: =DK19*2 -> 0.057086486 | EI19: =DL19*3 -> 0.29599553 | EJ19: =DM19*3 -> 0 | EL19: =DN19 -> 0.16368252 | EM19: =DO19 -> 0.0026784141 | EN19: =DP19 -> 0.30790683 | EO19: =DQ19 -> 0.18545796 | EP19: =DR19 -> 0.033721153 | EQ19: =DS19 -> 0.0087052529 | ER19: =SUM(EG19:EQ19) -> 2.3990128 | ES19: =23/ER19 -> 9.5872769 | EU19: =DU19*$ES19 -> 6.441589 | EV19: =DV19*$ES19 -> 0.27365197 | EW19: =DW19*$ES19 -> 1.8918607 | EX19: =DX19*$ES19 -> 0 | EZ19: =DZ19*$ES19 -> 1.5692697 | FA19: =EA19*$ES19 -> 0.025678698 | FB19: =EB19*$ES19 -> 2.951988 | FC19: =EC19*$ES19 -> 1.7780368 | FD19: =ED19*$ES19 -> 0.64658807 | FE19: =EE19*$ES19 -> 0.16691934 | FF19: =SUM(EU19:FC19) -> 14.932075 | FG19: =SUM(EU19:FE19) -> 15.745582 | FH19: =SUM(EU19:FB19) -> 13.154038 | FI19: =IF(OR(FG19>16,FG19<15),"BAD","Good") -> Good | FJ19: =(FB19*13/(EU19+EV19+EW19+EZ19+FA19+FB19))/(DD19) -> 118.32392 | FK19: =FB19/(FB19+EZ19) -> 0.65291302 | FL19: =DE19/(DE19+CZ19) -> 0.24218861 | FN19: =5.5976-24505/(AM19+273.15)+0.8099*LOG(AM19+273.15)+0.0937*(AH19*1000-1)/(273.15+AM19)+$G$6 -> -12.220188 | FO19: =EXP(-6.53+10813.8/(AM19+273.15)+0.19*FN19*2.3026+12.4*(CB19+CC19)/CG19-3.44*BV19/(BV19+BT19)+4.15*CA19/CG19) -> 0.096179099 | FP19: =(EZ19)*FO19/(1+2*FO19) -> 0.12658188 | FQ19: =(EZ19)-FP19 -> 1.4426878 | FR19: =EU19 -> 6.441589 | FS19: =IF(EU19+EW19>8,8-EU19,EW19) -> 1.558411 | FT19: =IF(FS19+FR19=8,0,IF(8<FS19+FR19+EV19,EV19,8-FR19-FS19)) -> 0 | FU19: =FS19+FR19+FT19 -> 8 | FV19: =IF(EW19-FS19<0,0,EW19-FS19) -> 0.33344977 | FW19: =EX19 -> 0 | FX19: =FP19 -> 0.12658188 | FY19: =EV19-FT19 -> 0.27365197 | FZ19: =SUM(FV19:FY19) -> 0.73368362 | GA19: =IF(FZ19>5,0,IF(FZ19+FB19<5,FB19,5-FZ19)) -> 2.951988 | GB19: =GA19+FZ19 -> 3.6856716 | GC19: =IF(GB19>5,0,IF(GB19+FQ19<5,FQ19,5-GB19)) -> 1.3143284 | GD19: =GC19+GB19 -> 5 | GE19: =IF(GD19=5,0,IF(GD19+FA19<5,FA19,5-GD19)) -> 0 | GF19: =GE19+GD19 -> 5 | GG19: =FB19-GA19 -> 0 | GH19: =FQ19-GC19 -> 0.12835944 | GI19: =FA19-GE19 -> 0.025678698 | GJ19: =SUM(GG19:GI19) -> 0.15403814 | GK19: =GJ19 -> 0.15403814 | GL19: =IF(FC19>2-GK19,2-GK19,FC19) -> 1.7780368 | GM19: =IF(GL19+GK19+FD19<2,FD19,2-GK19-GL19) -> 0.067925084 | GN19: =GL19+GK19+GM19 -> 2 | GP19: =IF(GL19<1,"Mg-Fe-Li grpup",IF(AND(GL19+GM19>=1,GM19<0.5),"CALCIC",IF(AND(GL19+GM19>=1,GM19>0.5),"SODIC-CALCIC"))) -> CALCIC | GR19: =IF(FD19-GM19>0,FD19-GM19,0) -> 0.57866299 | GS19: =FE19 -> 0.16691934 | GT19: =GS19+GR19 -> 0.74558233 | GU19: =IF(2-FC19-EZ19<=0.1,0,2-FC19-EZ19) -> 0 | GV19: =FD19-GU19 -> 0.64658807
A20: 10110511 | B20: Merapi (2010) | C20: =AVERAGE(AL20:AS20) -> 957.49582 | D20: =AI20 -> 3.0651276 | F20: 63.785726 | G20: 0.55906486 | H20: 16.568039 | I20: 5.0856264 | J20: 0.13675938 | K20: 1.2913689 | L20: 4.5023098 | M20: 3.7964397 | N20: 4.2137847 | O20: 0 | P20: 0.3208149 | Q20: =Q19 -> 5 | S20: 43.4 | T20: 3.39 | U20: 12.15 | V20: 15.28 | W20: 0.67 | X20: 14.38 | Y20: 11.55 | Z20: 2.48 | AA20: 1.14 | AB20: 0.22 | AD20: =0.7996+15.347*SQRT(AH20/10)-0.00233*AL20+0.06248*(N20+M20) -> 10.653386 | AF20: =(DN20/DP20)/(CM20/CO20) -> 0.26981764 | AG20: =751.95-0.4*AL20-278000/AL20-9.184*EW20 -> 60.05693 | AH20: =ROUND(10*(-3.093-4.274*LN(EW20/CK20)-4.216*LN(CK20)+63.3*CS20+1.264*CT20+2.457*EW20+1.86*FE20+0.4*LN(FD20/CQ20)),1) -> 5.7 | AI20: =-64.79-6.064*LN(EW20/CK20)+61.75*CI20+682*CS20-101.9*CP20+7.85*EW20-46.46*LN(CI20)-4.81*LN(CQ20+CR20) -> 3.0651276 | AJ20: =-45.55+26.65*EW20+22.52*FE20+439*CD20/CH20-51.1*LN(BV20/CH20)-46.3*LN(EW20/(BV20/CH20))+5.231*LN(FD20/(CB20/CH20)) -> 6.4367717 | AL20: =1781-132.74*EU20+116.6*EV20-69.41*EZ20+101.62*FD20 -> 958.55077 | AM20: =1687-118.7*EU20+131.56*EV20-71.41*EZ20+86.13*FD20+22.44*AH20/10 -> 954.15003 | AN20: =2061-178.4*EU20 -> 974.69006 | AO20: =(24429.2)/(2.31+42.1*CM20+32.2*CP20+2.21*LN(CI20)-1.4*LN(CJ20)-2.666*LN((CM20+CO20)*CK20)) -> 937.81314 | AP20: =6383.4/(-12.07+45.4*CK20+12.21*CM20-0.415*LN(CJ20)-3.555*LN(CK20)-0.832*LN(CQ20)-0.481*LN((CM20+CO20+CN20)*CK20)-0.679*LN(FD20/CQ20)) -> 956.90158 | AQ20: =8037.85/(3.69-2.62*CT20+0.66*EZ20-0.416*LN(CJ20)+0.37*LN(CO20)-1.05*LN((CM20+CO20+CN20)*CK20)-0.462*LN(EV20/CJ20)) -> 922.63394 | AR20: =1201.4-97.93*EU20+201.82*EV20+72.85*FB20+88.9*FD20+40.65*AH20/10 -> 979.54812 | AS20: =10073.5/(9.75+0.934*EU20-1.454*EV20-0.882*FB20-1.123*FD20-0.322*LN(CM20)-0.7593*LN(EW20/CK20)-0.15*AZ20) -> 975.67895 | AU20: =0.5+0.331*EW20+0.995*EW20^2 -> 5.1813288 | AW20: =(71975-11896*LN(FL20))/(8.3144*LN(FJ20)+58) -> 908.56358 | AX20: =107*LN(DD20)-108*LN(FL20)+1184 -> 928.08274 | AZ20: =LN((GS20/GV20)*(CQ20/CR20)) -> -0.88152782 | BB20: =10*(EXP(125.93-9.5876*EU20*13/FH20-10.116*EV20*13/FH20-8.1735*EW20*13/FH20-9.2261*EZ20*13/FH20-8.7934*FB20*13/FH20-1.6659*FC20+2.4835*FD20+2.5192*FE20))/1000 -> 12.04649 | BC20: =10*(EXP(38.723-2.6957*EU20*13/FH20-2.3565*EV20*13/FH20-1.3006*EW20*13/FH20-2.778*EZ20*13/FH20-2.4838*FB20*13/FH20-0.6614*FC20-0.2705*FD20+0.1117*FE20))/1000 -> 3.8976624 | BD20: =10*(24023-1925.3*EU20*13/FH20-1720.6*EV20*13/FH20-1478.5*EW20*13/FH20-1843.2*EZ20*13/FH20-1746.9*FB20*13/FH20-158.28*FC20-40.444*FD20+253.52*FE20)/1000 -> 5.4860585 | BE20: =10*(26106-1991.9*EU20*13/FH20-3035*EV20*13/FH20-1472.2*EW20*13/FH20-2454.8*EZ20*13/FH20-2125.8*FB20*13/FH20-830.64*FC20+2708.8*FD20+2204.1*FE20)/1000 -> 7.0132477 | BF20: =10*EXP(26.543-1.2085*EU20*13/FH20-3.8593*EV20*13/FH20-1.1054*EW20*13/FH20-2.9068*EZ20*13/FH20-2.6483*FB20*13/FH20+0.5134*FC20+2.9752*FD20+1.8147*FE20)/1000 -> 5.5904569 | BG20: =10*(19.209*EXP(1.438*EW20*13/FF20))/1000 -> 2.311755 | BI20: =EZ20/(EZ20+FB20) -> 0.37346896 | BJ20: =IF(AND(BI20<0.65,OR(AP20<800,AQ20<800,AO20<800,AM20<800)),"YES","NO") -> NO | BK20: =(-3.92+5.03*EW20) -> 6.1857919 | BL20: =1.27*(EW20^2.01) -> 5.1622434 | BM20: =0.26*EXP(1.48*EW20) -> 5.0855333 | BN20: =(-4.76+5.64*EW20) -> 6.5713452 | BO20: =(-3.46+4.23*EW20) -> 5.0385089 | BP20: =(4.76*EW20-3.01-((C20-675)/85)*(0.53*EW20+0.005294*(C20-675))) -> -1.9559651 | BQ20: =(5.03*EW20-3.53) -> 6.5757919 | BR20: =(-3.01+4.76*EW20) -> 6.5533339 | BT20: =F20/BT$6 -> 1.0616039 | BU20: =G20/BU$6 -> 0.0069989141 | BV20: =H20/BV$6 -> 0.16249389 | BW20: =O20/CC$6 -> 0 | BX20: =I20/BW$6 -> 0.070784707 | BY20: =J20/BX$6 -> 0.0019278855 | BZ20: =K20/BY$6 -> 0.032040396 | CA20: =L20/BZ$6 -> 0.080287421 | CB20: =M20/CA$6 -> 0.061253744 | CC20: =N20/CB$6 -> 0.044734221 | CD20: =P20/CD$6 -> 0.0022602626 | CE20: =Q20/CE$6 -> 0.27756375 | CF20: =SUM(BT20:CE20) -> 1.8019491 | CG20: =BT20+BU20+BX20+BY20+BZ20+CA20+2*(BV20+BW20+CB20+CC20+CD20) -> 1.7951274 | CH20: =SUM(BT20:CD20) -> 1.5243853 | CI20: =BT20/$CF20 -> 0.589142 | CJ20: =BU20/$CF20 -> 0.0038840799 | CK20: =BV20/$CF20 -> 0.090176737 | CL20: =BW20/$CF20 -> 0 | CM20: =BX20/$CF20 -> 0.039282302 | CN20: =BY20/$CF20 -> 0.001069889 | CO20: =BZ20/$CF20 -> 0.017780966 | CP20: =CA20/$CF20 -> 0.044555877 | ... CT20: =CE20/$CF20 -> 0.15403529 | CU20: =SUM(CI20:CT20) -> 1 | CV20: =SUM(CI20:CS20) -> 0.84596471 | CX20: =BT20/$CG20 -> 0.59138079 | CY20: =BU20/$CG20 -> 0.0038988397 | CZ20: =BV20*2/$CG20 -> 0.18103883 | DA20: =BW20*2/$CG20 -> 0 | DB20: =BX20/$CG20 -> 0.039431578 | DC20: =BY20/$CG20 -> 0.0010739547 | DD20: =BZ20/$CG20 -> 0.017848535 | DE20: =CA20/$CG20 -> 0.044725193 | DF20: =CB20*2/$CG20 -> 0.068244452 | DG20: =CC20*2/$CG20 -> 0.049839605 | DH20: =CD20*2/$CG20 -> 0.0025182197 | DI20: =SUM(CX20:DH20) -> 1 | DJ20: =S20/DJ$6 -> 0.72231848 | DK20: =T20/DK$6 -> 0.042439296 | DL20: =U20/DL$6 -> 0.11916321 | DM20: =AB20/DM$6 -> 0.0014474998 | DN20: =V20/DN$6 -> 0.21267593 | DO20: =W20/DO$6 -> 0.0094449339 | DP20: =X20/DP$6 -> 0.35678487 | DQ20: =Y20/DQ$6 -> 0.20596533 | DR20: =Z20/DR$6 -> 0.040013618 | DS20: =AA20/DS$6 -> 0.012102425 | DT20: =SUM(DJ20:DS20) -> 1.7223556 | DU20: =S20/DJ$7 -> 0.72231848 | DV20: =T20/DK$7 -> 0.042439296 | DW20: =U20/DL$7 -> 0.23832642 | DX20: =AB20/DM$7 -> 0.0028949997 | DZ20: =V20/DN$7 -> 0.21267593 | EA20: =W20/DO$7 -> 0.0094449339 | EB20: =X20/DP$7 -> 0.35678487 | EC20: =Y20/DQ$7 -> 0.20596533 | ED20: =Z20/DR$7 -> 0.080027235 | EE20: =AA20/DS$7 -> 0.024204849 | EG20: =DJ20*2 -> 1.444637 | EH20: =DK20*2 -> 0.084878591 | EI20: =DL20*3 -> 0.35748963 | EJ20: =DM20*3 -> 0.0043424995 | EL20: =DN20 -> 0.21267593 | EM20: =DO20 -> 0.0094449339 | EN20: =DP20 -> 0.35678487 | EO20: =DQ20 -> 0.20596533 | EP20: =DR20 -> 0.040013618 | EQ20: =DS20 -> 0.012102425 | ER20: =SUM(EG20:EQ20) -> 2.7283348 | ES20: =23/ER20 -> 8.4300505 | EU20: =DU20*$ES20 -> 6.0891813 | EV20: =DV20*$ES20 -> 0.35776541 | EW20: =DW20*$ES20 -> 2.0091038 | EX20: =DX20*$ES20 -> 0.024404994 | EZ20: =DZ20*$ES20 -> 1.7928688 | FA20: =EA20*$ES20 -> 0.07962127 | FB20: =EB20*$ES20 -> 3.0077145 | FC20: =EC20*$ES20 -> 1.7362981 | FD20: =ED20*$ES20 -> 0.67463364 | FE20: =EE20*$ES20 -> 0.2040481 | FF20: =SUM(EU20:FC20) -> 15.096958 | FG20: =SUM(EU20:FE20) -> 15.97564 | FH20: =SUM(EU20:FB20) -> 13.36066 | FI20: =IF(OR(FG20>16,FG20<15),"BAD","Good") -> Good | FJ20: =(FB20*13/(EU20+EV20+EW20+EZ20+FA20+FB20))/(DD20) -> 164.26441 | FK20: =FB20/(FB20+EZ20) -> 0.62653104 | FL20: =DE20/(DE20+CZ20) -> 0.19810593 | FN20: =5.5976-24505/(AM20+273.15)+0.8099*LOG(AM20+273.15)+0.0937*(AH20*1000-1)/(273.15+AM20)+$G$6 -> -11.432153 | FO20: =EXP(-6.53+10813.8/(AM20+273.15)+0.19*FN20*2.3026+12.4*(CB20+CC20)/CG20-3.44*BV20/(BV20+BT20)+4.15*CA20/CG20) -> 0.10441677 | FP20: =(EZ20)*FO20/(1+2*FO20) -> 0.15486464 | FQ20: =(EZ20)-FP20 -> 1.6380042 | FR20: =EU20 -> 6.0891813 | FS20: =IF(EU20+EW20>8,8-EU20,EW20) -> 1.9108187 | FT20: =IF(FS20+FR20=8,0,IF(8<FS20+FR20+EV20,EV20,8-FR20-FS20)) -> 0 | FU20: =FS20+FR20+FT20 -> 8 | FV20: =IF(EW20-FS20<0,0,EW20-FS20) -> 0.098285009 | FW20: =EX20 -> 0.024404994 | FX20: =FP20 -> 0.15486464 | FY20: =EV20-FT20 -> 0.35776541 | FZ20: =SUM(FV20:FY20) -> 0.63532005 | GA20: =IF(FZ20>5,0,IF(FZ20+FB20<5,FB20,5-FZ20)) -> 3.0077145 | GB20: =GA20+FZ20 -> 3.6430345 | GC20: =IF(GB20>5,0,IF(GB20+FQ20<5,FQ20,5-GB20)) -> 1.3569655 | GD20: =GC20+GB20 -> 5 | GE20: =IF(GD20=5,0,IF(GD20+FA20<5,FA20,5-GD20)) -> 0 | GF20: =GE20+GD20 -> 5 | GG20: =FB20-GA20 -> 0 | GH20: =FQ20-GC20 -> 0.28103871 | GI20: =FA20-GE20 -> 0.07962127 | GJ20: =SUM(GG20:GI20) -> 0.36065998 | GK20: =GJ20 -> 0.36065998 | GL20: =IF(FC20>2-GK20,2-GK20,FC20) -> 1.63934 | GM20: =IF(GL20+GK20+FD20<2,FD20,2-GK20-GL20) -> 0 | GN20: =GL20+GK20+GM20 -> 2 | GP20: =IF(GL20<1,"Mg-Fe-Li grpup",IF(AND(GL20+GM20>=1,GM20<0.5),"CALCIC",IF(AND(GL20+GM20>=1,GM20>0.5),"SODIC-CALCIC"))) -> CALCIC | GR20: =IF(FD20-GM20>0,FD20-GM20,0) -> 0.67463364 | GS20: =FE20 -> 0.2040481 | GT20: =GS20+GR20 -> 0.87868174 | GU20: =IF(2-FC20-EZ20<=0.1,0,2-FC20-EZ20) -> 0 | GV20: =FD20-GU20 -> 0.67463364
A21: 7.6 | B21: Merapi (2010) | C21: =AVERAGE(AL21:AS21) -> 939.85907 | D21: =AI21 -> 2.8535638 | F21: 62.291211 | G21: 0.59318084 | H21: 17.023016 | I21: 5.587774 | J21: 0.14757335 | K21: 1.4973946 | L21: 5.2114957 | M21: 3.7995718 | N21: 3.8334596 | O21: 0 | P21: 0.32097015 | Q21: =Q20 -> 5 | S21: 42.27 | T21: 2.7 | U21: 11.33 | V21: 13.3 | W21: 0.4 | X21: 13.22 | Y21: 11.05 | Z21: 2.28 | AA21: 0.99 | AB21: 0.01 | AD21: =0.7996+15.347*SQRT(AH21/10)-0.00233*AL21+0.06248*(N21+M21) -> 10.275677 | AF21: =(DN21/DP21)/(CM21/CO21) -> 0.2695986 | AG21: =751.95-0.4*AL21-278000/AL21-9.184*EW21 -> 62.538583 | AH21: =ROUND(10*(-3.093-4.274*LN(EW21/CK21)-4.216*LN(CK21)+63.3*CS21+1.264*CT21+2.457*EW21+1.86*FE21+0.4*LN(FD21/CQ21)),1) -> 5.3 | AI21: =-64.79-6.064*LN(EW21/CK21)+61.75*CI21+682*CS21-101.9*CP21+7.85*EW21-46.46*LN(CI21)-4.81*LN(CQ21+CR21) -> 2.8535638 | AJ21: =-45.55+26.65*EW21+22.52*FE21+439*CD21/CH21-51.1*LN(BV21/CH21)-46.3*LN(EW21/(BV21/CH21))+5.231*LN(FD21/(CB21/CH21)) -> 5.7441058 | AL21: =1781-132.74*EU21+116.6*EV21-69.41*EZ21+101.62*FD21 -> 932.88406 | AM21: =1687-118.7*EU21+131.56*EV21-71.41*EZ21+86.13*FD21+22.44*AH21/10 -> 930.14628 | AN21: =2061-178.4*EU21 -> 938.35447 | AO21: =(24429.2)/(2.31+42.1*CM21+32.2*CP21+2.21*LN(CI21)-1.4*LN(CJ21)-2.666*LN((CM21+CO21)*CK21)) -> 941.94794 | AP21: =6383.4/(-12.07+45.4*CK21+12.21*CM21-0.415*LN(CJ21)-3.555*LN(CK21)-0.832*LN(CQ21)-0.481*LN((CM21+CO21+CN21)*CK21)-0.679*LN(FD21/CQ21)) -> 958.40297 | AQ21: =8037.85/(3.69-2.62*CT21+0.66*EZ21-0.416*LN(CJ21)+0.37*LN(CO21)-1.05*LN((CM21+CO21+CN21)*CK21)-0.462*LN(EV21/CJ21)) -> 933.20704 | AR21: =1201.4-97.93*EU21+201.82*EV21+72.85*FB21+88.9*FD21+40.65*AH21/10 -> 939.95072 | AS21: =10073.5/(9.75+0.934*EU21-1.454*EV21-0.882*FB21-1.123*FD21-0.322*LN(CM21)-0.7593*LN(EW21/CK21)-0.15*AZ21) -> 943.9791 | AU21: =0.5+0.331*EW21+0.995*EW21^2 -> 5.0901365 | AW21: =(71975-11896*LN(FL21))/(8.3144*LN(FJ21)+58) -> 909.69839 | AX21: =107*LN(DD21)-108*LN(FL21)+1184 -> 933.6403 | AZ21: =LN((GS21/GV21)*(CQ21/CR21)) -> -0.84310509 | BB21: =10*(EXP(125.93-9.5876*EU21*13/FH21-10.116*EV21*13/FH21-8.1735*EW21*13/FH21-9.2261*EZ21*13/FH21-8.7934*FB21*13/FH21-1.6659*FC21+2.4835*FD21+2.5192*FE21))/1000 -> 6.2316548 | BC21: =10*(EXP(38.723-2.6957*EU21*13/FH21-2.3565*EV21*13/FH21-1.3006*EW21*13/FH21-2.778*EZ21*13/FH21-2.4838*FB21*13/FH21-0.6614*FC21-0.2705*FD21+0.1117*FE21))/1000 -> 3.2936212 | BD21: =10*(24023-1925.3*EU21*13/FH21-1720.6*EV21*13/FH21-1478.5*EW21*13/FH21-1843.2*EZ21*13/FH21-1746.9*FB21*13/FH21-158.28*FC21-40.444*FD21+253.52*FE21)/1000 -> 4.1599007 | BE21: =10*(26106-1991.9*EU21*13/FH21-3035*EV21*13/FH21-1472.2*EW21*13/FH21-2454.8*EZ21*13/FH21-2125.8*FB21*13/FH21-830.64*FC21+2708.8*FD21+2204.1*FE21)/1000 -> 6.1128845 | BF21: =10*EXP(26.543-1.2085*EU21*13/FH21-3.8593*EV21*13/FH21-1.1054*EW21*13/FH21-2.9068*EZ21*13/FH21-2.6483*FB21*13/FH21+0.5134*FC21+2.9752*FD21+1.8147*FE21)/1000 -> 7.3112259 | BG21: =10*(19.209*EXP(1.438*EW21*13/FF21))/1000 -> 2.292923 | BI21: =EZ21/(EZ21+FB21) -> 0.36076701 | BJ21: =IF(AND(BI21<0.65,OR(AP21<800,AQ21<800,AO21<800,AM21<800)),"YES","NO") -> NO | BK21: =(-3.92+5.03*EW21) -> 6.0793176 | BL21: =1.27*(EW21^2.01) -> 5.0535027 | BM21: =0.26*EXP(1.48*EW21) -> 4.9286814 | BN21: =(-4.76+5.64*EW21) -> 6.4519585 | BO21: =(-3.46+4.23*EW21) -> 4.9489689 | BP21: =(4.76*EW21-3.01-((C21-675)/85)*(0.53*EW21+0.005294*(C21-675))) -> -1.1995775 | BQ21: =(5.03*EW21-3.53) -> 6.4693176 | BR21: =(-3.01+4.76*EW21) -> 6.4525749 | BT21: =F21/BT$6 -> 1.0367302 | BU21: =G21/BU$6 -> 0.007426011 | BV21: =H21/BV$6 -> 0.16695615 | BW21: =O21/CC$6 -> 0 | BX21: =I21/BW$6 -> 0.07777389 | BY21: =J21/BX$6 -> 0.0020803292 | BZ21: =K21/BY$6 -> 0.037152138 | CA21: =L21/BZ$6 -> 0.092933976 | CB21: =M21/CA$6 -> 0.061304279 | CC21: =N21/CB$6 -> 0.040696628 | CD21: =P21/CD$6 -> 0.0022613565 | CE21: =Q21/CE$6 -> 0.27756375 | CF21: =SUM(BT21:CE21) -> 1.8028787 | CG21: =BT21+BU21+BX21+BY21+BZ21+CA21+2*(BV21+BW21+CB21+CC21+CD21) -> 1.7965334 | CH21: =SUM(BT21:CD21) -> 1.525315 | CI21: =BT21/$CF21 -> 0.57504158 | CJ21: =BU21/$CF21 -> 0.0041189741 | CK21: =BV21/$CF21 -> 0.092605312 | CL21: =BW21/$CF21 -> 0 | CM21: =BX21/$CF21 -> 0.043138725 | CN21: =BY21/$CF21 -> 0.001153893 | CO21: =BZ21/$CF21 -> 0.02060712 | CP21: =CA21/$CF21 -> 0.051547546 | ... CT21: =CE21/$CF21 -> 0.15395586 | CU21: =SUM(CI21:CT21) -> 1 | CV21: =SUM(CI21:CS21) -> 0.84604414 | CX21: =BT21/$CG21 -> 0.57707262 | CY21: =BU21/$CG21 -> 0.0041335223 | CZ21: =BV21*2/$CG21 -> 0.18586478 | DA21: =BW21*2/$CG21 -> 0 | DB21: =BX21/$CG21 -> 0.04329109 | DC21: =BY21/$CG21 -> 0.0011579685 | DD21: =BZ21/$CG21 -> 0.020679904 | DE21: =CA21/$CG21 -> 0.051729612 | DF21: =CB21*2/$CG21 -> 0.068247302 | DG21: =CC21*2/$CG21 -> 0.045305729 | DH21: =CD21*2/$CG21 -> 0.0025174666 | DI21: =SUM(CX21:DH21) -> 1 | DJ21: =S21/DJ$6 -> 0.70351157 | DK21: =T21/DK$6 -> 0.033801209 | DL21: =U21/DL$6 -> 0.11112092 | DM21: =AB21/DM$6 -> 6.5795447e-05 | DN21: =V21/DN$6 -> 0.18511714 | DO21: =W21/DO$6 -> 0.0056387665 | DP21: =X21/DP$6 -> 0.32800389 | DQ21: =Y21/DQ$6 -> 0.19704908 | DR21: =Z21/DR$6 -> 0.036786713 | DS21: =AA21/DS$6 -> 0.01051 | DT21: =SUM(DJ21:DS21) -> 1.6116051 | DU21: =S21/DJ$7 -> 0.70351157 | DV21: =T21/DK$7 -> 0.033801209 | DW21: =U21/DL$7 -> 0.22224184 | DX21: =AB21/DM$7 -> 0.00013159089 | DZ21: =V21/DN$7 -> 0.18511714 | EA21: =W21/DO$7 -> 0.0056387665 | EB21: =X21/DP$7 -> 0.32800389 | EC21: =Y21/DQ$7 -> 0.19704908 | ED21: =Z21/DR$7 -> 0.073573426 | EE21: =AA21/DS$7 -> 0.021020001 | EG21: =DJ21*2 -> 1.4070231 | EH21: =DK21*2 -> 0.067602418 | EI21: =DL21*3 -> 0.33336276 | EJ21: =DM21*3 -> 0.00019738634 | EL21: =DN21 -> 0.18511714 | EM21: =DO21 -> 0.0056387665 | EN21: =DP21 -> 0.32800389 | EO21: =DQ21 -> 0.19704908 | EP21: =DR21 -> 0.036786713 | EQ21: =DS21 -> 0.01051 | ER21: =SUM(EG21:EQ21) -> 2.5712913 | ES21: =23/ER21 -> 8.944922 | EU21: =DU21*$ES21 -> 6.2928561 | EV21: =DV21*$ES21 -> 0.30234918 | EW21: =DW21*$ES21 -> 1.9879359 | EX21: =DX21*$ES21 -> 0.0011770703 | EZ21: =DZ21*$ES21 -> 1.6558584 | FA21: =EA21*$ES21 -> 0.050438327 | FB21: =EB21*$ES21 -> 2.9339692 | FC21: =EC21*$ES21 -> 1.7625886 | FD21: =ED21*$ES21 -> 0.65810856 | FE21: =EE21*$ES21 -> 0.18802227 | FF21: =SUM(EU21:FC21) -> 14.987173 | FG21: =SUM(EU21:FE21) -> 15.833304 | FH21: =SUM(EU21:FB21) -> 13.224584 | FI21: =IF(OR(FG21>16,FG21<15),"BAD","Good") -> Good | FJ21: =(FB21*13/(EU21+EV21+EW21+EZ21+FA21+FB21))/(DD21) -> 139.47842 | FK21: =FB21/(FB21+EZ21) -> 0.63923299 | FL21: =DE21/(DE21+CZ21) -> 0.21772236 | FN21: =5.5976-24505/(AM21+273.15)+0.8099*LOG(AM21+273.15)+0.0937*(AH21*1000-1)/(273.15+AM21)+$G$6 -> -11.859869 | FO21: =EXP(-6.53+10813.8/(AM21+273.15)+0.19*FN21*2.3026+12.4*(CB21+CC21)/CG21-3.44*BV21/(BV21+BT21)+4.15*CA21/CG21) -> 0.10124189 | FP21: =(EZ21)*FO21/(1+2*FO21) -> 0.1394133 | FQ21: =(EZ21)-FP21 -> 1.5164451 | FR21: =EU21 -> 6.2928561 | FS21: =IF(EU21+EW21>8,8-EU21,EW21) -> 1.7071439 | FT21: =IF(FS21+FR21=8,0,IF(8<FS21+FR21+EV21,EV21,8-FR21-FS21)) -> 0 | FU21: =FS21+FR21+FT21 -> 8 | FV21: =IF(EW21-FS21<0,0,EW21-FS21) -> 0.28079201 | FW21: =EX21 -> 0.0011770703 | FX21: =FP21 -> 0.1394133 | FY21: =EV21-FT21 -> 0.30234918 | FZ21: =SUM(FV21:FY21) -> 0.72373156 | GA21: =IF(FZ21>5,0,IF(FZ21+FB21<5,FB21,5-FZ21)) -> 2.9339692 | GB21: =GA21+FZ21 -> 3.6577008 | GC21: =IF(GB21>5,0,IF(GB21+FQ21<5,FQ21,5-GB21)) -> 1.3422992 | GD21: =GC21+GB21 -> 5 | GE21: =IF(GD21=5,0,IF(GD21+FA21<5,FA21,5-GD21)) -> 0 | GF21: =GE21+GD21 -> 5 | GG21: =FB21-GA21 -> 0 | GH21: =FQ21-GC21 -> 0.17414585 | GI21: =FA21-GE21 -> 0.050438327 | GJ21: =SUM(GG21:GI21) -> 0.22458418 | GK21: =GJ21 -> 0.22458418 | GL21: =IF(FC21>2-GK21,2-GK21,FC21) -> 1.7625886 | GM21: =IF(GL21+GK21+FD21<2,FD21,2-GK21-GL21) -> 0.01282718 | GN21: =GL21+GK21+GM21 -> 2 | GP21: =IF(GL21<1,"Mg-Fe-Li grpup",IF(AND(GL21+GM21>=1,GM21<0.5),"CALCIC",IF(AND(GL21+GM21>=1,GM21>0.5),"SODIC-CALCIC"))) -> CALCIC | GR21: =IF(FD21-GM21>0,FD21-GM21,0) -> 0.64528138 | GS21: =FE21 -> 0.18802227 | GT21: =GS21+GR21 -> 0.83330364 | GU21: =IF(2-FC21-EZ21<=0.1,0,2-FC21-EZ21) -> 0 | GV21: =FD21-GU21 -> 0.65810856
A22: 9.8 | B22: Merapi (2010) | C22: =AVERAGE(AL22:AS22) -> 920.50194 | D22: =AI22 -> 2.9707002 | F22: 62.103648 | G22: 0.59746243 | H22: 17.080116 | I22: 5.6507939 | J22: 0.14893051 | K22: 1.523251 | L22: 5.3004991 | M22: 3.7999649 | N22: 3.7857285 | O22: 0 | P22: 0.32098964 | Q22: =Q21 -> 5 | S22: 41.2 | T22: 2.02 | U22: 10.91 | V22: 12.02 | W22: 0.22 | X22: 12.02 | Y22: 10.58 | Z22: 2.15 | AA22: 0.77 | AB22: 0 | AD22: =0.7996+15.347*SQRT(AH22/10)-0.00233*AL22+0.06248*(N22+M22) -> 9.6770981 | AF22: =(DN22/DP22)/(CM22/CO22) -> 0.26956408 | AG22: =751.95-0.4*AL22-278000/AL22-9.184*EW22 -> 64.020787 | AH22: =ROUND(10*(-3.093-4.274*LN(EW22/CK22)-4.216*LN(CK22)+63.3*CS22+1.264*CT22+2.457*EW22+1.86*FE22+0.4*LN(FD22/CQ22)),1) -> 4.7 | AI22: =-64.79-6.064*LN(EW22/CK22)+61.75*CI22+682*CS22-101.9*CP22+7.85*EW22-46.46*LN(CI22)-4.81*LN(CQ22+CR22) -> 2.9707002 | AJ22: =-45.55+26.65*EW22+22.52*FE22+439*CD22/CH22-51.1*LN(BV22/CH22)-46.3*LN(EW22/(BV22/CH22))+5.231*LN(FD22/(CB22/CH22)) -> 5.014192 | AL22: =1781-132.74*EU22+116.6*EV22-69.41*EZ22+101.62*FD22 -> 908.93954 | AM22: =1687-118.7*EU22+131.56*EV22-71.41*EZ22+86.13*FD22+22.44*AH22/10 -> 906.41258 | AN22: =2061-178.4*EU22 -> 909.38249 | AO22: =(24429.2)/(2.31+42.1*CM22+32.2*CP22+2.21*LN(CI22)-1.4*LN(CJ22)-2.666*LN((CM22+CO22)*CK22)) -> 942.37545 | AP22: =6383.4/(-12.07+45.4*CK22+12.21*CM22-0.415*LN(CJ22)-3.555*LN(CK22)-0.832*LN(CQ22)-0.481*LN((CM22+CO22+CN22)*CK22)-0.679*LN(FD22/CQ22)) -> 958.05475 | AQ22: =8037.85/(3.69-2.62*CT22+0.66*EZ22-0.416*LN(CJ22)+0.37*LN(CO22)-1.05*LN((CM22+CO22+CN22)*CK22)-0.462*LN(EV22/CJ22)) -> 928.18176 | AR22: =1201.4-97.93*EU22+201.82*EV22+72.85*FB22+88.9*FD22+40.65*AH22/10 -> 898.98318 | AS22: =10073.5/(9.75+0.934*EU22-1.454*EV22-0.882*FB22-1.123*FD22-0.322*LN(CM22)-0.7593*LN(EW22/CK22)-0.15*AZ22) -> 911.68577 | AU22: =0.5+0.331*EW22+0.995*EW22^2 -> 5.2053345 | AW22: =(71975-11896*LN(FL22))/(8.3144*LN(FJ22)+58) -> 912.49781 | AX22: =107*LN(DD22)-108*LN(FL22)+1184 -> 934.31558 | AZ22: =LN((GS22/GV22)*(CQ22/CR22)) -> -1.0230791 | BB22: =10*(EXP(125.93-9.5876*EU22*13/FH22-10.116*EV22*13/FH22-8.1735*EW22*13/FH22-9.2261*EZ22*13/FH22-8.7934*FB22*13/FH22-1.6659*FC22+2.4835*FD22+2.5192*FE22))/1000 -> 4.4201443 | BC22: =10*(EXP(38.723-2.6957*EU22*13/FH22-2.3565*EV22*13/FH22-1.3006*EW22*13/FH22-2.778*EZ22*13/FH22-2.4838*FB22*13/FH22-0.6614*FC22-0.2705*FD22+0.1117*FE22))/1000 -> 3.1379023 | BD22: =10*(24023-1925.3*EU22*13/FH22-1720.6*EV22*13/FH22-1478.5*EW22*13/FH22-1843.2*EZ22*13/FH22-1746.9*FB22*13/FH22-158.28*FC22-40.444*FD22+253.52*FE22)/1000 -> 3.4591793 | BE22: =10*(26106-1991.9*EU22*13/FH22-3035*EV22*13/FH22-1472.2*EW22*13/FH22-2454.8*EZ22*13/FH22-2125.8*FB22*13/FH22-830.64*FC22+2708.8*FD22+2204.1*FE22)/1000 -> 5.9852319 | BF22: =10*EXP(26.543-1.2085*EU22*13/FH22-3.8593*EV22*13/FH22-1.1054*EW22*13/FH22-2.9068*EZ22*13/FH22-2.6483*FB22*13/FH22+0.5134*FC22+2.9752*FD22+1.8147*FE22)/1000 -> 10.189207 | BG22: =10*(19.209*EXP(1.438*EW22*13/FF22))/1000 -> 2.4073994 | BI22: =EZ22/(EZ22+FB22) -> 0.35937684 | BJ22: =IF(AND(BI22<0.65,OR(AP22<800,AQ22<800,AO22<800,AM22<800)),"YES","NO") -> NO | BK22: =(-3.92+5.03*EW22) -> 6.2136487 | BL22: =1.27*(EW22^2.01) -> 5.1908851 | BM22: =0.26*EXP(1.48*EW22) -> 5.1273879 | BN22: =(-4.76+5.64*EW22) -> 6.6025803 | BO22: =(-3.46+4.23*EW22) -> 5.0619352 | BP22: =(4.76*EW22-3.01-((C22-675)/85)*(0.53*EW22+0.005294*(C22-675))) -> -0.258104 | BQ22: =(5.03*EW22-3.53) -> 6.6036487 | BR22: =(-3.01+4.76*EW22) -> 6.5796954 | BT22: =F22/BT$6 -> 1.0336086 | BU22: =G22/BU$6 -> 0.007479612 | BV22: =H22/BV$6 -> 0.16751617 | BW22: =O22/CC$6 -> 0 | BX22: =I22/BW$6 -> 0.078651038 | BY22: =J22/BX$6 -> 0.002099461 | BZ22: =K22/BY$6 -> 0.037793666 | CA22: =L22/BZ$6 -> 0.094521129 | CB22: =M22/CA$6 -> 0.061310622 | CC22: =N22/CB$6 -> 0.040189907 | CD22: =P22/CD$6 -> 0.0022614938 | CE22: =Q22/CE$6 -> 0.27756375 | CF22: =SUM(BT22:CE22) -> 1.8029954 | CG22: =BT22+BU22+BX22+BY22+BZ22+CA22+2*(BV22+BW22+CB22+CC22+CD22) -> 1.7967099 | CH22: =SUM(BT22:CD22) -> 1.5254317 | CI22: =BT22/$CF22 -> 0.57327299 | CJ22: =BU22/$CF22 -> 0.0041484365 | CK22: =BV22/$CF22 -> 0.092909923 | CL22: =BW22/$CF22 -> 0 | CM22: =BX22/$CF22 -> 0.043622428 | CN22: =BY22/$CF22 -> 0.0011644294 | CO22: =BZ22/$CF22 -> 0.020961599 | CP22: =CA22/$CF22 -> 0.052424497 | ... CT22: =CE22/$CF22 -> 0.1539459 | CU22: =SUM(CI22:CT22) -> 1 | CV22: =SUM(CI22:CS22) -> 0.8460541 | CX22: =BT22/$CG22 -> 0.57527852 | CY22: =BU22/$CG22 -> 0.0041629492 | CZ22: =BV22*2/$CG22 -> 0.18646991 | DA22: =BW22*2/$CG22 -> 0 | DB22: =BX22/$CG22 -> 0.043775035 | DC22: =BY22/$CG22 -> 0.0011685031 | DD22: =BZ22/$CG22 -> 0.02103493 | DE22: =CA22/$CG22 -> 0.052607898 | DF22: =CB22*2/$CG22 -> 0.06824766 | DG22: =CC22*2/$CG22 -> 0.044737226 | DH22: =CD22*2/$CG22 -> 0.0025173722 | DI22: =SUM(CX22:DH22) -> 1 | DJ22: =S22/DJ$6 -> 0.68570325 | DK22: =T22/DK$6 -> 0.025288312 | DL22: =U22/DL$6 -> 0.1070017 | DM22: =AB22/DM$6 -> 0 | DN22: =V22/DN$6 -> 0.16730135 | DO22: =W22/DO$6 -> 0.0031013216 | DP22: =X22/DP$6 -> 0.29823047 | DQ22: =Y22/DQ$6 -> 0.18866781 | DR22: =Z22/DR$6 -> 0.034689225 | DS22: =AA22/DS$6 -> 0.0081744448 | DT22: =SUM(DJ22:DS22) -> 1.5181579 | DU22: =S22/DJ$7 -> 0.68570325 | DV22: =T22/DK$7 -> 0.025288312 | DW22: =U22/DL$7 -> 0.21400339 | DX22: =AB22/DM$7 -> 0 | DZ22: =V22/DN$7 -> 0.16730135 | EA22: =W22/DO$7 -> 0.0031013216 | EB22: =X22/DP$7 -> 0.29823047 | EC22: =Y22/DQ$7 -> 0.18866781 | ED22: =Z22/DR$7 -> 0.06937845 | EE22: =AA22/DS$7 -> 0.01634889 | EG22: =DJ22*2 -> 1.3714065 | EH22: =DK22*2 -> 0.050576624 | EI22: =DL22*3 -> 0.32100509 | EJ22: =DM22*3 -> 0 | EL22: =DN22 -> 0.16730135 | EM22: =DO22 -> 0.0031013216 | EN22: =DP22 -> 0.29823047 | EO22: =DQ22 -> 0.18866781 | EP22: =DR22 -> 0.034689225 | EQ22: =DS22 -> 0.0081744448 | ER22: =SUM(EG22:EQ22) -> 2.4431528 | ES22: =23/ER22 -> 9.4140652 | EU22: =DU22*$ES22 -> 6.4552551 | EV22: =DV22*$ES22 -> 0.23806581 | EW22: =DW22*$ES22 -> 2.0146419 | EX22: =DX22*$ES22 -> 0 | EZ22: =DZ22*$ES22 -> 1.5749858 | FA22: =EA22*$ES22 -> 0.029196043 | FB22: =EB22*$ES22 -> 2.807561 | FC22: =EC22*$ES22 -> 1.776131 | FD22: =ED22*$ES22 -> 0.65313325 | FE22: =EE22*$ES22 -> 0.15390951 | FF22: =SUM(EU22:FC22) -> 14.895837 | FG22: =SUM(EU22:FE22) -> 15.70288 | FH22: =SUM(EU22:FB22) -> 13.119706 | FI22: =IF(OR(FG22>16,FG22<15),"BAD","Good") -> Good | FJ22: =(FB22*13/(EU22+EV22+EW22+EZ22+FA22+FB22))/(DD22) -> 132.25357 | FK22: =FB22/(FB22+EZ22) -> 0.64062316 | FL22: =DE22/(DE22+CZ22) -> 0.22004509 | FN22: =5.5976-24505/(AM22+273.15)+0.8099*LOG(AM22+273.15)+0.0937*(AH22*1000-1)/(273.15+AM22)+$G$6 -> -12.315992 | FO22: =EXP(-6.53+10813.8/(AM22+273.15)+0.19*FN22*2.3026+12.4*(CB22+CC22)/CG22-3.44*BV22/(BV22+BT22)+4.15*CA22/CG22) -> 0.099115303 | FP22: =(EZ22)*FO22/(1+2*FO22) -> 0.13027976 | FQ22: =(EZ22)-FP22 -> 1.4447061 | FR22: =EU22 -> 6.4552551 | FS22: =IF(EU22+EW22>8,8-EU22,EW22) -> 1.5447449 | FT22: =IF(FS22+FR22=8,0,IF(8<FS22+FR22+EV22,EV22,8-FR22-FS22)) -> 0 | FU22: =FS22+FR22+FT22 -> 8 | FV22: =IF(EW22-FS22<0,0,EW22-FS22) -> 0.469897 | FW22: =EX22 -> 0 | FX22: =FP22 -> 0.13027976 | FY22: =EV22-FT22 -> 0.23806581 | FZ22: =SUM(FV22:FY22) -> 0.83824257 | GA22: =IF(FZ22>5,0,IF(FZ22+FB22<5,FB22,5-FZ22)) -> 2.807561 | GB22: =GA22+FZ22 -> 3.6458036 | GC22: =IF(GB22>5,0,IF(GB22+FQ22<5,FQ22,5-GB22)) -> 1.3541964 | GD22: =GC22+GB22 -> 5 | GE22: =IF(GD22=5,0,IF(GD22+FA22<5,FA22,5-GD22)) -> 0 | GF22: =GE22+GD22 -> 5 | GG22: =FB22-GA22 -> 0 | GH22: =FQ22-GC22 -> 0.090509697 | GI22: =FA22-GE22 -> 0.029196043 | GJ22: =SUM(GG22:GI22) -> 0.11970574 | GK22: =GJ22 -> 0.11970574 | GL22: =IF(FC22>2-GK22,2-GK22,FC22) -> 1.776131 | GM22: =IF(GL22+GK22+FD22<2,FD22,2-GK22-GL22) -> 0.10416324 | GN22: =GL22+GK22+GM22 -> 2 | GP22: =IF(GL22<1,"Mg-Fe-Li grpup",IF(AND(GL22+GM22>=1,GM22<0.5),"CALCIC",IF(AND(GL22+GM22>=1,GM22>0.5),"SODIC-CALCIC"))) -> CALCIC | GR22: =IF(FD22-GM22>0,FD22-GM22,0) -> 0.54897 | GS22: =FE22 -> 0.15390951 | GT22: =GS22+GR22 -> 0.70287951 | GU22: =IF(2-FC22-EZ22<=0.1,0,2-FC22-EZ22) -> 0 | GV22: =FD22-GU22 -> 0.65313325
A23: 10.6 | B23: Merapi (2010) | C23: =AVERAGE(AL23:AS23) -> 953.56376 | D23: =AI23 -> 3.2501327 | F23: 63.621997 | G23: 0.56280237 | H23: 16.617883 | I23: 5.1406383 | J23: 0.13794408 | K23: 1.3139397 | L23: 4.5800035 | M23: 3.7967828 | N23: 4.1721188 | O23: 0 | P23: 0.32083191 | Q23: =Q22 -> 5 | S23: 43.33 | T23: 3.28 | U23: 12.27 | V23: 14.63 | W23: 0.62 | X23: 13.86 | Y23: 11.53 | Z23: 2.46 | AA23: 1.17 | AB23: 0.05 | AD23: =0.7996+15.347*SQRT(AH23/10)-0.00233*AL23+0.06248*(N23+M23) -> 10.960581 | AF23: =(DN23/DP23)/(CM23/CO23) -> 0.26979847 | AG23: =751.95-0.4*AL23-278000/AL23-9.184*EW23 -> 60.044381 | AH23: =ROUND(10*(-3.093-4.274*LN(EW23/CK23)-4.216*LN(CK23)+63.3*CS23+1.264*CT23+2.457*EW23+1.86*FE23+0.4*LN(FD23/CQ23)),1) -> 6 | AI23: =-64.79-6.064*LN(EW23/CK23)+61.75*CI23+682*CS23-101.9*CP23+7.85*EW23-46.46*LN(CI23)-4.81*LN(CQ23+CR23) -> 3.2501327 | AJ23: =-45.55+26.65*EW23+22.52*FE23+439*CD23/CH23-51.1*LN(BV23/CH23)-46.3*LN(EW23/(BV23/CH23))+5.231*LN(FD23/(CB23/CH23)) -> 6.7602847 | AL23: =1781-132.74*EU23+116.6*EV23-69.41*EZ23+101.62*FD23 -> 954.78565 | AM23: =1687-118.7*EU23+131.56*EV23-71.41*EZ23+86.13*FD23+22.44*AH23/10 -> 951.77683 | AN23: =2061-178.4*EU23 -> 965.22729 | AO23: =(24429.2)/(2.31+42.1*CM23+32.2*CP23+2.21*LN(CI23)-1.4*LN(CJ23)-2.666*LN((CM23+CO23)*CK23)) -> 938.33342 | AP23: =6383.4/(-12.07+45.4*CK23+12.21*CM23-0.415*LN(CJ23)-3.555*LN(CK23)-0.832*LN(CQ23)-0.481*LN((CM23+CO23+CN23)*CK23)-0.679*LN(FD23/CQ23)) -> 957.61675 | AQ23: =8037.85/(3.69-2.62*CT23+0.66*EZ23-0.416*LN(CJ23)+0.37*LN(CO23)-1.05*LN((CM23+CO23+CN23)*CK23)-0.462*LN(EV23/CJ23)) -> 926.65705 | AR23: =1201.4-97.93*EU23+201.82*EV23+72.85*FB23+88.9*FD23+40.65*AH23/10 -> 968.34459 | AS23: =10073.5/(9.75+0.934*EU23-1.454*EV23-0.882*FB23-1.123*FD23-0.322*LN(CM23)-0.7593*LN(EW23/CK23)-0.15*AZ23) -> 965.76853 | AU23: =0.5+0.331*EW23+0.995*EW23^2 -> 5.359716 | AW23: =(71975-11896*LN(FL23))/(8.3144*LN(FJ23)+58) -> 910.20455 | AX23: =107*LN(DD23)-108*LN(FL23)+1184 -> 928.70771 | AZ23: =LN((GS23/GV23)*(CQ23/CR23)) -> -0.83742755 | BB23: =10*(EXP(125.93-9.5876*EU23*13/FH23-10.116*EV23*13/FH23-8.1735*EW23*13/FH23-9.2261*EZ23*13/FH23-8.7934*FB23*13/FH23-1.6659*FC23+2.4835*FD23+2.5192*FE23))/1000 -> 9.7498732 | BC23: =10*(EXP(38.723-2.6957*EU23*13/FH23-2.3565*EV23*13/FH23-1.3006*EW23*13/FH23-2.778*EZ23*13/FH23-2.4838*FB23*13/FH23-0.6614*FC23-0.2705*FD23+0.1117*FE23))/1000 -> 3.8556924 | BD23: =10*(24023-1925.3*EU23*13/FH23-1720.6*EV23*13/FH23-1478.5*EW23*13/FH23-1843.2*EZ23*13/FH23-1746.9*FB23*13/FH23-158.28*FC23-40.444*FD23+253.52*FE23)/1000 -> 5.1095104 | BE23: =10*(26106-1991.9*EU23*13/FH23-3035*EV23*13/FH23-1472.2*EW23*13/FH23-2454.8*EZ23*13/FH23-2125.8*FB23*13/FH23-830.64*FC23+2708.8*FD23+2204.1*FE23)/1000 -> 7.2663347 | BF23: =10*EXP(26.543-1.2085*EU23*13/FH23-3.8593*EV23*13/FH23-1.1054*EW23*13/FH23-2.9068*EZ23*13/FH23-2.6483*FB23*13/FH23+0.5134*FC23+2.9752*FD23+1.8147*FE23)/1000 -> 6.7360418 | BG23: =10*(19.209*EXP(1.438*EW23*13/FF23))/1000 -> 2.4565931 | BI23: =EZ23/(EZ23+FB23) -> 0.37191676 | BJ23: =IF(AND(BI23<0.65,OR(AP23<800,AQ23<800,AO23<800,AM23<800)),"YES","NO") -> NO | BK23: =(-3.92+5.03*EW23) -> 6.3911333 | BL23: =1.27*(EW23^2.01) -> 5.375241 | BM23: =0.26*EXP(1.48*EW23) -> 5.4022658 | BN23: =(-4.76+5.64*EW23) -> 6.8015889 | BO23: =(-3.46+4.23*EW23) -> 5.2111917 | BP23: =(4.76*EW23-3.01-((C23-675)/85)*(0.53*EW23+0.005294*(C23-675))) -> -1.6458924 | BQ23: =(5.03*EW23-3.53) -> 6.7811333 | BR23: =(-3.01+4.76*EW23) -> 6.747653 | BT23: =F23/BT$6 -> 1.0588789 | BU23: =G23/BU$6 -> 0.0070457039 | BV23: =H23/BV$6 -> 0.16298274 | BW23: =O23/CC$6 -> 0 | BX23: =I23/BW$6 -> 0.071550395 | BY23: =J23/BX$6 -> 0.0019445862 | BZ23: =K23/BY$6 -> 0.032600404 | CA23: =L23/BZ$6 -> 0.081672892 | CB23: =M23/CA$6 -> 0.06125928 | CC23: =N23/CB$6 -> 0.04429189 | CD23: =P23/CD$6 -> 0.0022603825 | CE23: =Q23/CE$6 -> 0.27756375 | CF23: =SUM(BT23:CE23) -> 1.8020509 | CG23: =BT23+BU23+BX23+BY23+BZ23+CA23+2*(BV23+BW23+CB23+CC23+CD23) -> 1.7952815 | CH23: =SUM(BT23:CD23) -> 1.5244872 | CI23: =BT23/$CF23 -> 0.58759655 | CJ23: =BU23/$CF23 -> 0.0039098251 | CK23: =BV23/$CF23 -> 0.090442918 | CL23: =BW23/$CF23 -> 0 | CM23: =BX23/$CF23 -> 0.039704979 | CN23: =BY23/$CF23 -> 0.0010790962 | CO23: =BZ23/$CF23 -> 0.018090723 | CP23: =CA23/$CF23 -> 0.045322189 | ... CT23: =CE23/$CF23 -> 0.15402658 | CU23: =SUM(CI23:CT23) -> 1 | CV23: =SUM(CI23:CS23) -> 0.84597342 | CX23: =BT23/$CG23 -> 0.58981219 | CY23: =BU23/$CG23 -> 0.0039245678 | CZ23: =BV23*2/$CG23 -> 0.1815679 | DA23: =BW23*2/$CG23 -> 0 | DB23: =BX23/$CG23 -> 0.039854695 | DC23: =BY23/$CG23 -> 0.0010831651 | DD23: =BZ23/$CG23 -> 0.018158937 | DE23: =CA23/$CG23 -> 0.045493085 | DF23: =CB23*2/$CG23 -> 0.068244764 | DG23: =CC23*2/$CG23 -> 0.049342558 | DH23: =CD23*2/$CG23 -> 0.0025181371 | DI23: =SUM(CX23:DH23) -> 1 | DJ23: =S23/DJ$6 -> 0.72115345 | DK23: =T23/DK$6 -> 0.041062209 | DL23: =U23/DL$6 -> 0.12034013 | DM23: =AB23/DM$6 -> 0.00032897724 | DN23: =V23/DN$6 -> 0.20362885 | DO23: =W23/DO$6 -> 0.0087400881 | DP23: =X23/DP$6 -> 0.34388305 | DQ23: =Y23/DQ$6 -> 0.20560868 | DR23: =Z23/DR$6 -> 0.039690927 | DS23: =AA23/DS$6 -> 0.01242091 | DT23: =SUM(DJ23:DS23) -> 1.6968573 | DU23: =S23/DJ$7 -> 0.72115345 | DV23: =T23/DK$7 -> 0.041062209 | DW23: =U23/DL$7 -> 0.24068026 | DX23: =AB23/DM$7 -> 0.00065795447 | DZ23: =V23/DN$7 -> 0.20362885 | EA23: =W23/DO$7 -> 0.0087400881 | EB23: =X23/DP$7 -> 0.34388305 | EC23: =Y23/DQ$7 -> 0.20560868 | ED23: =Z23/DR$7 -> 0.079381854 | EE23: =AA23/DS$7 -> 0.024841819 | EG23: =DJ23*2 -> 1.4423069 | EH23: =DK23*2 -> 0.082124418 | EI23: =DL23*3 -> 0.36102039 | EJ23: =DM23*3 -> 0.00098693171 | EL23: =DN23 -> 0.20362885 | EM23: =DO23 -> 0.0087400881 | EN23: =DP23 -> 0.34388305 | EO23: =DQ23 -> 0.20560868 | EP23: =DR23 -> 0.039690927 | EQ23: =DS23 -> 0.01242091 | ER23: =SUM(EG23:EQ23) -> 2.7004111 | ES23: =23/ER23 -> 8.5172216 | EU23: =DU23*$ES23 -> 6.1422237 | EV23: =DV23*$ES23 -> 0.34973593 | EW23: =DW23*$ES23 -> 2.0499271 | EX23: =DX23*$ES23 -> 0.005603944 | EZ23: =DZ23*$ES23 -> 1.7343521 | FA23: =EA23*$ES23 -> 0.074441267 | FB23: =EB23*$ES23 -> 2.9289281 | FC23: =EC23*$ES23 -> 1.7512147 | FD23: =ED23*$ES23 -> 0.67611284 | FE23: =EE23*$ES23 -> 0.21158328 | FF23: =SUM(EU23:FC23) -> 15.036427 | FG23: =SUM(EU23:FE23) -> 15.924123 | FH23: =SUM(EU23:FB23) -> 13.285212 | FI23: =IF(OR(FG23>16,FG23<15),"BAD","Good") -> Good | FJ23: =(FB23*13/(EU23+EV23+EW23+EZ23+FA23+FB23))/(DD23) -> 157.89791 | FK23: =FB23/(FB23+EZ23) -> 0.62808324 | FL23: =DE23/(DE23+CZ23) -> 0.20035624 | FN23: =5.5976-24505/(AM23+273.15)+0.8099*LOG(AM23+273.15)+0.0937*(AH23*1000-1)/(273.15+AM23)+$G$6 -> -11.447727 | FO23: =EXP(-6.53+10813.8/(AM23+273.15)+0.19*FN23*2.3026+12.4*(CB23+CC23)/CG23-3.44*BV23/(BV23+BT23)+4.15*CA23/CG23) -> 0.1052715 | FP23: =(EZ23)*FO23/(1+2*FO23) -> 0.1508231 | FQ23: =(EZ23)-FP23 -> 1.583529 | FR23: =EU23 -> 6.1422237 | FS23: =IF(EU23+EW23>8,8-EU23,EW23) -> 1.8577763 | FT23: =IF(FS23+FR23=8,0,IF(8<FS23+FR23+EV23,EV23,8-FR23-FS23)) -> 0 | FU23: =FS23+FR23+FT23 -> 8 | FV23: =IF(EW23-FS23<0,0,EW23-FS23) -> 0.1921508 | FW23: =EX23 -> 0.005603944 | FX23: =FP23 -> 0.1508231 | FY23: =EV23-FT23 -> 0.34973593 | FZ23: =SUM(FV23:FY23) -> 0.69831378 | GA23: =IF(FZ23>5,0,IF(FZ23+FB23<5,FB23,5-FZ23)) -> 2.9289281 | GB23: =GA23+FZ23 -> 3.6272419 | GC23: =IF(GB23>5,0,IF(GB23+FQ23<5,FQ23,5-GB23)) -> 1.3727581 | GD23: =GC23+GB23 -> 5 | GE23: =IF(GD23=5,0,IF(GD23+FA23<5,FA23,5-GD23)) -> 0 | GF23: =GE23+GD23 -> 5 | GG23: =FB23-GA23 -> 0 | GH23: =FQ23-GC23 -> 0.21077087 | GI23: =FA23-GE23 -> 0.074441267 | GJ23: =SUM(GG23:GI23) -> 0.28521213 | GK23: =GJ23 -> 0.28521213 | GL23: =IF(FC23>2-GK23,2-GK23,FC23) -> 1.7147879 | GM23: =IF(GL23+GK23+FD23<2,FD23,2-GK23-GL23) -> 0 | GN23: =GL23+GK23+GM23 -> 2 | GP23: =IF(GL23<1,"Mg-Fe-Li grpup",IF(AND(GL23+GM23>=1,GM23<0.5),"CALCIC",IF(AND(GL23+GM23>=1,GM23>0.5),"SODIC-CALCIC"))) -> CALCIC | GR23: =IF(FD23-GM23>0,FD23-GM23,0) -> 0.67611284 | GS23: =FE23 -> 0.21158328 | GT23: =GS23+GR23 -> 0.88769612 | GU23: =IF(2-FC23-EZ23<=0.1,0,2-FC23-EZ23) -> 0 | GV23: =FD23-GU23 -> 0.67611284
A24: 11.7 | B24: Merapi (2010) | C24: =AVERAGE(AL24:AS24) -> 969.39905 | D24: =AI24 -> 5.76198 | F24: 59.534467 | G24: 0.65611031 | H24: 17.862254 | I24: 6.5140225 | J24: 0.16752052 | K24: 1.8774244 | L24: 6.5196417 | M24: 3.8053493 | N24: 3.1319218 | O24: 0 | P24: 0.32125654 | Q24: =Q23 -> 5 | S24: 39.65 | T24: 2.02 | U24: 14.58 | V24: 12.26 | W24: 0.13 | X24: 13.09 | Y24: 11.96 | Z24: 2.13 | AA24: 1.16 | AB24: 0.01 | AD24: =0.7996+15.347*SQRT(AH24/10)-0.00233*AL24+0.06248*(N24+M24) -> 13.518811 | AF24: =(DN24/DP24)/(CM24/CO24) -> 0.269938 | AG24: =751.95-0.4*AL24-278000/AL24-9.184*EW24 -> 53.10529 | AH24: =ROUND(10*(-3.093-4.274*LN(EW24/CK24)-4.216*LN(CK24)+63.3*CS24+1.264*CT24+2.457*EW24+1.86*FE24+0.4*LN(FD24/CQ24)),1) -> 9 | AI24: =-64.79-6.064*LN(EW24/CK24)+61.75*CI24+682*CS24-101.9*CP24+7.85*EW24-46.46*LN(CI24)-4.81*LN(CQ24+CR24) -> 5.76198 | AJ24: =-45.55+26.65*EW24+22.52*FE24+439*CD24/CH24-51.1*LN(BV24/CH24)-46.3*LN(EW24/(BV24/CH24))+5.231*LN(FD24/(CB24/CH24)) -> 9.5901228 | AL24: =1781-132.74*EU24+116.6*EV24-69.41*EZ24+101.62*FD24 -> 975.82497 | AM24: =1687-118.7*EU24+131.56*EV24-71.41*EZ24+86.13*FD24+22.44*AH24/10 -> 976.12226 | AN24: =2061-178.4*EU24 -> 1001.964 | AO24: =(24429.2)/(2.31+42.1*CM24+32.2*CP24+2.21*LN(CI24)-1.4*LN(CJ24)-2.666*LN((CM24+CO24)*CK24)) -> 946.49865 | AP24: =6383.4/(-12.07+45.4*CK24+12.21*CM24-0.415*LN(CJ24)-3.555*LN(CK24)-0.832*LN(CQ24)-0.481*LN((CM24+CO24+CN24)*CK24)-0.679*LN(FD24/CQ24)) -> 956.14137 | AQ24: =8037.85/(3.69-2.62*CT24+0.66*EZ24-0.416*LN(CJ24)+0.37*LN(CO24)-1.05*LN((CM24+CO24+CN24)*CK24)-0.462*LN(EV24/CJ24)) -> 943.50092 | AR24: =1201.4-97.93*EU24+201.82*EV24+72.85*FB24+88.9*FD24+40.65*AH24/10 -> 970.35971 | AS24: =10073.5/(9.75+0.934*EU24-1.454*EV24-0.882*FB24-1.123*FD24-0.322*LN(CM24)-0.7593*LN(EW24/CK24)-0.15*AZ24) -> 984.78049 | AU24: =0.5+0.331*EW24+0.995*EW24^2 -> 7.9371895 | AW24: =(71975-11896*LN(FL24))/(8.3144*LN(FJ24)+58) -> 910.93264 | AX24: =107*LN(DD24)-108*LN(FL24)+1184 -> 943.12521 | AZ24: =LN((GS24/GV24)*(CQ24/CR24)) -> -0.41294101 | BB24: =10*(EXP(125.93-9.5876*EU24*13/FH24-10.116*EV24*13/FH24-8.1735*EW24*13/FH24-9.2261*EZ24*13/FH24-8.7934*FB24*13/FH24-1.6659*FC24+2.4835*FD24+2.5192*FE24))/1000 -> 7.7011834 | BC24: =10*(EXP(38.723-2.6957*EU24*13/FH24-2.3565*EV24*13/FH24-1.3006*EW24*13/FH24-2.778*EZ24*13/FH24-2.4838*FB24*13/FH24-0.6614*FC24-0.2705*FD24+0.1117*FE24))/1000 -> 6.0609878 | BD24: =10*(24023-1925.3*EU24*13/FH24-1720.6*EV24*13/FH24-1478.5*EW24*13/FH24-1843.2*EZ24*13/FH24-1746.9*FB24*13/FH24-158.28*FC24-40.444*FD24+253.52*FE24)/1000 -> 5.6894137 | BE24: =10*(26106-1991.9*EU24*13/FH24-3035*EV24*13/FH24-1472.2*EW24*13/FH24-2454.8*EZ24*13/FH24-2125.8*FB24*13/FH24-830.64*FC24+2708.8*FD24+2204.1*FE24)/1000 -> 8.1348181 | BF24: =10*EXP(26.543-1.2085*EU24*13/FH24-3.8593*EV24*13/FH24-1.1054*EW24*13/FH24-2.9068*EZ24*13/FH24-2.6483*FB24*13/FH24+0.5134*FC24+2.9752*FD24+1.8147*FE24)/1000 -> 11.447996 | BG24: =10*(19.209*EXP(1.438*EW24*13/FF24))/1000 -> 4.6138009 | BI24: =EZ24/(EZ24+FB24) -> 0.34443851 | BJ24: =IF(AND(BI24<0.65,OR(AP24<800,AQ24<800,AO24<800,AM24<800)),"YES","NO") -> NO | BK24: =(-3.92+5.03*EW24) -> 9.0206205 | BL24: =1.27*(EW24^2.01) -> 8.4855857 | BM24: =0.26*EXP(1.48*EW24) -> 11.710719 | BN24: =(-4.76+5.64*EW24) -> 9.7499601 | BO24: =(-3.46+4.23*EW24) -> 7.4224701 | BP24: =(4.76*EW24-3.01-((C24-675)/85)*(0.53*EW24+0.005294*(C24-675))) -> -0.88465898 | BQ24: =(5.03*EW24-3.53) -> 9.4106205 | BR24: =(-3.01+4.76*EW24) -> 9.2359947 | BT24: =F24/BT$6 -> 0.99084898 | BU24: =G24/BU$6 -> 0.0082138228 | BV24: =H24/BV$6 -> 0.17518712 | BW24: =O24/CC$6 -> 0 | BX24: =I24/BW$6 -> 0.090665956 | BY24: =J24/BX$6 -> 0.0023615228 | BZ24: =K24/BY$6 -> 0.046581127 | CA24: =L24/BZ$6 -> 0.11626148 | CB24: =M24/CA$6 -> 0.061397496 | CC24: =N24/CB$6 -> 0.03324899 | CD24: =P24/CD$6 -> 0.0022633742 | CE24: =Q24/CE$6 -> 0.27756375 | CF24: =SUM(BT24:CE24) -> 1.8045936 | CG24: =BT24+BU24+BX24+BY24+BZ24+CA24+2*(BV24+BW24+CB24+CC24+CD24) -> 1.7991268 | CH24: =SUM(BT24:CD24) -> 1.5270299 | CI24: =BT24/$CF24 -> 0.54907042 | CJ24: =BU24/$CF24 -> 0.0045516191 | CK24: =BV24/$CF24 -> 0.097078433 | CL24: =BW24/$CF24 -> 0 | CM24: =BX24/$CF24 -> 0.050241758 | CN24: =BY24/$CF24 -> 0.0013086175 | CO24: =BZ24/$CF24 -> 0.02581253 | CP24: =CA24/$CF24 -> 0.064425299 | ... CT24: =CE24/$CF24 -> 0.15380956 | CU24: =SUM(CI24:CT24) -> 1 | CV24: =SUM(CI24:CS24) -> 0.84619044 | CX24: =BT24/$CG24 -> 0.55073881 | CY24: =BU24/$CG24 -> 0.0045654495 | CZ24: =BV24*2/$CG24 -> 0.19474682 | DA24: =BW24*2/$CG24 -> 0 | DB24: =BX24/$CG24 -> 0.050394421 | DC24: =BY24/$CG24 -> 0.0013125938 | DD24: =BZ24/$CG24 -> 0.025890963 | DE24: =CA24/$CG24 -> 0.06462106 | DF24: =CB24*2/$CG24 -> 0.068252548 | DG24: =CC24*2/$CG24 -> 0.036961251 | DH24: =CD24*2/$CG24 -> 0.0025160807 | DI24: =SUM(CX24:DH24) -> 1 | DJ24: =S24/DJ$6 -> 0.65990617 | DK24: =T24/DK$6 -> 0.025288312 | DL24: =U24/DL$6 -> 0.14299585 | DM24: =AB24/DM$6 -> 6.5795447e-05 | DN24: =V24/DN$6 -> 0.17064181 | DO24: =W24/DO$6 -> 0.0018325991 | DP24: =X24/DP$6 -> 0.32477844 | DQ24: =Y24/DQ$6 -> 0.21327665 | DR24: =Z24/DR$6 -> 0.034366534 | DS24: =AA24/DS$6 -> 0.012314748 | DT24: =SUM(DJ24:DS24) -> 1.5854669 | DU24: =S24/DJ$7 -> 0.65990617 | DV24: =T24/DK$7 -> 0.025288312 | DW24: =U24/DL$7 -> 0.2859917 | DX24: =AB24/DM$7 -> 0.00013159089 | DZ24: =V24/DN$7 -> 0.17064181 | EA24: =W24/DO$7 -> 0.0018325991 | EB24: =X24/DP$7 -> 0.32477844 | EC24: =Y24/DQ$7 -> 0.21327665 | ED24: =Z24/DR$7 -> 0.068733069 | EE24: =AA24/DS$7 -> 0.024629496 | EG24: =DJ24*2 -> 1.3198123 | EH24: =DK24*2 -> 0.050576624 | EI24: =DL24*3 -> 0.42898755 | EJ24: =DM24*3 -> 0.00019738634 | EL24: =DN24 -> 0.17064181 | EM24: =DO24 -> 0.0018325991 | EN24: =DP24 -> 0.32477844 | EO24: =DQ24 -> 0.21327665 | EP24: =DR24 -> 0.034366534 | EQ24: =DS24 -> 0.012314748 | ER24: =SUM(EG24:EQ24) -> 2.5567847 | ES24: =23/ER24 -> 8.9956734 | EU24: =DU24*$ES24 -> 5.9363004 | EV24: =DV24*$ES24 -> 0.22748539 | EW24: =DW24*$ES24 -> 2.572688 | EX24: =DX24*$ES24 -> 0.0011837487 | EZ24: =DZ24*$ES24 -> 1.535038 | FA24: =EA24*$ES24 -> 0.016485463 | FB24: =EB24*$ES24 -> 2.9216008 | FC24: =EC24*$ES24 -> 1.9185671 | FD24: =ED24*$ES24 -> 0.61830024 | FE24: =EE24*$ES24 -> 0.2215589 | FF24: =SUM(EU24:FC24) -> 15.129349 | FG24: =SUM(EU24:FE24) -> 15.969208 | FH24: =SUM(EU24:FB24) -> 13.210782 | FI24: =IF(OR(FG24>16,FG24<15),"BAD","Good") -> Good | FJ24: =(FB24*13/(EU24+EV24+EW24+EZ24+FA24+FB24))/(DD24) -> 111.05201 | FK24: =FB24/(FB24+EZ24) -> 0.65556149 | FL24: =DE24/(DE24+CZ24) -> 0.24914827 | FN24: =5.5976-24505/(AM24+273.15)+0.8099*LOG(AM24+273.15)+0.0937*(AH24*1000-1)/(273.15+AM24)+$G$6 -> -10.834879 | FO24: =EXP(-6.53+10813.8/(AM24+273.15)+0.19*FN24*2.3026+12.4*(CB24+CC24)/CG24-3.44*BV24/(BV24+BT24)+4.15*CA24/CG24) -> 0.10965203 | FP24: =(EZ24)*FO24/(1+2*FO24) -> 0.13804599 | FQ24: =(EZ24)-FP24 -> 1.396992 | FR24: =EU24 -> 5.9363004 | FS24: =IF(EU24+EW24>8,8-EU24,EW24) -> 2.0636996 | FT24: =IF(FS24+FR24=8,0,IF(8<FS24+FR24+EV24,EV24,8-FR24-FS24)) -> 0 | FU24: =FS24+FR24+FT24 -> 8 | FV24: =IF(EW24-FS24<0,0,EW24-FS24) -> 0.50898833 | FW24: =EX24 -> 0.0011837487 | FX24: =FP24 -> 0.13804599 | FY24: =EV24-FT24 -> 0.22748539 | FZ24: =SUM(FV24:FY24) -> 0.87570346 | GA24: =IF(FZ24>5,0,IF(FZ24+FB24<5,FB24,5-FZ24)) -> 2.9216008 | GB24: =GA24+FZ24 -> 3.7973042 | GC24: =IF(GB24>5,0,IF(GB24+FQ24<5,FQ24,5-GB24)) -> 1.2026958 | GD24: =GC24+GB24 -> 5 | GE24: =IF(GD24=5,0,IF(GD24+FA24<5,FA24,5-GD24)) -> 0 | GF24: =GE24+GD24 -> 5 | GG24: =FB24-GA24 -> 0 | GH24: =FQ24-GC24 -> 0.19429626 | GI24: =FA24-GE24 -> 0.016485463 | GJ24: =SUM(GG24:GI24) -> 0.21078172 | GK24: =GJ24 -> 0.21078172 | GL24: =IF(FC24>2-GK24,2-GK24,FC24) -> 1.7892183 | GM24: =IF(GL24+GK24+FD24<2,FD24,2-GK24-GL24) -> 0 | GN24: =GL24+GK24+GM24 -> 2 | GP24: =IF(GL24<1,"Mg-Fe-Li grpup",IF(AND(GL24+GM24>=1,GM24<0.5),"CALCIC",IF(AND(GL24+GM24>=1,GM24>0.5),"SODIC-CALCIC"))) -> CALCIC | GR24: =IF(FD24-GM24>0,FD24-GM24,0) -> 0.61830024 | GS24: =FE24 -> 0.2215589 | GT24: =GS24+GR24 -> 0.83985914 | GU24: =IF(2-FC24-EZ24<=0.1,0,2-FC24-EZ24) -> 0 | GV24: =FD24-GU24 -> 0.61830024
A25: 12.3 | B25: Merapi (2010) | C25: =AVERAGE(AL25:AS25) -> 960.51458 | D25: =AI25 -> 5.8995657 | F25: 59.437465 | G25: 0.65832463 | H25: 17.891784 | I25: 6.5466148 | J25: 0.16822241 | K25: 1.8907966 | L25: 6.5656719 | M25: 3.8055526 | N25: 3.1072366 | O25: 0 | P25: 0.32126661 | Q25: =Q24 -> 5 | S25: 39.07 | T25: 1.81 | U25: 14.36 | V25: 11.72 | W25: 0 | X25: 12.54 | Y25: 11.66 | Z25: 1.98 | AA25: 1.05 | AB25: 0 | AD25: =0.7996+15.347*SQRT(AH25/10)-0.00233*AL25+0.06248*(N25+M25) -> 13.298501 | AF25: =(DN25/DP25)/(CM25/CO25) -> 0.26993432 | AG25: =751.95-0.4*AL25-278000/AL25-9.184*EW25 -> 54.037494 | AH25: =ROUND(10*(-3.093-4.274*LN(EW25/CK25)-4.216*LN(CK25)+63.3*CS25+1.264*CT25+2.457*EW25+1.86*FE25+0.4*LN(FD25/CQ25)),1) -> 8.7 | AI25: =-64.79-6.064*LN(EW25/CK25)+61.75*CI25+682*CS25-101.9*CP25+7.85*EW25-46.46*LN(CI25)-4.81*LN(CQ25+CR25) -> 5.8995657 | AJ25: =-45.55+26.65*EW25+22.52*FE25+439*CD25/CH25-51.1*LN(BV25/CH25)-46.3*LN(EW25/(BV25/CH25))+5.231*LN(FD25/(CB25/CH25)) -> 9.1941765 | AL25: =1781-132.74*EU25+116.6*EV25-69.41*EZ25+101.62*FD25 -> 964.69486 | AM25: =1687-118.7*EU25+131.56*EV25-71.41*EZ25+86.13*FD25+22.44*AH25/10 -> 965.41344 | AN25: =2061-178.4*EU25 -> 991.02103 | AO25: =(24429.2)/(2.31+42.1*CM25+32.2*CP25+2.21*LN(CI25)-1.4*LN(CJ25)-2.666*LN((CM25+CO25)*CK25)) -> 946.5976 | AP25: =6383.4/(-12.07+45.4*CK25+12.21*CM25-0.415*LN(CJ25)-3.555*LN(CK25)-0.832*LN(CQ25)-0.481*LN((CM25+CO25+CN25)*CK25)-0.679*LN(FD25/CQ25)) -> 951.55903 | AQ25: =8037.85/(3.69-2.62*CT25+0.66*EZ25-0.416*LN(CJ25)+0.37*LN(CO25)-1.05*LN((CM25+CO25+CN25)*CK25)-0.462*LN(EV25/CJ25)) -> 941.92887 | AR25: =1201.4-97.93*EU25+201.82*EV25+72.85*FB25+88.9*FD25+40.65*AH25/10 -> 953.048 | AS25: =10073.5/(9.75+0.934*EU25-1.454*EV25-0.882*FB25-1.123*FD25-0.322*LN(CM25)-0.7593*LN(EW25/CK25)-0.15*AZ25) -> 969.85379 | AU25: =0.5+0.331*EW25+0.995*EW25^2 -> 8.0760964 | AW25: =(71975-11896*LN(FL25))/(8.3144*LN(FJ25)+58) -> 912.20531 | AX25: =107*LN(DD25)-108*LN(FL25)+1184 -> 943.44293 | AZ25: =LN((GS25/GV25)*(CQ25/CR25)) -> -0.43157925 | BB25: =10*(EXP(125.93-9.5876*EU25*13/FH25-10.116*EV25*13/FH25-8.1735*EW25*13/FH25-9.2261*EZ25*13/FH25-8.7934*FB25*13/FH25-1.6659*FC25+2.4835*FD25+2.5192*FE25))/1000 -> 5.8855173 | BC25: =10*(EXP(38.723-2.6957*EU25*13/FH25-2.3565*EV25*13/FH25-1.3006*EW25*13/FH25-2.778*EZ25*13/FH25-2.4838*FB25*13/FH25-0.6614*FC25-0.2705*FD25+0.1117*FE25))/1000 -> 6.0000508 | BD25: =10*(24023-1925.3*EU25*13/FH25-1720.6*EV25*13/FH25-1478.5*EW25*13/FH25-1843.2*EZ25*13/FH25-1746.9*FB25*13/FH25-158.28*FC25-40.444*FD25+253.52*FE25)/1000 -> 5.3294274 | BE25: =10*(26106-1991.9*EU25*13/FH25-3035*EV25*13/FH25-1472.2*EW25*13/FH25-2454.8*EZ25*13/FH25-2125.8*FB25*13/FH25-830.64*FC25+2708.8*FD25+2204.1*FE25)/1000 -> 7.18615 | BF25: =10*EXP(26.543-1.2085*EU25*13/FH25-3.8593*EV25*13/FH25-1.1054*EW25*13/FH25-2.9068*EZ25*13/FH25-2.6483*FB25*13/FH25+0.5134*FC25+2.9752*FD25+1.8147*FE25)/1000 -> 11.703552 | BG25: =10*(19.209*EXP(1.438*EW25*13/FF25))/1000 -> 4.7937081 | BI25: =EZ25/(EZ25+FB25) -> 0.34395995 | BJ25: =IF(AND(BI25<0.65,OR(AP25<800,AQ25<800,AO25<800,AM25<800)),"YES","NO") -> NO | BK25: =(-3.92+5.03*EW25) -> 9.1482166 | BL25: =1.27*(EW25^2.01) -> 8.6545976 | BM25: =0.26*EXP(1.48*EW25) -> 12.158734 | BN25: =(-4.76+5.64*EW25) -> 9.8930301 | BO25: =(-3.46+4.23*EW25) -> 7.5297726 | BP25: =(4.76*EW25-3.01-((C25-675)/85)*(0.53*EW25+0.005294*(C25-675))) -> -0.34565943 | BQ25: =(5.03*EW25-3.53) -> 9.5382166 | BR25: =(-3.01+4.76*EW25) -> 9.3567417 | BT25: =F25/BT$6 -> 0.98923454 | BU25: =G25/BU$6 -> 0.0082415438 | BV25: =H25/BV$6 -> 0.17547675 | BW25: =O25/CC$6 -> 0 | BX25: =I25/BW$6 -> 0.091119593 | BY25: =J25/BX$6 -> 0.0023714172 | BZ25: =K25/BY$6 -> 0.046912908 | CA25: =L25/BZ$6 -> 0.11708232 | CB25: =M25/CA$6 -> 0.061400776 | CC25: =N25/CB$6 -> 0.032986927 | CD25: =P25/CD$6 -> 0.0022634451 | CE25: =Q25/CE$6 -> 0.27756375 | CF25: =SUM(BT25:CE25) -> 1.804654 | CG25: =BT25+BU25+BX25+BY25+BZ25+CA25+2*(BV25+BW25+CB25+CC25+CD25) -> 1.7992181 | CH25: =SUM(BT25:CD25) -> 1.5270902 | CI25: =BT25/$CF25 -> 0.54815747 | CJ25: =BU25/$CF25 -> 0.0045668278 | CK25: =BV25/$CF25 -> 0.097235675 | CL25: =BW25/$CF25 -> 0 | CM25: =BX25/$CF25 -> 0.050491449 | CN25: =BY25/$CF25 -> 0.0013140565 | CO25: =BZ25/$CF25 -> 0.025995514 | CP25: =CA25/$CF25 -> 0.064877987 | ... CT25: =CE25/$CF25 -> 0.15380441 | CU25: =SUM(CI25:CT25) -> 1 | CV25: =SUM(CI25:CS25) -> 0.84619559 | CX25: =BT25/$CG25 -> 0.54981357 | CY25: =BU25/$CG25 -> 0.0045806252 | CZ25: =BV25*2/$CG25 -> 0.19505889 | DA25: =BW25*2/$CG25 -> 0 | DB25: =BX25/$CG25 -> 0.050643995 | DC25: =BY25/$CG25 -> 0.0013180266 | DD25: =BZ25/$CG25 -> 0.026074053 | DE25: =CA25/$CG25 -> 0.065073999 | DF25: =CB25*2/$CG25 -> 0.068252733 | DG25: =CC25*2/$CG25 -> 0.036668069 | DH25: =CD25*2/$CG25 -> 0.002516032 | DI25: =SUM(CX25:DH25) -> 1 | DJ25: =S25/DJ$6 -> 0.65025306 | DK25: =T25/DK$6 -> 0.022659329 | DL25: =U25/DL$6 -> 0.14083816 | DM25: =AB25/DM$6 -> 0 | DN25: =V25/DN$6 -> 0.16312578 | DO25: =W25/DO$6 -> 0 | DP25: =X25/DP$6 -> 0.31113228 | DQ25: =Y25/DQ$6 -> 0.2079269 | DR25: =Z25/DR$6 -> 0.031946356 | DS25: =AA25/DS$6 -> 0.01114697 | DT25: =SUM(DJ25:DS25) -> 1.5390288 | DU25: =S25/DJ$7 -> 0.65025306 | DV25: =T25/DK$7 -> 0.022659329 | DW25: =U25/DL$7 -> 0.28167633 | DX25: =AB25/DM$7 -> 0 | DZ25: =V25/DN$7 -> 0.16312578 | EA25: =W25/DO$7 -> 0 | EB25: =X25/DP$7 -> 0.31113228 | EC25: =Y25/DQ$7 -> 0.2079269 | ED25: =Z25/DR$7 -> 0.063892712 | EE25: =AA25/DS$7 -> 0.02229394 | EG25: =DJ25*2 -> 1.3005061 | EH25: =DK25*2 -> 0.045318658 | EI25: =DL25*3 -> 0.42251449 | EJ25: =DM25*3 -> 0 | EL25: =DN25 -> 0.16312578 | EM25: =DO25 -> 0 | EN25: =DP25 -> 0.31113228 | EO25: =DQ25 -> 0.2079269 | EP25: =DR25 -> 0.031946356 | EQ25: =DS25 -> 0.01114697 | ER25: =SUM(EG25:EQ25) -> 2.4936176 | ES25: =23/ER25 -> 9.2235475 | EU25: =DU25*$ES25 -> 5.99764 | EV25: =DV25*$ES25 -> 0.2089994 | EW25: =DW25*$ES25 -> 2.598055 | EX25: =DX25*$ES25 -> 0 | EZ25: =DZ25*$ES25 -> 1.5045984 | FA25: =EA25*$ES25 -> 0 | FB25: =EB25*$ES25 -> 2.8697434 | FC25: =EC25*$ES25 -> 1.9178236 | FD25: =ED25*$ES25 -> 0.58931746 | FE25: =EE25*$ES25 -> 0.20562922 | FF25: =SUM(EU25:FC25) -> 15.09686 | FG25: =SUM(EU25:FE25) -> 15.891806 | FH25: =SUM(EU25:FB25) -> 13.179036 | FI25: =IF(OR(FG25>16,FG25<15),"BAD","Good") -> Good | FJ25: =(FB25*13/(EU25+EV25+EW25+EZ25+FA25+FB25))/(DD25) -> 108.5661 | FK25: =FB25/(FB25+EZ25) -> 0.65604005 | FL25: =DE25/(DE25+CZ25) -> 0.25015675 | FN25: =5.5976-24505/(AM25+273.15)+0.8099*LOG(AM25+273.15)+0.0937*(AH25*1000-1)/(273.15+AM25)+$G$6 -> -11.024365 | FO25: =EXP(-6.53+10813.8/(AM25+273.15)+0.19*FN25*2.3026+12.4*(CB25+CC25)/CG25-3.44*BV25/(BV25+BT25)+4.15*CA25/CG25) -> 0.10862207 | FP25: =(EZ25)*FO25/(1+2*FO25) -> 0.13426443 | FQ25: =(EZ25)-FP25 -> 1.3703339 | FR25: =EU25 -> 5.99764 | FS25: =IF(EU25+EW25>8,8-EU25,EW25) -> 2.00236 | FT25: =IF(FS25+FR25=8,0,IF(8<FS25+FR25+EV25,EV25,8-FR25-FS25)) -> 0 | FU25: =FS25+FR25+FT25 -> 8 | FV25: =IF(EW25-FS25<0,0,EW25-FS25) -> 0.59569497 | FW25: =EX25 -> 0 | FX25: =FP25 -> 0.13426443 | FY25: =EV25-FT25 -> 0.2089994 | FZ25: =SUM(FV25:FY25) -> 0.9389588 | GA25: =IF(FZ25>5,0,IF(FZ25+FB25<5,FB25,5-FZ25)) -> 2.8697434 | GB25: =GA25+FZ25 -> 3.8087022 | GC25: =IF(GB25>5,0,IF(GB25+FQ25<5,FQ25,5-GB25)) -> 1.1912978 | GD25: =GC25+GB25 -> 5 | GE25: =IF(GD25=5,0,IF(GD25+FA25<5,FA25,5-GD25)) -> 0 | GF25: =GE25+GD25 -> 5 | GG25: =FB25-GA25 -> 0 | GH25: =FQ25-GC25 -> 0.17903614 | GI25: =FA25-GE25 -> 0 | GJ25: =SUM(GG25:GI25) -> 0.17903614 | GK25: =GJ25 -> 0.17903614 | GL25: =IF(FC25>2-GK25,2-GK25,FC25) -> 1.8209639 | GM25: =IF(GL25+GK25+FD25<2,FD25,2-GK25-GL25) -> 0 | GN25: =GL25+GK25+GM25 -> 2 | GP25: =IF(GL25<1,"Mg-Fe-Li grpup",IF(AND(GL25+GM25>=1,GM25<0.5),"CALCIC",IF(AND(GL25+GM25>=1,GM25>0.5),"SODIC-CALCIC"))) -> CALCIC | GR25: =IF(FD25-GM25>0,FD25-GM25,0) -> 0.58931746 | GS25: =FE25 -> 0.20562922 | GT25: =GS25+GR25 -> 0.79494668 | GU25: =IF(2-FC25-EZ25<=0.1,0,2-FC25-EZ25) -> 0 | GV25: =FD25-GU25 -> 0.58931746
A26: 15.3 | B26: Merapi (2010) | C26: =AVERAGE(AL26:AS26) -> 975.90191 | D26: =AI26 -> 5.753557 | F26: 61.007837 | G26: 0.62247702 | H26: 17.413715 | I26: 6.0189796 | J26: 0.15685955 | K26: 1.6743136 | L26: 5.8204898 | M26: 3.8022614 | N26: 3.5068658 | O26: 0 | P26: 0.32110348 | Q26: =Q25 -> 5 | S26: 40.1 | T26: 2.12 | U26: 14.87 | V26: 13.1 | W26: 0.26 | X26: 13.53 | Y26: 12.3 | Z26: 2.33 | AA26: 1.29 | AB26: 0.03 | AD26: =0.7996+15.347*SQRT(AH26/10)-0.00233*AL26+0.06248*(N26+M26) -> 13.917473 | AF26: =(DN26/DP26)/(CM26/CO26) -> 0.26933168 | AG26: =751.95-0.4*AL26-278000/AL26-9.184*EW26 -> 52.079902 | AH26: =ROUND(10*(-3.093-4.274*LN(EW26/CK26)-4.216*LN(CK26)+63.3*CS26+1.264*CT26+2.457*EW26+1.86*FE26+0.4*LN(FD26/CQ26)),1) -> 9.5 | AI26: =-64.79-6.064*LN(EW26/CK26)+61.75*CI26+682*CS26-101.9*CP26+7.85*EW26-46.46*LN(CI26)-4.81*LN(CQ26+CR26) -> 5.753557 | AJ26: =-45.55+26.65*EW26+22.52*FE26+439*CD26/CH26-51.1*LN(BV26/CH26)-46.3*LN(EW26/(BV26/CH26))+5.231*LN(FD26/(CB26/CH26)) -> 10.394073 | AL26: =1781-132.74*EU26+116.6*EV26-69.41*EZ26+101.62*FD26 -> 985.92565 | AM26: =1687-118.7*EU26+131.56*EV26-71.41*EZ26+86.13*FD26+22.44*AH26/10 -> 985.60845 | AN26: =2061-178.4*EU26 -> 1015.1109 | AO26: =(24429.2)/(2.31+42.1*CM26+32.2*CP26+2.21*LN(CI26)-1.4*LN(CJ26)-2.666*LN((CM26+CO26)*CK26)) -> 944.50957 | AP26: =6383.4/(-12.07+45.4*CK26+12.21*CM26-0.415*LN(CJ26)-3.555*LN(CK26)-0.832*LN(CQ26)-0.481*LN((CM26+CO26+CN26)*CK26)-0.679*LN(FD26/CQ26)) -> 961.04466 | AQ26: =8037.85/(3.69-2.62*CT26+0.66*EZ26-0.416*LN(CJ26)+0.37*LN(CO26)-1.05*LN((CM26+CO26+CN26)*CK26)-0.462*LN(EV26/CJ26)) -> 931.63281 | AR26: =1201.4-97.93*EU26+201.82*EV26+72.85*FB26+88.9*FD26+40.65*AH26/10 -> 986.48321 | AS26: =10073.5/(9.75+0.934*EU26-1.454*EV26-0.882*FB26-1.123*FD26-0.322*LN(CM26)-0.7593*LN(EW26/CK26)-0.15*AZ26) -> 996.9 | AU26: =0.5+0.331*EW26+0.995*EW26^2 -> 7.8801736 | AW26: =(71975-11896*LN(FL26))/(8.3144*LN(FJ26)+58) -> 909.7171 | AX26: =107*LN(DD26)-108*LN(FL26)+1184 -> 938.16988 | AZ26: =LN((GS26/GV26)*(CQ26/CR26)) -> -0.51035276 | BB26: =10*(EXP(125.93-9.5876*EU26*13/FH26-10.116*EV26*13/FH26-8.1735*EW26*13/FH26-9.2261*EZ26*13/FH26-8.7934*FB26*13/FH26-1.6659*FC26+2.4835*FD26+2.5192*FE26))/1000 -> 10.600696 | BC26: =10*(EXP(38.723-2.6957*EU26*13/FH26-2.3565*EV26*13/FH26-1.3006*EW26*13/FH26-2.778*EZ26*13/FH26-2.4838*FB26*13/FH26-0.6614*FC26-0.2705*FD26+0.1117*FE26))/1000 -> 6.1238273 | BD26: =10*(24023-1925.3*EU26*13/FH26-1720.6*EV26*13/FH26-1478.5*EW26*13/FH26-1843.2*EZ26*13/FH26-1746.9*FB26*13/FH26-158.28*FC26-40.444*FD26+253.52*FE26)/1000 -> 6.0680337 | BE26: =10*(26106-1991.9*EU26*13/FH26-3035*EV26*13/FH26-1472.2*EW26*13/FH26-2454.8*EZ26*13/FH26-2125.8*FB26*13/FH26-830.64*FC26+2708.8*FD26+2204.1*FE26)/1000 -> 9.5297906 | BF26: =10*EXP(26.543-1.2085*EU26*13/FH26-3.8593*EV26*13/FH26-1.1054*EW26*13/FH26-2.9068*EZ26*13/FH26-2.6483*FB26*13/FH26+0.5134*FC26+2.9752*FD26+1.8147*FE26)/1000 -> 11.889725 | BG26: =10*(19.209*EXP(1.438*EW26*13/FF26))/1000 -> 4.5151311 | BI26: =EZ26/(EZ26+FB26) -> 0.35197547 | BJ26: =IF(AND(BI26<0.65,OR(AP26<800,AQ26<800,AO26<800,AM26<800)),"YES","NO") -> NO | BK26: =(-3.92+5.03*EW26) -> 8.9679039 | BL26: =1.27*(EW26^2.01) -> 8.416247 | BM26: =0.26*EXP(1.48*EW26) -> 11.530475 | BN26: =(-4.76+5.64*EW26) -> 9.6908505 | BO26: =(-3.46+4.23*EW26) -> 7.3781379 | BP26: =(4.76*EW26-3.01-((C26-675)/85)*(0.53*EW26+0.005294*(C26-675))) -> -1.2603024 | BQ26: =(5.03*EW26-3.53) -> 9.3579039 | BR26: =(-3.01+4.76*EW26) -> 9.1861079 | BT26: =F26/BT$6 -> 1.0153707 | BU26: =G26/BU$6 -> 0.0077927687 | BV26: =H26/BV$6 -> 0.17078799 | BW26: =O26/CC$6 -> 0 | BX26: =I26/BW$6 -> 0.08377566 | BY26: =J26/BX$6 -> 0.002211236 | BZ26: =K26/BY$6 -> 0.041541708 | CA26: =L26/BZ$6 -> 0.10379386 | CB26: =M26/CA$6 -> 0.061347675 | CC26: =N26/CB$6 -> 0.037229456 | CD26: =P26/CD$6 -> 0.0022622958 | CE26: =Q26/CE$6 -> 0.27756375 | CF26: =SUM(BT26:CE26) -> 1.8036771 | CG26: =BT26+BU26+BX26+BY26+BZ26+CA26+2*(BV26+BW26+CB26+CC26+CD26) -> 1.7977408 | CH26: =SUM(BT26:CD26) -> 1.5261133 | CI26: =BT26/$CF26 -> 0.56294483 | CJ26: =BU26/$CF26 -> 0.00432049 | CK26: =BV26/$CF26 -> 0.094688786 | CL26: =BW26/$CF26 -> 0 | CM26: =BX26/$CF26 -> 0.04644715 | CN26: =BY26/$CF26 -> 0.00122596 | CO26: =BZ26/$CF26 -> 0.023031677 | CP26: =CA26/$CF26 -> 0.057545699 | ... CT26: =CE26/$CF26 -> 0.15388771 | CU26: =SUM(CI26:CT26) -> 1 | CV26: =SUM(CI26:CS26) -> 0.84611229 | CX26: =BT26/$CG26 -> 0.56480373 | CY26: =BU26/$CG26 -> 0.0043347567 | CZ26: =BV26*2/$CG26 -> 0.19000292 | DA26: =BW26*2/$CG26 -> 0 | DB26: =BX26/$CG26 -> 0.046600523 | DC26: =BY26/$CG26 -> 0.0012300083 | DD26: =BZ26/$CG26 -> 0.02310773 | DE26: =CA26/$CG26 -> 0.057735721 | DF26: =CB26*2/$CG26 -> 0.068249746 | DG26: =CC26*2/$CG26 -> 0.041418047 | DH26: =CD26*2/$CG26 -> 0.0025168209 | DI26: =SUM(CX26:DH26) -> 1 | DJ26: =S26/DJ$6 -> 0.66739564 | DK26: =T26/DK$6 -> 0.026540208 | DL26: =U26/DL$6 -> 0.14584008 | DM26: =AB26/DM$6 -> 0.00019738634 | DN26: =V26/DN$6 -> 0.18233342 | DO26: =W26/DO$6 -> 0.0036651982 | DP26: =X26/DP$6 -> 0.33569536 | DQ26: =Y26/DQ$6 -> 0.2193397 | DR26: =Z26/DR$6 -> 0.037593439 | DS26: =AA26/DS$6 -> 0.013694849 | DT26: =SUM(DJ26:DS26) -> 1.6322953 | DU26: =S26/DJ$7 -> 0.66739564 | DV26: =T26/DK$7 -> 0.026540208 | DW26: =U26/DL$7 -> 0.29168015 | DX26: =AB26/DM$7 -> 0.00039477268 | DZ26: =V26/DN$7 -> 0.18233342 | EA26: =W26/DO$7 -> 0.0036651982 | EB26: =X26/DP$7 -> 0.33569536 | EC26: =Y26/DQ$7 -> 0.2193397 | ED26: =Z26/DR$7 -> 0.075186878 | EE26: =AA26/DS$7 -> 0.027389698 | EG26: =DJ26*2 -> 1.3347913 | EH26: =DK26*2 -> 0.053080417 | EI26: =DL26*3 -> 0.43752023 | EJ26: =DM26*3 -> 0.00059215902 | EL26: =DN26 -> 0.18233342 | EM26: =DO26 -> 0.0036651982 | EN26: =DP26 -> 0.33569536 | EO26: =DQ26 -> 0.2193397 | EP26: =DR26 -> 0.037593439 | EQ26: =DS26 -> 0.013694849 | ER26: =SUM(EG26:EQ26) -> 2.6183061 | ES26: =23/ER26 -> 8.7843054 | EU26: =DU26*$ES26 -> 5.8626071 | EV26: =DV26*$ES26 -> 0.2331373 | EW26: =DW26*$ES26 -> 2.5622075 | EX26: =DX26*$ES26 -> 0.0034678038 | EZ26: =DZ26*$ES26 -> 1.6016725 | FA26: =EA26*$ES26 -> 0.032196221 | FB26: =EB26*$ES26 -> 2.9488505 | FC26: =EC26*$ES26 -> 1.9267469 | FD26: =ED26*$ES26 -> 0.6604645 | FE26: =EE26*$ES26 -> 0.24059947 | FF26: =SUM(EU26:FC26) -> 15.170886 | FG26: =SUM(EU26:FE26) -> 16.07195 | FH26: =SUM(EU26:FB26) -> 13.244139 | FI26: =IF(OR(FG26>16,FG26<15),"BAD","Good") -> BAD | FJ26: =(FB26*13/(EU26+EV26+EW26+EZ26+FA26+FB26))/(DD26) -> 125.29358 | FK26: =FB26/(FB26+EZ26) -> 0.64802453 | FL26: =DE26/(DE26+CZ26) -> 0.23305094 | FN26: =5.5976-24505/(AM26+273.15)+0.8099*LOG(AM26+273.15)+0.0937*(AH26*1000-1)/(273.15+AM26)+$G$6 -> -10.652261 | FO26: =EXP(-6.53+10813.8/(AM26+273.15)+0.19*FN26*2.3026+12.4*(CB26+CC26)/CG26-3.44*BV26/(BV26+BT26)+4.15*CA26/CG26) -> 0.1135836 | FP26: =(EZ26)*FO26/(1+2*FO26) -> 0.1482469 | FQ26: =(EZ26)-FP26 -> 1.4534256 | FR26: =EU26 -> 5.8626071 | FS26: =IF(EU26+EW26>8,8-EU26,EW26) -> 2.1373929 | FT26: =IF(FS26+FR26=8,0,IF(8<FS26+FR26+EV26,EV26,8-FR26-FS26)) -> 0 | FU26: =FS26+FR26+FT26 -> 8 | FV26: =IF(EW26-FS26<0,0,EW26-FS26) -> 0.42481468 | FW26: =EX26 -> 0.0034678038 | FX26: =FP26 -> 0.1482469 | FY26: =EV26-FT26 -> 0.2331373 | FZ26: =SUM(FV26:FY26) -> 0.80966667 | GA26: =IF(FZ26>5,0,IF(FZ26+FB26<5,FB26,5-FZ26)) -> 2.9488505 | GB26: =GA26+FZ26 -> 3.7585172 | GC26: =IF(GB26>5,0,IF(GB26+FQ26<5,FQ26,5-GB26)) -> 1.2414828 | GD26: =GC26+GB26 -> 5 | GE26: =IF(GD26=5,0,IF(GD26+FA26<5,FA26,5-GD26)) -> 0 | GF26: =GE26+GD26 -> 5 | GG26: =FB26-GA26 -> 0 | GH26: =FQ26-GC26 -> 0.21194279 | GI26: =FA26-GE26 -> 0.032196221 | GJ26: =SUM(GG26:GI26) -> 0.24413901 | GK26: =GJ26 -> 0.24413901 | GL26: =IF(FC26>2-GK26,2-GK26,FC26) -> 1.755861 | GM26: =IF(GL26+GK26+FD26<2,FD26,2-GK26-GL26) -> 0 | GN26: =GL26+GK26+GM26 -> 2 | GP26: =IF(GL26<1,"Mg-Fe-Li grpup",IF(AND(GL26+GM26>=1,GM26<0.5),"CALCIC",IF(AND(GL26+GM26>=1,GM26>0.5),"SODIC-CALCIC"))) -> CALCIC | GR26: =IF(FD26-GM26>0,FD26-GM26,0) -> 0.6604645 | GS26: =FE26 -> 0.24059947 | GT26: =GS26+GR26 -> 0.90106397 | GU26: =IF(2-FC26-EZ26<=0.1,0,2-FC26-EZ26) -> 0 | GV26: =FD26-GU26 -> 0.6604645
A27: 11211A | B27: Merapi (2010) | C27: =AVERAGE(AL27:AS27) -> 951.67937 | D27: =AI27 -> 3.0392084 | F27: 62.317403 | G27: 0.59258296 | H27: 17.015042 | I27: 5.5789738 | J27: 0.14738383 | K27: 1.493784 | L27: 5.1990672 | M27: 3.7995169 | N27: 3.8401249 | O27: 0 | P27: 0.32096743 | Q27: 2 | S27: 40.57 | T27: 2.45 | U27: 12.82 | V27: 13.11 | W27: 0.26 | X27: 13.02 | Y27: 11.63 | Z27: 2.2 | AA27: 0.92 | AB27: 0 | AD27: =0.7996+15.347*SQRT(AH27/10)-0.00233*AL27+0.06248*(N27+M27) -> 9.6822991 | AF27: =(DN27/DP27)/(CM27/CO27) -> 0.26960329 | AG27: =751.95-0.4*AL27-278000/AL27-9.184*EW27 -> 57.936795 | AH27: =ROUND(10*(-3.093-4.274*LN(EW27/CK27)-4.216*LN(CK27)+63.3*CS27+1.264*CT27+2.457*EW27+1.86*FE27+0.4*LN(FD27/CQ27)),1) -> 4.8 | AI27: =-64.79-6.064*LN(EW27/CK27)+61.75*CI27+682*CS27-101.9*CP27+7.85*EW27-46.46*LN(CI27)-4.81*LN(CQ27+CR27) -> 3.0392084 | AJ27: =-45.55+26.65*EW27+22.52*FE27+439*CD27/CH27-51.1*LN(BV27/CH27)-46.3*LN(EW27/(BV27/CH27))+5.231*LN(FD27/(CB27/CH27)) -> 6.6912002 | AL27: =1781-132.74*EU27+116.6*EV27-69.41*EZ27+101.62*FD27 -> 955.93957 | AM27: =1687-118.7*EU27+131.56*EV27-71.41*EZ27+86.13*FD27+22.44*AH27/10 -> 949.12114 | AN27: =2061-178.4*EU27 -> 974.8557 | AO27: =(24429.2)/(2.31+42.1*CM27+32.2*CP27+2.21*LN(CI27)-1.4*LN(CJ27)-2.666*LN((CM27+CO27)*CK27)) -> 944.99126 | AP27: =6383.4/(-12.07+45.4*CK27+12.21*CM27-0.415*LN(CJ27)-3.555*LN(CK27)-0.832*LN(CQ27)-0.481*LN((CM27+CO27+CN27)*CK27)-0.679*LN(FD27/CQ27)) -> 957.31293 | AQ27: =8037.85/(3.69-2.62*CT27+0.66*EZ27-0.416*LN(CJ27)+0.37*LN(CO27)-1.05*LN((CM27+CO27+CN27)*CK27)-0.462*LN(EV27/CJ27)) -> 922.7007 | AR27: =1201.4-97.93*EU27+201.82*EV27+72.85*FB27+88.9*FD27+40.65*AH27/10 -> 949.60589 | AS27: =10073.5/(9.75+0.934*EU27-1.454*EV27-0.882*FB27-1.123*FD27-0.322*LN(CM27)-0.7593*LN(EW27/CK27)-0.15*AZ27) -> 958.9078 | AU27: =0.5+0.331*EW27+0.995*EW27^2 -> 6.3660196 | AW27: =(71975-11896*LN(FL27))/(8.3144*LN(FJ27)+58) -> 910.24894 | AX27: =107*LN(DD27)-108*LN(FL27)+1184 -> 933.54563 | AZ27: =LN((GS27/GV27)*(CQ27/CR27)) -> -0.88246992 | BB27: =10*(EXP(125.93-9.5876*EU27*13/FH27-10.116*EV27*13/FH27-8.1735*EW27*13/FH27-9.2261*EZ27*13/FH27-8.7934*FB27*13/FH27-1.6659*FC27+2.4835*FD27+2.5192*FE27))/1000 -> 5.9492046 | BC27: =10*(EXP(38.723-2.6957*EU27*13/FH27-2.3565*EV27*13/FH27-1.3006*EW27*13/FH27-2.778*EZ27*13/FH27-2.4838*FB27*13/FH27-0.6614*FC27-0.2705*FD27+0.1117*FE27))/1000 -> 4.2493418 | BD27: =10*(24023-1925.3*EU27*13/FH27-1720.6*EV27*13/FH27-1478.5*EW27*13/FH27-1843.2*EZ27*13/FH27-1746.9*FB27*13/FH27-158.28*FC27-40.444*FD27+253.52*FE27)/1000 -> 4.747204 | BE27: =10*(26106-1991.9*EU27*13/FH27-3035*EV27*13/FH27-1472.2*EW27*13/FH27-2454.8*EZ27*13/FH27-2125.8*FB27*13/FH27-830.64*FC27+2708.8*FD27+2204.1*FE27)/1000 -> 5.8756665 | BF27: =10*EXP(26.543-1.2085*EU27*13/FH27-3.8593*EV27*13/FH27-1.1054*EW27*13/FH27-2.9068*EZ27*13/FH27-2.6483*FB27*13/FH27+0.5134*FC27+2.9752*FD27+1.8147*FE27)/1000 -> 8.0837246 | BG27: =10*(19.209*EXP(1.438*EW27*13/FF27))/1000 -> 3.1852931 | BI27: =EZ27/(EZ27+FB27) -> 0.36096431 | BJ27: =IF(AND(BI27<0.65,OR(AP27<800,AQ27<800,AO27<800,AM27<800)),"YES","NO") -> NO | BK27: =(-3.92+5.03*EW27) -> 7.4851394 | BL27: =1.27*(EW27^2.01) -> 6.5830063 | BM27: =0.26*EXP(1.48*EW27) -> 7.4537174 | BN27: =(-4.76+5.64*EW27) -> 8.0282676 | BO27: =(-3.46+4.23*EW27) -> 6.1312007 | BP27: =(4.76*EW27-3.01-((C27-675)/85)*(0.53*EW27+0.005294*(C27-675))) -> -0.89657814 | BQ27: =(5.03*EW27-3.53) -> 7.8751394 | BR27: =(-3.01+4.76*EW27) -> 7.7829351 | BT27: =F27/BT$6 -> 1.0371662 | BU27: =G27/BU$6 -> 0.007418526 | BV27: =H27/BV$6 -> 0.16687795 | BW27: =O27/CC$6 -> 0 | BX27: =I27/BW$6 -> 0.077651404 | BY27: =J27/BX$6 -> 0.0020776576 | BZ27: =K27/BY$6 -> 0.037062554 | CA27: =L27/BZ$6 -> 0.092712344 | CB27: =M27/CA$6 -> 0.061303394 | CC27: =N27/CB$6 -> 0.040767388 | CD27: =P27/CD$6 -> 0.0022613373 | CE27: =Q27/CE$6 -> 0.1110255 | CF27: =SUM(BT27:CE27) -> 1.6363242 | CG27: =BT27+BU27+BX27+BY27+BZ27+CA27+2*(BV27+BW27+CB27+CC27+CD27) -> 1.7965088 | CH27: =SUM(BT27:CD27) -> 1.5252987 | CI27: =BT27/$CF27 -> 0.63383904 | CJ27: =BU27/$CF27 -> 0.0045336529 | CK27: =BV27/$CF27 -> 0.10198342 | CL27: =BW27/$CF27 -> 0 | CM27: =BX27/$CF27 -> 0.047454779 | CN27: =BY27/$CF27 -> 0.0012697102 | CO27: =BZ27/$CF27 -> 0.022649885 | CP27: =CA27/$CF27 -> 0.056658908 | ... CT27: =CE27/$CF27 -> 0.06785055 | CU27: =SUM(CI27:CT27) -> 1 | CV27: =SUM(CI27:CS27) -> 0.93214945 | CX27: =BT27/$CG27 -> 0.57732318 | CY27: =BU27/$CG27 -> 0.0041294126 | CZ27: =BV27*2/$CG27 -> 0.18578027 | DA27: =BW27*2/$CG27 -> 0 | DB27: =BX27/$CG27 -> 0.043223504 | DC27: =BY27/$CG27 -> 0.0011564973 | DD27: =BZ27/$CG27 -> 0.020630322 | DE27: =CA27/$CG27 -> 0.051606953 | DF27: =CB27*2/$CG27 -> 0.068247252 | DG27: =CC27*2/$CG27 -> 0.045385125 | DH27: =CD27*2/$CG27 -> 0.0025174798 | DI27: =SUM(CX27:DH27) -> 1 | DJ27: =S27/DJ$6 -> 0.67521799 | DK27: =T27/DK$6 -> 0.030671467 | DL27: =U27/DL$6 -> 0.12573435 | DM27: =AB27/DM$6 -> 0 | DN27: =V27/DN$6 -> 0.18247261 | DO27: =W27/DO$6 -> 0.0036651982 | DP27: =X27/DP$6 -> 0.32304165 | DQ27: =Y27/DQ$6 -> 0.20739193 | DR27: =Z27/DR$6 -> 0.035495951 | DS27: =AA27/DS$6 -> 0.0097668691 | DT27: =SUM(DJ27:DS27) -> 1.593458 | DU27: =S27/DJ$7 -> 0.67521799 | DV27: =T27/DK$7 -> 0.030671467 | DW27: =U27/DL$7 -> 0.2514687 | DX27: =AB27/DM$7 -> 0 | DZ27: =V27/DN$7 -> 0.18247261 | EA27: =W27/DO$7 -> 0.0036651982 | EB27: =X27/DP$7 -> 0.32304165 | EC27: =Y27/DQ$7 -> 0.20739193 | ED27: =Z27/DR$7 -> 0.070991902 | EE27: =AA27/DS$7 -> 0.019533738 | EG27: =DJ27*2 -> 1.350436 | EH27: =DK27*2 -> 0.061342935 | EI27: =DL27*3 -> 0.37720305 | EJ27: =DM27*3 -> 0 | EL27: =DN27 -> 0.18247261 | EM27: =DO27 -> 0.0036651982 | EN27: =DP27 -> 0.32304165 | EO27: =DQ27 -> 0.20739193 | EP27: =DR27 -> 0.035495951 | EQ27: =DS27 -> 0.0097668691 | ER27: =SUM(EG27:EQ27) -> 2.5508162 | ES27: =23/ER27 -> 9.0167219 | EU27: =DU27*$ES27 -> 6.0882528 | EV27: =DV27*$ES27 -> 0.27655609 | EW27: =DW27*$ES27 -> 2.2674233 | EX27: =DX27*$ES27 -> 0 | EZ27: =DZ27*$ES27 -> 1.6453048 | FA27: =EA27*$ES27 -> 0.033048073 | FB27: =EB27*$ES27 -> 2.9127768 | FC27: =EC27*$ES27 -> 1.8699953 | FD27: =ED27*$ES27 -> 0.64011424 | FE27: =EE27*$ES27 -> 0.17613029 | FF27: =SUM(EU27:FC27) -> 15.093357 | FG27: =SUM(EU27:FE27) -> 15.909602 | FH27: =SUM(EU27:FB27) -> 13.223362 | FI27: =IF(OR(FG27>16,FG27<15),"BAD","Good") -> Good | FJ27: =(FB27*13/(EU27+EV27+EW27+EZ27+FA27+FB27))/(DD27) -> 138.80422 | FK27: =FB27/(FB27+EZ27) -> 0.63903569 | FL27: =DE27/(DE27+CZ27) -> 0.21739566 | FN27: =5.5976-24505/(AM27+273.15)+0.8099*LOG(AM27+273.15)+0.0937*(AH27*1000-1)/(273.15+AM27)+$G$6 -> -11.582952 | FO27: =EXP(-6.53+10813.8/(AM27+273.15)+0.19*FN27*2.3026+12.4*(CB27+CC27)/CG27-3.44*BV27/(BV27+BT27)+4.15*CA27/CG27) -> 0.099434254 | FP27: =(EZ27)*FO27/(1+2*FO27) -> 0.13646171 | FQ27: =(EZ27)-FP27 -> 1.5088431 | FR27: =EU27 -> 6.0882528 | FS27: =IF(EU27+EW27>8,8-EU27,EW27) -> 1.9117472 | FT27: =IF(FS27+FR27=8,0,IF(8<FS27+FR27+EV27,EV27,8-FR27-FS27)) -> 0 | FU27: =FS27+FR27+FT27 -> 8 | FV27: =IF(EW27-FS27<0,0,EW27-FS27) -> 0.35567615 | FW27: =EX27 -> 0 | FX27: =FP27 -> 0.13646171 | FY27: =EV27-FT27 -> 0.27655609 | FZ27: =SUM(FV27:FY27) -> 0.76869395 | GA27: =IF(FZ27>5,0,IF(FZ27+FB27<5,FB27,5-FZ27)) -> 2.9127768 | GB27: =GA27+FZ27 -> 3.6814707 | GC27: =IF(GB27>5,0,IF(GB27+FQ27<5,FQ27,5-GB27)) -> 1.3185293 | GD27: =GC27+GB27 -> 5 | GE27: =IF(GD27=5,0,IF(GD27+FA27<5,FA27,5-GD27)) -> 0 | GF27: =GE27+GD27 -> 5 | GG27: =FB27-GA27 -> 0 | GH27: =FQ27-GC27 -> 0.19031376 | GI27: =FA27-GE27 -> 0.033048073 | GJ27: =SUM(GG27:GI27) -> 0.22336184 | GK27: =GJ27 -> 0.22336184 | GL27: =IF(FC27>2-GK27,2-GK27,FC27) -> 1.7766382 | GM27: =IF(GL27+GK27+FD27<2,FD27,2-GK27-GL27) -> 0 | GN27: =GL27+GK27+GM27 -> 2 | GP27: =IF(GL27<1,"Mg-Fe-Li grpup",IF(AND(GL27+GM27>=1,GM27<0.5),"CALCIC",IF(AND(GL27+GM27>=1,GM27>0.5),"SODIC-CALCIC"))) -> CALCIC | GR27: =IF(FD27-GM27>0,FD27-GM27,0) -> 0.64011424 | GS27: =FE27 -> 0.17613029 | GT27: =GS27+GR27 -> 0.81624453 | GU27: =IF(2-FC27-EZ27<=0.1,0,2-FC27-EZ27) -> 0 | GV27: =FD27-GU27 -> 0.64011424
A28: 11211B | B28: Merapi (2010) | C28: =AVERAGE(AL28:AS28) -> 917.9485 | D28: =AI28 -> 2.2114262 | F28: 63.410655 | G28: 0.56762678 | H28: 16.682223 | I28: 5.2116479 | J28: 0.13947331 | K28: 1.3430742 | L28: 4.6802908 | M28: 3.7972257 | N28: 4.1183364 | O28: 0 | P28: 0.32085386 | Q28: 2 | S28: 39.45 | T28: 1.88 | U28: 10.8 | V28: 11.85 | W28: 0 | X28: 11.32 | Y28: 10.94 | Z28: 2.04 | AA28: 0.75 | AB28: 0 | AD28: =0.7996+15.347*SQRT(AH28/10)-0.00233*AL28+0.06248*(N28+M28) -> 8.2488549 | AF28: =(DN28/DP28)/(CM28/CO28) -> 0.26977199 | AG28: =751.95-0.4*AL28-278000/AL28-9.184*EW28 -> 63.369069 | AH28: =ROUND(10*(-3.093-4.274*LN(EW28/CK28)-4.216*LN(CK28)+63.3*CS28+1.264*CT28+2.457*EW28+1.86*FE28+0.4*LN(FD28/CQ28)),1) -> 3.5 | AI28: =-64.79-6.064*LN(EW28/CK28)+61.75*CI28+682*CS28-101.9*CP28+7.85*EW28-46.46*LN(CI28)-4.81*LN(CQ28+CR28) -> 2.2114262 | AJ28: =-45.55+26.65*EW28+22.52*FE28+439*CD28/CH28-51.1*LN(BV28/CH28)-46.3*LN(EW28/(BV28/CH28))+5.231*LN(FD28/(CB28/CH28)) -> 5.2602235 | AL28: =1781-132.74*EU28+116.6*EV28-69.41*EZ28+101.62*FD28 -> 911.89573 | AM28: =1687-118.7*EU28+131.56*EV28-71.41*EZ28+86.13*FD28+22.44*AH28/10 -> 905.87676 | AN28: =2061-178.4*EU28 -> 919.32775 | AO28: =(24429.2)/(2.31+42.1*CM28+32.2*CP28+2.21*LN(CI28)-1.4*LN(CJ28)-2.666*LN((CM28+CO28)*CK28)) -> 943.11519 | AP28: =6383.4/(-12.07+45.4*CK28+12.21*CM28-0.415*LN(CJ28)-3.555*LN(CK28)-0.832*LN(CQ28)-0.481*LN((CM28+CO28+CN28)*CK28)-0.679*LN(FD28/CQ28)) -> 956.48455 | AQ28: =8037.85/(3.69-2.62*CT28+0.66*EZ28-0.416*LN(CJ28)+0.37*LN(CO28)-1.05*LN((CM28+CO28+CN28)*CK28)-0.462*LN(EV28/CJ28)) -> 909.75445 | AR28: =1201.4-97.93*EU28+201.82*EV28+72.85*FB28+88.9*FD28+40.65*AH28/10 -> 891.68744 | AS28: =10073.5/(9.75+0.934*EU28-1.454*EV28-0.882*FB28-1.123*FD28-0.322*LN(CM28)-0.7593*LN(EW28/CK28)-0.15*AZ28) -> 905.44611 | AU28: =0.5+0.331*EW28+0.995*EW28^2 -> 5.4255787 | AW28: =(71975-11896*LN(FL28))/(8.3144*LN(FJ28)+58) -> 913.91494 | AX28: =107*LN(DD28)-108*LN(FL28)+1184 -> 929.50832 | AZ28: =LN((GS28/GV28)*(CQ28/CR28)) -> -1.0818104 | BB28: =10*(EXP(125.93-9.5876*EU28*13/FH28-10.116*EV28*13/FH28-8.1735*EW28*13/FH28-9.2261*EZ28*13/FH28-8.7934*FB28*13/FH28-1.6659*FC28+2.4835*FD28+2.5192*FE28))/1000 -> 2.8297978 | BC28: =10*(EXP(38.723-2.6957*EU28*13/FH28-2.3565*EV28*13/FH28-1.3006*EW28*13/FH28-2.778*EZ28*13/FH28-2.4838*FB28*13/FH28-0.6614*FC28-0.2705*FD28+0.1117*FE28))/1000 -> 2.8746752 | BD28: =10*(24023-1925.3*EU28*13/FH28-1720.6*EV28*13/FH28-1478.5*EW28*13/FH28-1843.2*EZ28*13/FH28-1746.9*FB28*13/FH28-158.28*FC28-40.444*FD28+253.52*FE28)/1000 -> 2.9167086 | BE28: =10*(26106-1991.9*EU28*13/FH28-3035*EV28*13/FH28-1472.2*EW28*13/FH28-2454.8*EZ28*13/FH28-2125.8*FB28*13/FH28-830.64*FC28+2708.8*FD28+2204.1*FE28)/1000 -> 4.3589524 | BF28: =10*EXP(26.543-1.2085*EU28*13/FH28-3.8593*EV28*13/FH28-1.1054*EW28*13/FH28-2.9068*EZ28*13/FH28-2.6483*FB28*13/FH28+0.5134*FC28+2.9752*FD28+1.8147*FE28)/1000 -> 10.468376 | BG28: =10*(19.209*EXP(1.438*EW28*13/FF28))/1000 -> 2.5441598 | BI28: =EZ28/(EZ28+FB28) -> 0.36997756 | BJ28: =IF(AND(BI28<0.65,OR(AP28<800,AQ28<800,AO28<800,AM28<800)),"YES","NO") -> NO | BK28: =(-3.92+5.03*EW28) -> 6.4659982 | BL28: =1.27*(EW28^2.01) -> 5.4539737 | BM28: =0.26*EXP(1.48*EW28) -> 5.5225865 | BN28: =(-4.76+5.64*EW28) -> 6.8855328 | BO28: =(-3.46+4.23*EW28) -> 5.2741496 | BP28: =(4.76*EW28-3.01-((C28-675)/85)*(0.53*EW28+0.005294*(C28-675))) -> 0.014457819 | BQ28: =(5.03*EW28-3.53) -> 6.8559982 | BR28: =(-3.01+4.76*EW28) -> 6.8184993 | BT28: =F28/BT$6 -> 1.0553615 | BU28: =G28/BU$6 -> 0.0071061005 | BV28: =H28/BV$6 -> 0.16361376 | BW28: =O28/CC$6 -> 0 | BX28: =I28/BW$6 -> 0.072538748 | BY28: =J28/BX$6 -> 0.0019661436 | BZ28: =K28/BY$6 -> 0.033323265 | CA28: =L28/BZ$6 -> 0.083461266 | CB28: =M28/CA$6 -> 0.061266427 | CC28: =N28/CB$6 -> 0.043720926 | CD28: =P28/CD$6 -> 0.0022605372 | CE28: =Q28/CE$6 -> 0.1110255 | CF28: =SUM(BT28:CE28) -> 1.6356441 | CG28: =BT28+BU28+BX28+BY28+BZ28+CA28+2*(BV28+BW28+CB28+CC28+CD28) -> 1.7954803 | CH28: =SUM(BT28:CD28) -> 1.5246186 | CI28: =BT28/$CF28 -> 0.64522682 | CJ28: =BU28/$CF28 -> 0.0043445272 | CK28: =BV28/$CF28 -> 0.10003017 | CL28: =BW28/$CF28 -> 0 | CM28: =BX28/$CF28 -> 0.044348735 | CN28: =BY28/$CF28 -> 0.0012020607 | CO28: =BZ28/$CF28 -> 0.020373175 | CP28: =CA28/$CF28 -> 0.051026543 | ... CT28: =CE28/$CF28 -> 0.067878761 | CU28: =SUM(CI28:CT28) -> 1 | CV28: =SUM(CI28:CS28) -> 0.93212124 | CX28: =BT28/$CG28 -> 0.58778783 | CY28: =BU28/$CG28 -> 0.0039577714 | CZ28: =BV28*2/$CG28 -> 0.18225069 | DA28: =BW28*2/$CG28 -> 0 | DB28: =BX28/$CG28 -> 0.040400749 | DC28: =BY28/$CG28 -> 0.0010950516 | DD28: =BZ28/$CG28 -> 0.018559527 | DE28: =CA28/$CG28 -> 0.046484089 | DF28: =CB28*2/$CG28 -> 0.068245168 | DG28: =CC28*2/$CG28 -> 0.048701093 | DH28: =CD28*2/$CG28 -> 0.0025180306 | DI28: =SUM(CX28:DH28) -> 1 | DJ28: =S28/DJ$6 -> 0.65657751 | DK28: =T28/DK$6 -> 0.023535657 | DL28: =U28/DL$6 -> 0.10592285 | DM28: =AB28/DM$6 -> 0 | DN28: =V28/DN$6 -> 0.1649352 | DO28: =W28/DO$6 -> 0 | DP28: =X28/DP$6 -> 0.28086264 | DQ28: =Y28/DQ$6 -> 0.1950875 | DR28: =Z28/DR$6 -> 0.032914427 | DS28: =AA28/DS$6 -> 0.0079621215 | DT28: =SUM(DJ28:DS28) -> 1.4677979 | DU28: =S28/DJ$7 -> 0.65657751 | DV28: =T28/DK$7 -> 0.023535657 | DW28: =U28/DL$7 -> 0.21184571 | DX28: =AB28/DM$7 -> 0 | DZ28: =V28/DN$7 -> 0.1649352 | EA28: =W28/DO$7 -> 0 | EB28: =X28/DP$7 -> 0.28086264 | EC28: =Y28/DQ$7 -> 0.1950875 | ED28: =Z28/DR$7 -> 0.065828855 | EE28: =AA28/DS$7 -> 0.015924243 | EG28: =DJ28*2 -> 1.313155 | EH28: =DK28*2 -> 0.047071313 | EI28: =DL28*3 -> 0.31776856 | EJ28: =DM28*3 -> 0 | EL28: =DN28 -> 0.1649352 | EM28: =DO28 -> 0 | EN28: =DP28 -> 0.28086264 | EO28: =DQ28 -> 0.1950875 | EP28: =DR28 -> 0.032914427 | EQ28: =DS28 -> 0.0079621215 | ER28: =SUM(EG28:EQ28) -> 2.3597568 | ES28: =23/ER28 -> 9.7467672 | EU28: =DU28*$ES28 -> 6.3995082 | EV28: =DV28*$ES28 -> 0.22939657 | EW28: =DW28*$ES28 -> 2.0648108 | EX28: =DX28*$ES28 -> 0 | EZ28: =DZ28*$ES28 -> 1.607585 | FA28: =EA28*$ES28 -> 0 | FB28: =EB28*$ES28 -> 2.7375027 | FC28: =EC28*$ES28 -> 1.9014725 | FD28: =ED28*$ES28 -> 0.64161852 | FE28: =EE28*$ES28 -> 0.15520989 | FF28: =SUM(EU28:FC28) -> 14.940276 | FG28: =SUM(EU28:FE28) -> 15.737104 | FH28: =SUM(EU28:FB28) -> 13.038803 | FI28: =IF(OR(FG28>16,FG28<15),"BAD","Good") -> Good | FJ28: =(FB28*13/(EU28+EV28+EW28+EZ28+FA28+FB28))/(DD28) -> 147.05957 | FK28: =FB28/(FB28+EZ28) -> 0.63002244 | FL28: =DE28/(DE28+CZ28) -> 0.20322266 | FN28: =5.5976-24505/(AM28+273.15)+0.8099*LOG(AM28+273.15)+0.0937*(AH28*1000-1)/(273.15+AM28)+$G$6 -> -12.420791 | FO28: =EXP(-6.53+10813.8/(AM28+273.15)+0.19*FN28*2.3026+12.4*(CB28+CC28)/CG28-3.44*BV28/(BV28+BT28)+4.15*CA28/CG28) -> 0.096716753 | FP28: =(EZ28)*FO28/(1+2*FO28) -> 0.1302799 | FQ28: =(EZ28)-FP28 -> 1.4773051 | FR28: =EU28 -> 6.3995082 | FS28: =IF(EU28+EW28>8,8-EU28,EW28) -> 1.6004918 | FT28: =IF(FS28+FR28=8,0,IF(8<FS28+FR28+EV28,EV28,8-FR28-FS28)) -> 0 | FU28: =FS28+FR28+FT28 -> 8 | FV28: =IF(EW28-FS28<0,0,EW28-FS28) -> 0.46431894 | FW28: =EX28 -> 0 | FX28: =FP28 -> 0.1302799 | FY28: =EV28-FT28 -> 0.22939657 | FZ28: =SUM(FV28:FY28) -> 0.8239954 | GA28: =IF(FZ28>5,0,IF(FZ28+FB28<5,FB28,5-FZ28)) -> 2.7375027 | GB28: =GA28+FZ28 -> 3.5614981 | GC28: =IF(GB28>5,0,IF(GB28+FQ28<5,FQ28,5-GB28)) -> 1.4385019 | GD28: =GC28+GB28 -> 5 | GE28: =IF(GD28=5,0,IF(GD28+FA28<5,FA28,5-GD28)) -> 0 | GF28: =GE28+GD28 -> 5 | GG28: =FB28-GA28 -> 0 | GH28: =FQ28-GC28 -> 0.03880319 | GI28: =FA28-GE28 -> 0 | GJ28: =SUM(GG28:GI28) -> 0.03880319 | GK28: =GJ28 -> 0.03880319 | GL28: =IF(FC28>2-GK28,2-GK28,FC28) -> 1.9014725 | GM28: =IF(GL28+GK28+FD28<2,FD28,2-GK28-GL28) -> 0.059724316 | GN28: =GL28+GK28+GM28 -> 2 | GP28: =IF(GL28<1,"Mg-Fe-Li grpup",IF(AND(GL28+GM28>=1,GM28<0.5),"CALCIC",IF(AND(GL28+GM28>=1,GM28>0.5),"SODIC-CALCIC"))) -> CALCIC | GR28: =IF(FD28-GM28>0,FD28-GM28,0) -> 0.58189421 | GS28: =FE28 -> 0.15520989 | GT28: =GS28+GR28 -> 0.7371041 | GU28: =IF(2-FC28-EZ28<=0.1,0,2-FC28-EZ28) -> 0 | GV28: =FD28-GU28 -> 0.64161852
A29: 11212A | B29: Merapi (2010) | C29: =AVERAGE(AL29:AS29) -> 967.24507 | D29: =AI29 -> 3.7749536 | F29: 64.978351 | G29: 0.53184026 | H29: 16.204967 | I29: 4.684912 | J29: 0.12812982 | K29: 1.1269601 | L29: 3.9363787 | M29: 3.7939402 | N29: 4.5172845 | O29: 0 | P29: 0.320691 | Q29: 2 | S29: 42.88 | T29: 3.46 | U29: 14.28 | V29: 15.99 | W29: 0.54 | X29: 14.25 | Y29: 12.12 | Z29: 2.43 | AA29: 1.18 | AB29: 0.03 | AD29: =0.7996+15.347*SQRT(AH29/10)-0.00233*AL29+0.06248*(N29+M29) -> 10.624608 | AF29: =(DN29/DP29)/(CM29/CO29) -> 0.26992352 | AG29: =751.95-0.4*AL29-278000/AL29-9.184*EW29 -> 55.154573 | AH29: =ROUND(10*(-3.093-4.274*LN(EW29/CK29)-4.216*LN(CK29)+63.3*CS29+1.264*CT29+2.457*EW29+1.86*FE29+0.4*LN(FD29/CQ29)),1) -> 5.7 | AI29: =-64.79-6.064*LN(EW29/CK29)+61.75*CI29+682*CS29-101.9*CP29+7.85*EW29-46.46*LN(CI29)-4.81*LN(CQ29+CR29) -> 3.7749536 | AJ29: =-45.55+26.65*EW29+22.52*FE29+439*CD29/CH29-51.1*LN(BV29/CH29)-46.3*LN(EW29/(BV29/CH29))+5.231*LN(FD29/(CB29/CH29)) -> 7.9592967 | AL29: =1781-132.74*EU29+116.6*EV29-69.41*EZ29+101.62*FD29 -> 978.97328 | AM29: =1687-118.7*EU29+131.56*EV29-71.41*EZ29+86.13*FD29+22.44*AH29/10 -> 972.12285 | AN29: =2061-178.4*EU29 -> 1010.0363 | AO29: =(24429.2)/(2.31+42.1*CM29+32.2*CP29+2.21*LN(CI29)-1.4*LN(CJ29)-2.666*LN((CM29+CO29)*CK29)) -> 939.04358 | AP29: =6383.4/(-12.07+45.4*CK29+12.21*CM29-0.415*LN(CJ29)-3.555*LN(CK29)-0.832*LN(CQ29)-0.481*LN((CM29+CO29+CN29)*CK29)-0.679*LN(FD29/CQ29)) -> 954.39202 | AQ29: =8037.85/(3.69-2.62*CT29+0.66*EZ29-0.416*LN(CJ29)+0.37*LN(CO29)-1.05*LN((CM29+CO29+CN29)*CK29)-0.462*LN(EV29/CJ29)) -> 905.53316 | AR29: =1201.4-97.93*EU29+201.82*EV29+72.85*FB29+88.9*FD29+40.65*AH29/10 -> 989.97837 | AS29: =10073.5/(9.75+0.934*EU29-1.454*EV29-0.882*FB29-1.123*FD29-0.322*LN(CM29)-0.7593*LN(EW29/CK29)-0.15*AZ29) -> 987.88097 | AU29: =0.5+0.331*EW29+0.995*EW29^2 -> 6.5848178 | AW29: =(71975-11896*LN(FL29))/(8.3144*LN(FJ29)+58) -> 911.61926 | AX29: =107*LN(DD29)-108*LN(FL29)+1184 -> 923.39858 | AZ29: =LN((GS29/GV29)*(CQ29/CR29)) -> -0.89688275 | BB29: =10*(EXP(125.93-9.5876*EU29*13/FH29-10.116*EV29*13/FH29-8.1735*EW29*13/FH29-9.2261*EZ29*13/FH29-8.7934*FB29*13/FH29-1.6659*FC29+2.4835*FD29+2.5192*FE29))/1000 -> 10.459166 | BC29: =10*(EXP(38.723-2.6957*EU29*13/FH29-2.3565*EV29*13/FH29-1.3006*EW29*13/FH29-2.778*EZ29*13/FH29-2.4838*FB29*13/FH29-0.6614*FC29-0.2705*FD29+0.1117*FE29))/1000 -> 5.0533697 | BD29: =10*(24023-1925.3*EU29*13/FH29-1720.6*EV29*13/FH29-1478.5*EW29*13/FH29-1843.2*EZ29*13/FH29-1746.9*FB29*13/FH29-158.28*FC29-40.444*FD29+253.52*FE29)/1000 -> 5.8853681 | BE29: =10*(26106-1991.9*EU29*13/FH29-3035*EV29*13/FH29-1472.2*EW29*13/FH29-2454.8*EZ29*13/FH29-2125.8*FB29*13/FH29-830.64*FC29+2708.8*FD29+2204.1*FE29)/1000 -> 6.6572177 | BF29: =10*EXP(26.543-1.2085*EU29*13/FH29-3.8593*EV29*13/FH29-1.1054*EW29*13/FH29-2.9068*EZ29*13/FH29-2.6483*FB29*13/FH29+0.5134*FC29+2.9752*FD29+1.8147*FE29)/1000 -> 5.5846904 | BG29: =10*(19.209*EXP(1.438*EW29*13/FF29))/1000 -> 3.3206288 | BI29: =EZ29/(EZ29+FB29) -> 0.3863068 | BJ29: =IF(AND(BI29<0.65,OR(AP29<800,AQ29<800,AO29<800,AM29<800)),"YES","NO") -> NO | BK29: =(-3.92+5.03*EW29) -> 7.710307 | BL29: =1.27*(EW29^2.01) -> 6.8468425 | BM29: =0.26*EXP(1.48*EW29) -> 7.9642676 | BN29: =(-4.76+5.64*EW29) -> 8.2807418 | BO29: =(-3.46+4.23*EW29) -> 6.3205564 | BP29: =(4.76*EW29-3.01-((C29-675)/85)*(0.53*EW29+0.005294*(C29-675))) -> -1.5366921 | BQ29: =(5.03*EW29-3.53) -> 8.100307 | BR29: =(-3.01+4.76*EW29) -> 7.9960162 | BT29: =F29/BT$6 -> 1.0814531 | BU29: =G29/BU$6 -> 0.0066580903 | BV29: =H29/BV$6 -> 0.158933 | BW29: =O29/CC$6 -> 0 | BX29: =I29/BW$6 -> 0.065207331 | BY29: =J29/BX$6 -> 0.0018062353 | BZ29: =K29/BY$6 -> 0.027961219 | CA29: =L29/BZ$6 -> 0.070195456 | CB29: =M29/CA$6 -> 0.061213417 | CC29: =N29/CB$6 -> 0.047956225 | CD29: =P29/CD$6 -> 0.0022593897 | CE29: =Q29/CE$6 -> 0.1110255 | CF29: =SUM(BT29:CE29) -> 1.6346689 | CG29: =BT29+BU29+BX29+BY29+BZ29+CA29+2*(BV29+BW29+CB29+CC29+CD29) -> 1.7940055 | CH29: =SUM(BT29:CD29) -> 1.5236434 | CI29: =BT29/$CF29 -> 0.66157315 | CJ29: =BU29/$CF29 -> 0.0040730512 | CK29: =BV29/$CF29 -> 0.097226414 | CL29: =BW29/$CF29 -> 0 | CM29: =BX29/$CF29 -> 0.039890237 | CN29: =BY29/$CF29 -> 0.0011049548 | CO29: =BZ29/$CF29 -> 0.017105126 | CP29: =CA29/$CF29 -> 0.042941696 | ... CT29: =CE29/$CF29 -> 0.067919256 | CU29: =SUM(CI29:CT29) -> 1 | CV29: =SUM(CI29:CS29) -> 0.93208074 | CX29: =BT29/$CG29 -> 0.60281482 | CY29: =BU29/$CG29 -> 0.0037112988 | CZ29: =BV29*2/$CG29 -> 0.17718229 | DA29: =BW29*2/$CG29 -> 0 | DB29: =BX29/$CG29 -> 0.036347342 | DC29: =BY29/$CG29 -> 0.0010068171 | DD29: =BZ29/$CG29 -> 0.015585916 | DE29: =CA29/$CG29 -> 0.039127783 | DF29: =CB29*2/$CG29 -> 0.068242174 | DG29: =CC29*2/$CG29 -> 0.053462741 | DH29: =CD29*2/$CG29 -> 0.0025188215 | DI29: =SUM(CX29:DH29) -> 1 | DJ29: =S29/DJ$6 -> 0.71366397 | DK29: =T29/DK$6 -> 0.043315623 | DL29: =U29/DL$6 -> 0.14005355 | DM29: =AB29/DM$6 -> 0.00019738634 | DN29: =V29/DN$6 -> 0.22255812 | DO29: =W29/DO$6 -> 0.0076123348 | DP29: =X29/DP$6 -> 0.35355941 | DQ29: =Y29/DQ$6 -> 0.21612985 | DR29: =Z29/DR$6 -> 0.039206891 | DS29: =AA29/DS$6 -> 0.012527071 | DT29: =SUM(DJ29:DS29) -> 1.7488242 | DU29: =S29/DJ$7 -> 0.71366397 | DV29: =T29/DK$7 -> 0.043315623 | DW29: =U29/DL$7 -> 0.2801071 | DX29: =AB29/DM$7 -> 0.00039477268 | DZ29: =V29/DN$7 -> 0.22255812 | EA29: =W29/DO$7 -> 0.0076123348 | EB29: =X29/DP$7 -> 0.35355941 | EC29: =Y29/DQ$7 -> 0.21612985 | ED29: =Z29/DR$7 -> 0.078413783 | EE29: =AA29/DS$7 -> 0.025054142 | EG29: =DJ29*2 -> 1.4273279 | EH29: =DK29*2 -> 0.086631246 | EI29: =DL29*3 -> 0.42016065 | EJ29: =DM29*3 -> 0.00059215902 | EL29: =DN29 -> 0.22255812 | EM29: =DO29 -> 0.0076123348 | EN29: =DP29 -> 0.35355941 | EO29: =DQ29 -> 0.21612985 | EP29: =DR29 -> 0.039206891 | EQ29: =DS29 -> 0.012527071 | ER29: =SUM(EG29:EQ29) -> 2.7863057 | ES29: =23/ER29 -> 8.2546578 | EU29: =DU29*$ES29 -> 5.8910519 | EV29: =DV29*$ES29 -> 0.35755565 | EW29: =DW29*$ES29 -> 2.3121883 | EX29: =DX29*$ES29 -> 0.0032587134 | EZ29: =DZ29*$ES29 -> 1.8371412 | FA29: =EA29*$ES29 -> 0.062837219 | FB29: =EB29*$ES29 -> 2.918512 | FC29: =EC29*$ES29 -> 1.784078 | FD29: =ED29*$ES29 -> 0.64727895 | FE29: =EE29*$ES29 -> 0.20681337 | FF29: =SUM(EU29:FC29) -> 15.166623 | FG29: =SUM(EU29:FE29) -> 16.020715 | FH29: =SUM(EU29:FB29) -> 13.382545 | FI29: =IF(OR(FG29>16,FG29<15),"BAD","Good") -> BAD | FJ29: =(FB29*13/(EU29+EV29+EW29+EZ29+FA29+FB29))/(DD29) -> 181.94476 | FK29: =FB29/(FB29+EZ29) -> 0.6136932 | FL29: =DE29/(DE29+CZ29) -> 0.18088747 | FN29: =5.5976-24505/(AM29+273.15)+0.8099*LOG(AM29+273.15)+0.0937*(AH29*1000-1)/(273.15+AM29)+$G$6 -> -11.145145 | FO29: =EXP(-6.53+10813.8/(AM29+273.15)+0.19*FN29*2.3026+12.4*(CB29+CC29)/CG29-3.44*BV29/(BV29+BT29)+4.15*CA29/CG29) -> 0.1058347 | FP29: =(EZ29)*FO29/(1+2*FO29) -> 0.16046727 | FQ29: =(EZ29)-FP29 -> 1.6766739 | FR29: =EU29 -> 5.8910519 | FS29: =IF(EU29+EW29>8,8-EU29,EW29) -> 2.1089481 | FT29: =IF(FS29+FR29=8,0,IF(8<FS29+FR29+EV29,EV29,8-FR29-FS29)) -> 0 | FU29: =FS29+FR29+FT29 -> 8 | FV29: =IF(EW29-FS29<0,0,EW29-FS29) -> 0.20324014 | FW29: =EX29 -> 0.0032587134 | FX29: =FP29 -> 0.16046727 | FY29: =EV29-FT29 -> 0.35755565 | FZ29: =SUM(FV29:FY29) -> 0.72452177 | GA29: =IF(FZ29>5,0,IF(FZ29+FB29<5,FB29,5-FZ29)) -> 2.918512 | GB29: =GA29+FZ29 -> 3.6430338 | GC29: =IF(GB29>5,0,IF(GB29+FQ29<5,FQ29,5-GB29)) -> 1.3569662 | GD29: =GC29+GB29 -> 5 | GE29: =IF(GD29=5,0,IF(GD29+FA29<5,FA29,5-GD29)) -> 0 | GF29: =GE29+GD29 -> 5 | GG29: =FB29-GA29 -> 0 | GH29: =FQ29-GC29 -> 0.31970765 | GI29: =FA29-GE29 -> 0.062837219 | GJ29: =SUM(GG29:GI29) -> 0.38254487 | GK29: =GJ29 -> 0.38254487 | GL29: =IF(FC29>2-GK29,2-GK29,FC29) -> 1.6174551 | GM29: =IF(GL29+GK29+FD29<2,FD29,2-GK29-GL29) -> 0 | GN29: =GL29+GK29+GM29 -> 2 | GP29: =IF(GL29<1,"Mg-Fe-Li grpup",IF(AND(GL29+GM29>=1,GM29<0.5),"CALCIC",IF(AND(GL29+GM29>=1,GM29>0.5),"SODIC-CALCIC"))) -> CALCIC | GR29: =IF(FD29-GM29>0,FD29-GM29,0) -> 0.64727895 | GS29: =FE29 -> 0.20681337 | GT29: =GS29+GR29 -> 0.85409232 | GU29: =IF(2-FC29-EZ29<=0.1,0,2-FC29-EZ29) -> 0 | GV29: =FD29-GU29 -> 0.64727895
A30: AUGUSTINE | B30: TAPPEN ET AL. 2009 | C30: =AVERAGE(AL30:AS30) -> 818.85932 | D30: =AI30 -> 0.14570583 | F30: 71.375368 | G30: 0.20952457 | H30: 12.387907 | I30: 1.5349246 | J30: 0.064408773 | K30: 0.45997548 | L30: 2.2427141 | M30: 4.0835474 | N30: 1.6777245 | O30: 0 | P30: 0.046928072 | Q30: 5 | S30: 46.78 | T30: 1.23 | U30: 7.74 | V30: 13.091 | W30: 0.24 | X30: 14.53 | Y30: 11.09 | Z30: 1.46 | AA30: 0.17 | AD30: =0.7996+15.347*SQRT(AH30/10)-0.00233*AL30+0.06248*(N30+M30) -> 1.4485483 | AF30: =(DN30/DP30)/(CM30/CO30) -> 0.26999445 | AG30: =751.95-0.4*AL30-278000/AL30-9.184*EW30 -> 72.270201 | AH30: =ROUND(10*(-3.093-4.274*LN(EW30/CK30)-4.216*LN(CK30)+63.3*CS30+1.264*CT30+2.457*EW30+1.86*FE30+0.4*LN(FD30/CQ30)),1) -> 0.2 | AI30: =-64.79-6.064*LN(EW30/CK30)+61.75*CI30+682*CS30-101.9*CP30+7.85*EW30-46.46*LN(CI30)-4.81*LN(CQ30+CR30) -> 0.14570583 | AJ30: =-45.55+26.65*EW30+22.52*FE30+439*CD30/CH30-51.1*LN(BV30/CH30)-46.3*LN(EW30/(BV30/CH30))+5.231*LN(FD30/(CB30/CH30)) -> 1.0080346 | AL30: =1781-132.74*EU30+116.6*EV30-69.41*EZ30+101.62*FD30 -> 807.47189 | AM30: =1687-118.7*EU30+131.56*EV30-71.41*EZ30+86.13*FD30+22.44*AH30/10 -> 803.49813 | AN30: =2061-178.4*EU30 -> 825.1137 | AO30: =(24429.2)/(2.31+42.1*CM30+32.2*CP30+2.21*LN(CI30)-1.4*LN(CJ30)-2.666*LN((CM30+CO30)*CK30)) -> 827.58025 | AP30: =6383.4/(-12.07+45.4*CK30+12.21*CM30-0.415*LN(CJ30)-3.555*LN(CK30)-0.832*LN(CQ30)-0.481*LN((CM30+CO30+CN30)*CK30)-0.679*LN(FD30/CQ30)) -> 830.60865 | AQ30: =8037.85/(3.69-2.62*CT30+0.66*EZ30-0.416*LN(CJ30)+0.37*LN(CO30)-1.05*LN((CM30+CO30+CN30)*CK30)-0.462*LN(EV30/CJ30)) -> 800.02127 | AR30: =1201.4-97.93*EU30+201.82*EV30+72.85*FB30+88.9*FD30+40.65*AH30/10 -> 822.3936 | AS30: =10073.5/(9.75+0.934*EU30-1.454*EV30-0.882*FB30-1.123*FD30-0.322*LN(CM30)-0.7593*LN(EW30/CK30)-0.15*AZ30) -> 834.18706 | AU30: =0.5+0.331*EW30+0.995*EW30^2 -> 2.7629364 | AW30: =(71975-11896*LN(FL30))/(8.3144*LN(FJ30)+58) -> 873.88683 | AX30: =107*LN(DD30)-108*LN(FL30)+1184 -> 861.49762 | AZ30: =LN((GS30/GV30)*(CQ30/CR30)) -> -1.2608657 | BB30: =10*(EXP(125.93-9.5876*EU30*13/FH30-10.116*EV30*13/FH30-8.1735*EW30*13/FH30-9.2261*EZ30*13/FH30-8.7934*FB30*13/FH30-1.6659*FC30+2.4835*FD30+2.5192*FE30))/1000 -> 1.0283791 | BC30: =10*(EXP(38.723-2.6957*EU30*13/FH30-2.3565*EV30*13/FH30-1.3006*EW30*13/FH30-2.778*EZ30*13/FH30-2.4838*FB30*13/FH30-0.6614*FC30-0.2705*FD30+0.1117*FE30))/1000 -> 1.3575787 | BD30: =10*(24023-1925.3*EU30*13/FH30-1720.6*EV30*13/FH30-1478.5*EW30*13/FH30-1843.2*EZ30*13/FH30-1746.9*FB30*13/FH30-158.28*FC30-40.444*FD30+253.52*FE30)/1000 -> 0.72860852 | BE30: =10*(26106-1991.9*EU30*13/FH30-3035*EV30*13/FH30-1472.2*EW30*13/FH30-2454.8*EZ30*13/FH30-2125.8*FB30*13/FH30-830.64*FC30+2708.8*FD30+2204.1*FE30)/1000 -> -5.9330495 | BF30: =10*EXP(26.543-1.2085*EU30*13/FH30-3.8593*EV30*13/FH30-1.1054*EW30*13/FH30-2.9068*EZ30*13/FH30-2.6483*FB30*13/FH30+0.5134*FC30+2.9752*FD30+1.8147*FE30)/1000 -> 2.8100619 | BG30: =10*(19.209*EXP(1.438*EW30*13/FF30))/1000 -> 1.0303986 | BI30: =EZ30/(EZ30+FB30) -> 0.3357347 | BJ30: =IF(AND(BI30<0.65,OR(AP30<800,AQ30<800,AO30<800,AM30<800)),"YES","NO") -> NO | BK30: =(-3.92+5.03*EW30) -> 2.8749976 | BL30: =1.27*(EW30^2.01) -> 2.3246233 | BM30: =0.26*EXP(1.48*EW30) -> 1.9198551 | BN30: =(-4.76+5.64*EW30) -> 2.8590431 | BO30: =(-3.46+4.23*EW30) -> 2.2542823 | BP30: =(4.76*EW30-3.01-((C30-675)/85)*(0.53*EW30+0.005294*(C30-675))) -> 0.91953251 | BQ30: =(5.03*EW30-3.53) -> 3.2649976 | BR30: =(-3.01+4.76*EW30) -> 3.4202562 | BT30: =F30/BT$6 -> 1.1879204 | BU30: =G30/BU$6 -> 0.002623031 | BV30: =H30/BV$6 -> 0.12149652 | BW30: =O30/CC$6 -> 0 | BX30: =I30/BW$6 -> 0.021363974 | BY30: =J30/BX$6 -> 0.00090796508 | BZ30: =K30/BY$6 -> 0.011412537 | CA30: =L30/BZ$6 -> 0.03999319 | CB30: =M30/CA$6 -> 0.06588609 | CC30: =N30/CB$6 -> 0.017810996 | CD30: =P30/CD$6 -> 0.00033062606 | CE30: =Q30/CE$6 -> 0.27756375 | CF30: =SUM(BT30:CE30) -> 1.7473091 | CG30: =BT30+BU30+BX30+BY30+BZ30+CA30+2*(BV30+BW30+CB30+CC30+CD30) -> 1.6752696 | CH30: =SUM(BT30:CD30) -> 1.4697454 | CI30: =BT30/$CF30 -> 0.67985706 | CJ30: =BU30/$CF30 -> 0.0015011831 | CK30: =BV30/$CF30 -> 0.069533503 | CL30: =BW30/$CF30 -> 0 | CM30: =BX30/$CF30 -> 0.012226786 | CN30: =BY30/$CF30 -> 0.00051963621 | CO30: =BZ30/$CF30 -> 0.0065314931 | CP30: =CA30/$CF30 -> 0.022888446 | ... CT30: =CE30/$CF30 -> 0.15885211 | CU30: =SUM(CI30:CT30) -> 1 | CV30: =SUM(CI30:CS30) -> 0.84114789 | CX30: =BT30/$CG30 -> 0.7090921 | CY30: =BU30/$CG30 -> 0.0015657366 | CZ30: =BV30*2/$CG30 -> 0.14504713 | DA30: =BW30*2/$CG30 -> 0 | DB30: =BX30/$CG30 -> 0.012752559 | DC30: =BY30/$CG30 -> 0.00054198147 | DD30: =BZ30/$CG30 -> 0.0068123587 | DE30: =CA30/$CG30 -> 0.023872689 | DF30: =CB30*2/$CG30 -> 0.078657297 | DG30: =CC30*2/$CG30 -> 0.021263438 | DH30: =CD30*2/$CG30 -> 0.00039471386 | DI30: =SUM(CX30:DH30) -> 1 | DJ30: =S30/DJ$6 -> 0.77857277 | DK30: =T30/DK$6 -> 0.015398328 | DL30: =U30/DL$6 -> 0.075911378 | DM30: =AB30/DM$6 -> 0 | DN30: =V30/DN$6 -> 0.18220816 | DO30: =W30/DO$6 -> 0.0033832599 | DP30: =X30/DP$6 -> 0.36050655 | DQ30: =Y30/DQ$6 -> 0.19776238 | DR30: =Z30/DR$6 -> 0.023556404 | DS30: =AA30/DS$6 -> 0.0018047475 | DT30: =SUM(DJ30:DS30) -> 1.639104 | DU30: =S30/DJ$7 -> 0.77857277 | DV30: =T30/DK$7 -> 0.015398328 | DW30: =U30/DL$7 -> 0.15182276 | DX30: =AB30/DM$7 -> 0 | DZ30: =V30/DN$7 -> 0.18220816 | EA30: =W30/DO$7 -> 0.0033832599 | EB30: =X30/DP$7 -> 0.36050655 | EC30: =Y30/DQ$7 -> 0.19776238 | ED30: =Z30/DR$7 -> 0.047112808 | EE30: =AA30/DS$7 -> 0.0036094951 | EG30: =DJ30*2 -> 1.5571455 | EH30: =DK30*2 -> 0.030796657 | EI30: =DL30*3 -> 0.22773413 | EJ30: =DM30*3 -> 0 | EL30: =DN30 -> 0.18220816 | EM30: =DO30 -> 0.0033832599 | EN30: =DP30 -> 0.36050655 | EO30: =DQ30 -> 0.19776238 | EP30: =DR30 -> 0.023556404 | EQ30: =DS30 -> 0.0018047475 | ER30: =SUM(EG30:EQ30) -> 2.5848978 | ES30: =23/ER30 -> 8.8978372 | EU30: =DU30*$ES30 -> 6.9276138 | EV30: =DV30*$ES30 -> 0.13701182 | EW30: =DW30*$ES30 -> 1.3508942 | EX30: =DX30*$ES30 -> 0 | EZ30: =DZ30*$ES30 -> 1.6212585 | FA30: =EA30*$ES30 -> 0.030103696 | FB30: =EB30*$ES30 -> 3.2077285 | FC30: =EC30*$ES30 -> 1.7596574 | FD30: =ED30*$ES30 -> 0.41920209 | FE30: =EE30*$ES30 -> 0.0321167 | FF30: =SUM(EU30:FC30) -> 15.034268 | FG30: =SUM(EU30:FE30) -> 15.485587 | FH30: =SUM(EU30:FB30) -> 13.27461 | FI30: =IF(OR(FG30>16,FG30<15),"BAD","Good") -> Good | FJ30: =(FB30*13/(EU30+EV30+EW30+EZ30+FA30+FB30))/(DD30) -> 461.12819 | FK30: =FB30/(FB30+EZ30) -> 0.6642653 | FL30: =DE30/(DE30+CZ30) -> 0.14132556 | FN30: =5.5976-24505/(AM30+273.15)+0.8099*LOG(AM30+273.15)+0.0937*(AH30*1000-1)/(273.15+AM30)+$G$6 -> -14.689858 | FO30: =EXP(-6.53+10813.8/(AM30+273.15)+0.19*FN30*2.3026+12.4*(CB30+CC30)/CG30-3.44*BV30/(BV30+BT30)+4.15*CA30/CG30) -> 0.080993932 | FP30: =(EZ30)*FO30/(1+2*FO30) -> 0.11300643 | FQ30: =(EZ30)-FP30 -> 1.5082521 | FR30: =EU30 -> 6.9276138 | FS30: =IF(EU30+EW30>8,8-EU30,EW30) -> 1.0723862 | FT30: =IF(FS30+FR30=8,0,IF(8<FS30+FR30+EV30,EV30,8-FR30-FS30)) -> 0 | FU30: =FS30+FR30+FT30 -> 8 | FV30: =IF(EW30-FS30<0,0,EW30-FS30) -> 0.27850793 | FW30: =EX30 -> 0 | FX30: =FP30 -> 0.11300643 | FY30: =EV30-FT30 -> 0.13701182 | FZ30: =SUM(FV30:FY30) -> 0.52852618 | GA30: =IF(FZ30>5,0,IF(FZ30+FB30<5,FB30,5-FZ30)) -> 3.2077285 | GB30: =GA30+FZ30 -> 3.7362547 | GC30: =IF(GB30>5,0,IF(GB30+FQ30<5,FQ30,5-GB30)) -> 1.2637453 | GD30: =GC30+GB30 -> 5 | GE30: =IF(GD30=5,0,IF(GD30+FA30<5,FA30,5-GD30)) -> 0 | GF30: =GE30+GD30 -> 5 | GG30: =FB30-GA30 -> 0 | GH30: =FQ30-GC30 -> 0.24450679 | GI30: =FA30-GE30 -> 0.030103696 | GJ30: =SUM(GG30:GI30) -> 0.27461049 | GK30: =GJ30 -> 0.27461049 | GL30: =IF(FC30>2-GK30,2-GK30,FC30) -> 1.7253895 | GM30: =IF(GL30+GK30+FD30<2,FD30,2-GK30-GL30) -> 0 | GN30: =GL30+GK30+GM30 -> 2 | GP30: =IF(GL30<1,"Mg-Fe-Li grpup",IF(AND(GL30+GM30>=1,GM30<0.5),"CALCIC",IF(AND(GL30+GM30>=1,GM30>0.5),"SODIC-CALCIC"))) -> CALCIC | GR30: =IF(FD30-GM30>0,FD30-GM30,0) -> 0.41920209 | GS30: =FE30 -> 0.0321167 | GT30: =GS30+GR30 -> 0.45131879 | GU30: =IF(2-FC30-EZ30<=0.1,0,2-FC30-EZ30) -> 0 | GV30: =FD30-GU30 -> 0.41920209
A31: AUGUSTINE | B31: TAPPEN ET AL. 2009 | C31: =AVERAGE(AL31:AS31) -> 814.34437 | D31: =AI31 -> -0.4254565 | F31: 70.993364 | G31: 0.22186012 | H31: 12.576124 | I31: 1.6833492 | J31: 0.067194222 | K31: 0.56104747 | L31: 2.415014 | M31: 4.0668347 | N31: 1.6446971 | O31: 0 | P31: 0.051305206 | Q31: 5 | S31: 48.05 | T31: 1.3 | U31: 6.71 | V31: 12.251 | W31: 0.29 | X31: 15.13 | Y31: 11.16 | Z31: 1.33 | AA31: 0.15 | AD31: =0.7996+15.347*SQRT(AH31/10)-0.00233*AL31+0.06248*(N31+M31) -> 5.4471656 | AF31: =(DN31/DP31)/(CM31/CO31) -> 0.2698721 | AG31: =751.95-0.4*AL31-278000/AL31-9.184*EW31 -> 73.502618 | AH31: =ROUND(10*(-3.093-4.274*LN(EW31/CK31)-4.216*LN(CK31)+63.3*CS31+1.264*CT31+2.457*EW31+1.86*FE31+0.4*LN(FD31/CQ31)),1) -> 1.6 | AI31: =-64.79-6.064*LN(EW31/CK31)+61.75*CI31+682*CS31-101.9*CP31+7.85*EW31-46.46*LN(CI31)-4.81*LN(CQ31+CR31) -> -0.4254565 | AJ31: =-45.55+26.65*EW31+22.52*FE31+439*CD31/CH31-51.1*LN(BV31/CH31)-46.3*LN(EW31/(BV31/CH31))+5.231*LN(FD31/(CB31/CH31)) -> 2.2922888 | AL31: =1781-132.74*EU31+116.6*EV31-69.41*EZ31+101.62*FD31 -> 793.17205 | AM31: =1687-118.7*EU31+131.56*EV31-71.41*EZ31+86.13*FD31+22.44*AH31/10 -> 795.29058 | AN31: =2061-178.4*EU31 -> 799.6419 | AO31: =(24429.2)/(2.31+42.1*CM31+32.2*CP31+2.21*LN(CI31)-1.4*LN(CJ31)-2.666*LN((CM31+CO31)*CK31)) -> 838.05745 | AP31: =6383.4/(-12.07+45.4*CK31+12.21*CM31-0.415*LN(CJ31)-3.555*LN(CK31)-0.832*LN(CQ31)-0.481*LN((CM31+CO31+CN31)*CK31)-0.679*LN(FD31/CQ31)) -> 832.01136 | AQ31: =8037.85/(3.69-2.62*CT31+0.66*EZ31-0.416*LN(CJ31)+0.37*LN(CO31)-1.05*LN((CM31+CO31+CN31)*CK31)-0.462*LN(EV31/CJ31)) -> 813.69494 | AR31: =1201.4-97.93*EU31+201.82*EV31+72.85*FB31+88.9*FD31+40.65*AH31/10 -> 820.05625 | AS31: =10073.5/(9.75+0.934*EU31-1.454*EV31-0.882*FB31-1.123*FD31-0.322*LN(CM31)-0.7593*LN(EW31/CK31)-0.15*AZ31) -> 822.83043 | AU31: =0.5+0.331*EW31+0.995*EW31^2 -> 2.2325303 | AW31: =(71975-11896*LN(FL31))/(8.3144*LN(FJ31)+58) -> 879.08941 | AX31: =107*LN(DD31)-108*LN(FL31)+1184 -> 877.05369 | AZ31: =LN((GS31/GV31)*(CQ31/CR31)) -> -1.2769902 | BB31: =10*(EXP(125.93-9.5876*EU31*13/FH31-10.116*EV31*13/FH31-8.1735*EW31*13/FH31-9.2261*EZ31*13/FH31-8.7934*FB31*13/FH31-1.6659*FC31+2.4835*FD31+2.5192*FE31))/1000 -> 0.79651297 | BC31: =10*(EXP(38.723-2.6957*EU31*13/FH31-2.3565*EV31*13/FH31-1.3006*EW31*13/FH31-2.778*EZ31*13/FH31-2.4838*FB31*13/FH31-0.6614*FC31-0.2705*FD31+0.1117*FE31))/1000 -> 1.1237909 | BD31: =10*(24023-1925.3*EU31*13/FH31-1720.6*EV31*13/FH31-1478.5*EW31*13/FH31-1843.2*EZ31*13/FH31-1746.9*FB31*13/FH31-158.28*FC31-40.444*FD31+253.52*FE31)/1000 -> 0.17981724 | BE31: =10*(26106-1991.9*EU31*13/FH31-3035*EV31*13/FH31-1472.2*EW31*13/FH31-2454.8*EZ31*13/FH31-2125.8*FB31*13/FH31-830.64*FC31+2708.8*FD31+2204.1*FE31)/1000 -> -7.6470973 | BF31: =10*EXP(26.543-1.2085*EU31*13/FH31-3.8593*EV31*13/FH31-1.1054*EW31*13/FH31-2.9068*EZ31*13/FH31-2.6483*FB31*13/FH31+0.5134*FC31+2.9752*FD31+1.8147*FE31)/1000 -> 2.4383601 | BG31: =10*(19.209*EXP(1.438*EW31*13/FF31))/1000 -> 0.81909351 | BI31: =EZ31/(EZ31+FB31) -> 0.31235297 | BJ31: =IF(AND(BI31<0.65,OR(AP31<800,AQ31<800,AO31<800,AM31<800)),"YES","NO") -> YES | BK31: =(-3.92+5.03*EW31) -> 1.9332568 | BL31: =1.27*(EW31^2.01) -> 1.7223492 | BM31: =0.26*EXP(1.48*EW31) -> 1.4552198 | BN31: =(-4.76+5.64*EW31) -> 1.8030951 | BO31: =(-3.46+4.23*EW31) -> 1.4623213 | BP31: =(4.76*EW31-3.01-((C31-675)/85)*(0.53*EW31+0.005294*(C31-675))) -> 0.30868101 | BQ31: =(5.03*EW31-3.53) -> 2.3232568 | BR31: =(-3.01+4.76*EW31) -> 2.5290661 | BT31: =F31/BT$6 -> 1.1815626 | BU31: =G31/BU$6 -> 0.0027774594 | BV31: =H31/BV$6 -> 0.12334249 | BW31: =O31/CC$6 -> 0 | BX31: =I31/BW$6 -> 0.023429834 | BY31: =J31/BX$6 -> 0.00094723132 | BZ31: =K31/BY$6 -> 0.013920254 | CA31: =L31/BZ$6 -> 0.043065727 | CB31: =M31/CA$6 -> 0.065616438 | CC31: =N31/CB$6 -> 0.017460371 | CD31: =P31/CD$6 -> 0.00036146463 | CE31: =Q31/CE$6 -> 0.27756375 | CF31: =SUM(BT31:CE31) -> 1.7500477 | CG31: =BT31+BU31+BX31+BY31+BZ31+CA31+2*(BV31+BW31+CB31+CC31+CD31) -> 1.6792647 | CH31: =SUM(BT31:CD31) -> 1.4724839 | CI31: =BT31/$CF31 -> 0.67516026 | CJ31: =BU31/$CF31 -> 0.0015870764 | CK31: =BV31/$CF31 -> 0.070479505 | CL31: =BW31/$CF31 -> 0 | CM31: =BX31/$CF31 -> 0.013388112 | CN31: =BY31/$CF31 -> 0.0005412603 | CO31: =BZ31/$CF31 -> 0.0079542141 | CP31: =CA31/$CF31 -> 0.024608317 | ... CT31: =CE31/$CF31 -> 0.15860354 | CU31: =SUM(CI31:CT31) -> 1 | CV31: =SUM(CI31:CS31) -> 0.84139646 | CX31: =BT31/$CG31 -> 0.70361906 | CY31: =BU31/$CG31 -> 0.0016539736 | CZ31: =BV31*2/$CG31 -> 0.1469006 | DA31: =BW31*2/$CG31 -> 0 | DB31: =BX31/$CG31 -> 0.013952437 | DC31: =BY31/$CG31 -> 0.00056407506 | DD31: =BZ31/$CG31 -> 0.0082894936 | DE31: =CA31/$CG31 -> 0.025645586 | DF31: =CB31*2/$CG31 -> 0.078149013 | DG31: =CC31*2/$CG31 -> 0.020795258 | DH31: =CD31*2/$CG31 -> 0.00043050347 | DI31: =SUM(CX31:DH31) -> 1 | DJ31: =S31/DJ$6 -> 0.79970974 | DK31: =T31/DK$6 -> 0.016274656 | DL31: =U31/DL$6 -> 0.065809476 | DM31: =AB31/DM$6 -> 0 | DN31: =V31/DN$6 -> 0.17051655 | DO31: =W31/DO$6 -> 0.0040881057 | DP31: =X31/DP$6 -> 0.37539326 | DQ31: =Y31/DQ$6 -> 0.19901065 | DR31: =Z31/DR$6 -> 0.021458916 | DS31: =AA31/DS$6 -> 0.0015924243 | DT31: =SUM(DJ31:DS31) -> 1.6538538 | DU31: =S31/DJ$7 -> 0.79970974 | DV31: =T31/DK$7 -> 0.016274656 | DW31: =U31/DL$7 -> 0.13161895 | DX31: =AB31/DM$7 -> 0 | DZ31: =V31/DN$7 -> 0.17051655 | EA31: =W31/DO$7 -> 0.0040881057 | EB31: =X31/DP$7 -> 0.37539326 | EC31: =Y31/DQ$7 -> 0.19901065 | ED31: =Z31/DR$7 -> 0.042917832 | EE31: =AA31/DS$7 -> 0.0031848486 | EG31: =DJ31*2 -> 1.5994195 | EH31: =DK31*2 -> 0.032549312 | EI31: =DL31*3 -> 0.19742843 | EJ31: =DM31*3 -> 0 | EL31: =DN31 -> 0.17051655 | EM31: =DO31 -> 0.0040881057 | EN31: =DP31 -> 0.37539326 | EO31: =DQ31 -> 0.19901065 | EP31: =DR31 -> 0.021458916 | EQ31: =DS31 -> 0.0015924243 | ER31: =SUM(EG31:EQ31) -> 2.6014571 | ES31: =23/ER31 -> 8.8411989 | EU31: =DU31*$ES31 -> 7.0703929 | EV31: =DV31*$ES31 -> 0.14388747 | EW31: =DW31*$ES31 -> 1.1636693 | EX31: =DX31*$ES31 -> 0 | EZ31: =DZ31*$ES31 -> 1.5075707 | FA31: =EA31*$ES31 -> 0.036143756 | FB31: =EB31*$ES31 -> 3.3189265 | FC31: =EC31*$ES31 -> 1.7594928 | FD31: =ED31*$ES31 -> 0.37944509 | FE31: =EE31*$ES31 -> 0.02815788 | FF31: =SUM(EU31:FC31) -> 15.000083 | FG31: =SUM(EU31:FE31) -> 15.407686 | FH31: =SUM(EU31:FB31) -> 13.240591 | FI31: =IF(OR(FG31>16,FG31<15),"BAD","Good") -> Good | FJ31: =(FB31*13/(EU31+EV31+EW31+EZ31+FA31+FB31))/(DD31) -> 393.10234 | FK31: =FB31/(FB31+EZ31) -> 0.68764703 | FL31: =DE31/(DE31+CZ31) -> 0.14863027 | FN31: =5.5976-24505/(AM31+273.15)+0.8099*LOG(AM31+273.15)+0.0937*(AH31*1000-1)/(273.15+AM31)+$G$6 -> -14.744481 | FO31: =EXP(-6.53+10813.8/(AM31+273.15)+0.19*FN31*2.3026+12.4*(CB31+CC31)/CG31-3.44*BV31/(BV31+BT31)+4.15*CA31/CG31) -> 0.085026774 | FP31: =(EZ31)*FO31/(1+2*FO31) -> 0.10955385 | FQ31: =(EZ31)-FP31 -> 1.3980169 | FR31: =EU31 -> 7.0703929 | FS31: =IF(EU31+EW31>8,8-EU31,EW31) -> 0.92960708 | FT31: =IF(FS31+FR31=8,0,IF(8<FS31+FR31+EV31,EV31,8-FR31-FS31)) -> 0 | FU31: =FS31+FR31+FT31 -> 8 | FV31: =IF(EW31-FS31<0,0,EW31-FS31) -> 0.23406226 | FW31: =EX31 -> 0 | FX31: =FP31 -> 0.10955385 | FY31: =EV31-FT31 -> 0.14388747 | FZ31: =SUM(FV31:FY31) -> 0.48750359 | GA31: =IF(FZ31>5,0,IF(FZ31+FB31<5,FB31,5-FZ31)) -> 3.3189265 | GB31: =GA31+FZ31 -> 3.8064301 | GC31: =IF(GB31>5,0,IF(GB31+FQ31<5,FQ31,5-GB31)) -> 1.1935699 | GD31: =GC31+GB31 -> 5 | GE31: =IF(GD31=5,0,IF(GD31+FA31<5,FA31,5-GD31)) -> 0 | GF31: =GE31+GD31 -> 5 | GG31: =FB31-GA31 -> 0 | GH31: =FQ31-GC31 -> 0.20444692 | GI31: =FA31-GE31 -> 0.036143756 | GJ31: =SUM(GG31:GI31) -> 0.24059067 | GK31: =GJ31 -> 0.24059067 | GL31: =IF(FC31>2-GK31,2-GK31,FC31) -> 1.7594093 | GM31: =IF(GL31+GK31+FD31<2,FD31,2-GK31-GL31) -> 0 | GN31: =GL31+GK31+GM31 -> 2 | GP31: =IF(GL31<1,"Mg-Fe-Li grpup",IF(AND(GL31+GM31>=1,GM31<0.5),"CALCIC",IF(AND(GL31+GM31>=1,GM31>0.5),"SODIC-CALCIC"))) -> CALCIC | GR31: =IF(FD31-GM31>0,FD31-GM31,0) -> 0.37944509 | GS31: =FE31 -> 0.02815788 | GT31: =GS31+GR31 -> 0.40760297 | GU31: =IF(2-FC31-EZ31<=0.1,0,2-FC31-EZ31) -> 0 | GV31: =FD31-GU31 -> 0.37944509
A32: AUGUSTINE | B32: TAPPEN ET AL. 2009 | C32: =AVERAGE(AL32:AS32) -> 814.34437 | D32: =AI32 -> -0.4254565 | F32: 70.993364 | G32: 0.22186012 | H32: 12.576124 | I32: 1.6833492 | J32: 0.067194222 | K32: 0.56104747 | L32: 2.415014 | M32: 4.0668347 | N32: 1.6446971 | O32: 0 | P32: 0.051305206 | Q32: 5 | S32: 48.05 | T32: 1.3 | U32: 6.71 | V32: 12.251 | W32: 0.29 | X32: 15.13 | Y32: 11.16 | Z32: 1.33 | AA32: 0.15 | AD32: =0.7996+15.347*SQRT(AH32/10)-0.00233*AL32+0.06248*(N32+M32) -> 5.4471656 | AF32: =(DN32/DP32)/(CM32/CO32) -> 0.2698721 | AG32: =751.95-0.4*AL32-278000/AL32-9.184*EW32 -> 73.502618 | AH32: =ROUND(10*(-3.093-4.274*LN(EW32/CK32)-4.216*LN(CK32)+63.3*CS32+1.264*CT32+2.457*EW32+1.86*FE32+0.4*LN(FD32/CQ32)),1) -> 1.6 | AI32: =-64.79-6.064*LN(EW32/CK32)+61.75*CI32+682*CS32-101.9*CP32+7.85*EW32-46.46*LN(CI32)-4.81*LN(CQ32+CR32) -> -0.4254565 | AJ32: =-45.55+26.65*EW32+22.52*FE32+439*CD32/CH32-51.1*LN(BV32/CH32)-46.3*LN(EW32/(BV32/CH32))+5.231*LN(FD32/(CB32/CH32)) -> 2.2922888 | AL32: =1781-132.74*EU32+116.6*EV32-69.41*EZ32+101.62*FD32 -> 793.17205 | AM32: =1687-118.7*EU32+131.56*EV32-71.41*EZ32+86.13*FD32+22.44*AH32/10 -> 795.29058 | AN32: =2061-178.4*EU32 -> 799.6419 | AO32: =(24429.2)/(2.31+42.1*CM32+32.2*CP32+2.21*LN(CI32)-1.4*LN(CJ32)-2.666*LN((CM32+CO32)*CK32)) -> 838.05745 | AP32: =6383.4/(-12.07+45.4*CK32+12.21*CM32-0.415*LN(CJ32)-3.555*LN(CK32)-0.832*LN(CQ32)-0.481*LN((CM32+CO32+CN32)*CK32)-0.679*LN(FD32/CQ32)) -> 832.01136 | AQ32: =8037.85/(3.69-2.62*CT32+0.66*EZ32-0.416*LN(CJ32)+0.37*LN(CO32)-1.05*LN((CM32+CO32+CN32)*CK32)-0.462*LN(EV32/CJ32)) -> 813.69494 | AR32: =1201.4-97.93*EU32+201.82*EV32+72.85*FB32+88.9*FD32+40.65*AH32/10 -> 820.05625 | AS32: =10073.5/(9.75+0.934*EU32-1.454*EV32-0.882*FB32-1.123*FD32-0.322*LN(CM32)-0.7593*LN(EW32/CK32)-0.15*AZ32) -> 822.83043 | AU32: =0.5+0.331*EW32+0.995*EW32^2 -> 2.2325303 | AW32: =(71975-11896*LN(FL32))/(8.3144*LN(FJ32)+58) -> 879.08941 | AX32: =107*LN(DD32)-108*LN(FL32)+1184 -> 877.05369 | AZ32: =LN((GS32/GV32)*(CQ32/CR32)) -> -1.2769902 | BB32: =10*(EXP(125.93-9.5876*EU32*13/FH32-10.116*EV32*13/FH32-8.1735*EW32*13/FH32-9.2261*EZ32*13/FH32-8.7934*FB32*13/FH32-1.6659*FC32+2.4835*FD32+2.5192*FE32))/1000 -> 0.79651297 | BC32: =10*(EXP(38.723-2.6957*EU32*13/FH32-2.3565*EV32*13/FH32-1.3006*EW32*13/FH32-2.778*EZ32*13/FH32-2.4838*FB32*13/FH32-0.6614*FC32-0.2705*FD32+0.1117*FE32))/1000 -> 1.1237909 | BD32: =10*(24023-1925.3*EU32*13/FH32-1720.6*EV32*13/FH32-1478.5*EW32*13/FH32-1843.2*EZ32*13/FH32-1746.9*FB32*13/FH32-158.28*FC32-40.444*FD32+253.52*FE32)/1000 -> 0.17981724 | BE32: =10*(26106-1991.9*EU32*13/FH32-3035*EV32*13/FH32-1472.2*EW32*13/FH32-2454.8*EZ32*13/FH32-2125.8*FB32*13/FH32-830.64*FC32+2708.8*FD32+2204.1*FE32)/1000 -> -7.6470973 | BF32: =10*EXP(26.543-1.2085*EU32*13/FH32-3.8593*EV32*13/FH32-1.1054*EW32*13/FH32-2.9068*EZ32*13/FH32-2.6483*FB32*13/FH32+0.5134*FC32+2.9752*FD32+1.8147*FE32)/1000 -> 2.4383601 | BG32: =10*(19.209*EXP(1.438*EW32*13/FF32))/1000 -> 0.81909351 | BI32: =EZ32/(EZ32+FB32) -> 0.31235297 | BJ32: =IF(AND(BI32<0.65,OR(AP32<800,AQ32<800,AO32<800,AM32<800)),"YES","NO") -> YES | BK32: =(-3.92+5.03*EW32) -> 1.9332568 | BL32: =1.27*(EW32^2.01) -> 1.7223492 | BM32: =0.26*EXP(1.48*EW32) -> 1.4552198 | BN32: =(-4.76+5.64*EW32) -> 1.8030951 | BO32: =(-3.46+4.23*EW32) -> 1.4623213 | BP32: =(4.76*EW32-3.01-((C32-675)/85)*(0.53*EW32+0.005294*(C32-675))) -> 0.30868101 | BQ32: =(5.03*EW32-3.53) -> 2.3232568 | BR32: =(-3.01+4.76*EW32) -> 2.5290661 | BT32: =F32/BT$6 -> 1.1815626 | BU32: =G32/BU$6 -> 0.0027774594 | BV32: =H32/BV$6 -> 0.12334249 | BW32: =O32/CC$6 -> 0 | BX32: =I32/BW$6 -> 0.023429834 | BY32: =J32/BX$6 -> 0.00094723132 | BZ32: =K32/BY$6 -> 0.013920254 | CA32: =L32/BZ$6 -> 0.043065727 | CB32: =M32/CA$6 -> 0.065616438 | CC32: =N32/CB$6 -> 0.017460371 | CD32: =P32/CD$6 -> 0.00036146463 | CE32: =Q32/CE$6 -> 0.27756375 | CF32: =SUM(BT32:CE32) -> 1.7500477 | CG32: =BT32+BU32+BX32+BY32+BZ32+CA32+2*(BV32+BW32+CB32+CC32+CD32) -> 1.6792647 | CH32: =SUM(BT32:CD32) -> 1.4724839 | CI32: =BT32/$CF32 -> 0.67516026 | CJ32: =BU32/$CF32 -> 0.0015870764 | CK32: =BV32/$CF32 -> 0.070479505 | CL32: =BW32/$CF32 -> 0 | CM32: =BX32/$CF32 -> 0.013388112 | CN32: =BY32/$CF32 -> 0.0005412603 | CO32: =BZ32/$CF32 -> 0.0079542141 | CP32: =CA32/$CF32 -> 0.024608317 | ... CT32: =CE32/$CF32 -> 0.15860354 | CU32: =SUM(CI32:CT32) -> 1 | CV32: =SUM(CI32:CS32) -> 0.84139646 | CX32: =BT32/$CG32 -> 0.70361906 | CY32: =BU32/$CG32 -> 0.0016539736 | CZ32: =BV32*2/$CG32 -> 0.1469006 | DA32: =BW32*2/$CG32 -> 0 | DB32: =BX32/$CG32 -> 0.013952437 | DC32: =BY32/$CG32 -> 0.00056407506 | DD32: =BZ32/$CG32 -> 0.0082894936 | DE32: =CA32/$CG32 -> 0.025645586 | DF32: =CB32*2/$CG32 -> 0.078149013 | DG32: =CC32*2/$CG32 -> 0.020795258 | DH32: =CD32*2/$CG32 -> 0.00043050347 | DI32: =SUM(CX32:DH32) -> 1 | DJ32: =S32/DJ$6 -> 0.79970974 | DK32: =T32/DK$6 -> 0.016274656 | DL32: =U32/DL$6 -> 0.065809476 | DM32: =AB32/DM$6 -> 0 | DN32: =V32/DN$6 -> 0.17051655 | DO32: =W32/DO$6 -> 0.0040881057 | DP32: =X32/DP$6 -> 0.37539326 | DQ32: =Y32/DQ$6 -> 0.19901065 | DR32: =Z32/DR$6 -> 0.021458916 | DS32: =AA32/DS$6 -> 0.0015924243 | DT32: =SUM(DJ32:DS32) -> 1.6538538 | DU32: =S32/DJ$7 -> 0.79970974 | DV32: =T32/DK$7 -> 0.016274656 | DW32: =U32/DL$7 -> 0.13161895 | DX32: =AB32/DM$7 -> 0 | DZ32: =V32/DN$7 -> 0.17051655 | EA32: =W32/DO$7 -> 0.0040881057 | EB32: =X32/DP$7 -> 0.37539326 | EC32: =Y32/DQ$7 -> 0.19901065 | ED32: =Z32/DR$7 -> 0.042917832 | EE32: =AA32/DS$7 -> 0.0031848486 | EG32: =DJ32*2 -> 1.5994195 | EH32: =DK32*2 -> 0.032549312 | EI32: =DL32*3 -> 0.19742843 | EJ32: =DM32*3 -> 0 | EL32: =DN32 -> 0.17051655 | EM32: =DO32 -> 0.0040881057 | EN32: =DP32 -> 0.37539326 | EO32: =DQ32 -> 0.19901065 | EP32: =DR32 -> 0.021458916 | EQ32: =DS32 -> 0.0015924243 | ER32: =SUM(EG32:EQ32) -> 2.6014571 | ES32: =23/ER32 -> 8.8411989 | EU32: =DU32*$ES32 -> 7.0703929 | EV32: =DV32*$ES32 -> 0.14388747 | EW32: =DW32*$ES32 -> 1.1636693 | EX32: =DX32*$ES32 -> 0 | EZ32: =DZ32*$ES32 -> 1.5075707 | FA32: =EA32*$ES32 -> 0.036143756 | FB32: =EB32*$ES32 -> 3.3189265 | FC32: =EC32*$ES32 -> 1.7594928 | FD32: =ED32*$ES32 -> 0.37944509 | FE32: =EE32*$ES32 -> 0.02815788 | FF32: =SUM(EU32:FC32) -> 15.000083 | FG32: =SUM(EU32:FE32) -> 15.407686 | FH32: =SUM(EU32:FB32) -> 13.240591 | FI32: =IF(OR(FG32>16,FG32<15),"BAD","Good") -> Good | FJ32: =(FB32*13/(EU32+EV32+EW32+EZ32+FA32+FB32))/(DD32) -> 393.10234 | FK32: =FB32/(FB32+EZ32) -> 0.68764703 | FL32: =DE32/(DE32+CZ32) -> 0.14863027 | FN32: =5.5976-24505/(AM32+273.15)+0.8099*LOG(AM32+273.15)+0.0937*(AH32*1000-1)/(273.15+AM32)+$G$6 -> -14.744481 | FO32: =EXP(-6.53+10813.8/(AM32+273.15)+0.19*FN32*2.3026+12.4*(CB32+CC32)/CG32-3.44*BV32/(BV32+BT32)+4.15*CA32/CG32) -> 0.085026774 | FP32: =(EZ32)*FO32/(1+2*FO32) -> 0.10955385 | FQ32: =(EZ32)-FP32 -> 1.3980169 | FR32: =EU32 -> 7.0703929 | FS32: =IF(EU32+EW32>8,8-EU32,EW32) -> 0.92960708 | FT32: =IF(FS32+FR32=8,0,IF(8<FS32+FR32+EV32,EV32,8-FR32-FS32)) -> 0 | FU32: =FS32+FR32+FT32 -> 8 | FV32: =IF(EW32-FS32<0,0,EW32-FS32) -> 0.23406226 | FW32: =EX32 -> 0 | FX32: =FP32 -> 0.10955385 | FY32: =EV32-FT32 -> 0.14388747 | FZ32: =SUM(FV32:FY32) -> 0.48750359 | GA32: =IF(FZ32>5,0,IF(FZ32+FB32<5,FB32,5-FZ32)) -> 3.3189265 | GB32: =GA32+FZ32 -> 3.8064301 | GC32: =IF(GB32>5,0,IF(GB32+FQ32<5,FQ32,5-GB32)) -> 1.1935699 | GD32: =GC32+GB32 -> 5 | GE32: =IF(GD32=5,0,IF(GD32+FA32<5,FA32,5-GD32)) -> 0 | GF32: =GE32+GD32 -> 5 | GG32: =FB32-GA32 -> 0 | GH32: =FQ32-GC32 -> 0.20444692 | GI32: =FA32-GE32 -> 0.036143756 | GJ32: =SUM(GG32:GI32) -> 0.24059067 | GK32: =GJ32 -> 0.24059067 | GL32: =IF(FC32>2-GK32,2-GK32,FC32) -> 1.7594093 | GM32: =IF(GL32+GK32+FD32<2,FD32,2-GK32-GL32) -> 0 | GN32: =GL32+GK32+GM32 -> 2 | GP32: =IF(GL32<1,"Mg-Fe-Li grpup",IF(AND(GL32+GM32>=1,GM32<0.5),"CALCIC",IF(AND(GL32+GM32>=1,GM32>0.5),"SODIC-CALCIC"))) -> CALCIC | GR32: =IF(FD32-GM32>0,FD32-GM32,0) -> 0.37944509 | GS32: =FE32 -> 0.02815788 | GT32: =GS32+GR32 -> 0.40760297 | GU32: =IF(2-FC32-EZ32<=0.1,0,2-FC32-EZ32) -> 0 | GV32: =FD32-GU32 -> 0.37944509
A33: AUGUSTINE | B33: TAPPEN ET AL. 2009 | C33: =AVERAGE(AL33:AS33) -> 816.86608 | D33: =AI33 -> -0.14795464 | F33: 71.295351 | G33: 0.21210847 | H33: 12.427332 | I33: 1.5660148 | J33: 0.064992235 | K33: 0.48114683 | L33: 2.2788054 | M33: 4.0800466 | N33: 1.6708064 | O33: 0 | P33: 0.047844941 | Q33: 5 | S33: 47.86 | T33: 1.53 | U33: 7.3 | V33: 12.987 | W33: 0.32 | X33: 14.78 | Y33: 10.75 | Z33: 1.42 | AA33: 0.17 | AD33: =0.7996+15.347*SQRT(AH33/10)-0.00233*AL33+0.06248*(N33+M33) -> 3.633091 | AF33: =(DN33/DP33)/(CM33/CO33) -> 0.26997041 | AG33: =751.95-0.4*AL33-278000/AL33-9.184*EW33 -> 72.919362 | AH33: =ROUND(10*(-3.093-4.274*LN(EW33/CK33)-4.216*LN(CK33)+63.3*CS33+1.264*CT33+2.457*EW33+1.86*FE33+0.4*LN(FD33/CQ33)),1) -> 0.8 | AI33: =-64.79-6.064*LN(EW33/CK33)+61.75*CI33+682*CS33-101.9*CP33+7.85*EW33-46.46*LN(CI33)-4.81*LN(CQ33+CR33) -> -0.14795464 | AJ33: =-45.55+26.65*EW33+22.52*FE33+439*CD33/CH33-51.1*LN(BV33/CH33)-46.3*LN(EW33/(BV33/CH33))+5.231*LN(FD33/(CB33/CH33)) -> 1.5962265 | AL33: =1781-132.74*EU33+116.6*EV33-69.41*EZ33+101.62*FD33 -> 801.11991 | AM33: =1687-118.7*EU33+131.56*EV33-71.41*EZ33+86.13*FD33+22.44*AH33/10 -> 800.39098 | AN33: =2061-178.4*EU33 -> 810.93887 | AO33: =(24429.2)/(2.31+42.1*CM33+32.2*CP33+2.21*LN(CI33)-1.4*LN(CJ33)-2.666*LN((CM33+CO33)*CK33)) -> 829.87328 | AP33: =6383.4/(-12.07+45.4*CK33+12.21*CM33-0.415*LN(CJ33)-3.555*LN(CK33)-0.832*LN(CQ33)-0.481*LN((CM33+CO33+CN33)*CK33)-0.679*LN(FD33/CQ33)) -> 829.64959 | AQ33: =8037.85/(3.69-2.62*CT33+0.66*EZ33-0.416*LN(CJ33)+0.37*LN(CO33)-1.05*LN((CM33+CO33+CN33)*CK33)-0.462*LN(EV33/CJ33)) -> 810.60995 | AR33: =1201.4-97.93*EU33+201.82*EV33+72.85*FB33+88.9*FD33+40.65*AH33/10 -> 823.2942 | AS33: =10073.5/(9.75+0.934*EU33-1.454*EV33-0.882*FB33-1.123*FD33-0.322*LN(CM33)-0.7593*LN(EW33/CK33)-0.15*AZ33) -> 829.05185 | AU33: =0.5+0.331*EW33+0.995*EW33^2 -> 2.4956759 | AW33: =(71975-11896*LN(FL33))/(8.3144*LN(FJ33)+58) -> 875.36611 | AX33: =107*LN(DD33)-108*LN(FL33)+1184 -> 865.07435 | AZ33: =LN((GS33/GV33)*(CQ33/CR33)) -> -1.2298117 | BB33: =10*(EXP(125.93-9.5876*EU33*13/FH33-10.116*EV33*13/FH33-8.1735*EW33*13/FH33-9.2261*EZ33*13/FH33-8.7934*FB33*13/FH33-1.6659*FC33+2.4835*FD33+2.5192*FE33))/1000 -> 1.0547356 | BC33: =10*(EXP(38.723-2.6957*EU33*13/FH33-2.3565*EV33*13/FH33-1.3006*EW33*13/FH33-2.778*EZ33*13/FH33-2.4838*FB33*13/FH33-0.6614*FC33-0.2705*FD33+0.1117*FE33))/1000 -> 1.3137468 | BD33: =10*(24023-1925.3*EU33*13/FH33-1720.6*EV33*13/FH33-1478.5*EW33*13/FH33-1843.2*EZ33*13/FH33-1746.9*FB33*13/FH33-158.28*FC33-40.444*FD33+253.52*FE33)/1000 -> 0.68476892 | BE33: =10*(26106-1991.9*EU33*13/FH33-3035*EV33*13/FH33-1472.2*EW33*13/FH33-2454.8*EZ33*13/FH33-2125.8*FB33*13/FH33-830.64*FC33+2708.8*FD33+2204.1*FE33)/1000 -> -6.243132 | BF33: =10*EXP(26.543-1.2085*EU33*13/FH33-3.8593*EV33*13/FH33-1.1054*EW33*13/FH33-2.9068*EZ33*13/FH33-2.6483*FB33*13/FH33+0.5134*FC33+2.9752*FD33+1.8147*FE33)/1000 -> 2.4662287 | BG33: =10*(19.209*EXP(1.438*EW33*13/FF33))/1000 -> 0.92536688 | BI33: =EZ33/(EZ33+FB33) -> 0.3301745 | BJ33: =IF(AND(BI33<0.65,OR(AP33<800,AQ33<800,AO33<800,AM33<800)),"YES","NO") -> NO | BK33: =(-3.92+5.03*EW33) -> 2.415946 | BL33: =1.27*(EW33^2.01) -> 2.0197291 | BM33: =0.26*EXP(1.48*EW33) -> 1.6772924 | BN33: =(-4.76+5.64*EW33) -> 2.3443212 | BO33: =(-3.46+4.23*EW33) -> 1.8682409 | BP33: =(4.76*EW33-3.01-((C33-675)/85)*(0.53*EW33+0.005294*(C33-675))) -> 0.61811124 | BQ33: =(5.03*EW33-3.53) -> 2.805946 | BR33: =(-3.01+4.76*EW33) -> 2.9858455 | BT33: =F33/BT$6 -> 1.1865887 | BU33: =G33/BU$6 -> 0.0026553788 | BV33: =H33/BV$6 -> 0.1218832 | BW33: =O33/CC$6 -> 0 | BX33: =I33/BW$6 -> 0.021796706 | BY33: =J33/BX$6 -> 0.0009161901 | BZ33: =K33/BY$6 -> 0.011937824 | CA33: =L33/BZ$6 -> 0.040636788 | CB33: =M33/CA$6 -> 0.065829606 | CC33: =N33/CB$6 -> 0.017737551 | CD33: =P33/CD$6 -> 0.00033708576 | CE33: =Q33/CE$6 -> 0.27756375 | CF33: =SUM(BT33:CE33) -> 1.7478828 | CG33: =BT33+BU33+BX33+BY33+BZ33+CA33+2*(BV33+BW33+CB33+CC33+CD33) -> 1.6761064 | CH33: =SUM(BT33:CD33) -> 1.470319 | CI33: =BT33/$CF33 -> 0.67887201 | CJ33: =BU33/$CF33 -> 0.0015191973 | CK33: =BV33/$CF33 -> 0.069731906 | CL33: =BW33/$CF33 -> 0 | CM33: =BX33/$CF33 -> 0.012470348 | CN33: =BY33/$CF33 -> 0.00052417137 | CO33: =BZ33/$CF33 -> 0.0068298768 | CP33: =CA33/$CF33 -> 0.02324915 | ... CT33: =CE33/$CF33 -> 0.15879998 | CU33: =SUM(CI33:CT33) -> 1 | CV33: =SUM(CI33:CS33) -> 0.84120002 | CX33: =BT33/$CG33 -> 0.70794351 | CY33: =BU33/$CG33 -> 0.0015842543 | CZ33: =BV33*2/$CG33 -> 0.1454361 | DA33: =BW33*2/$CG33 -> 0 | DB33: =BX33/$CG33 -> 0.013004368 | DC33: =BY33/$CG33 -> 0.00054661809 | DD33: =BZ33/$CG33 -> 0.0071223543 | DE33: =CA33/$CG33 -> 0.024244754 | DF33: =CB33*2/$CG33 -> 0.078550627 | DG33: =CC33*2/$CG33 -> 0.021165184 | DH33: =CD33*2/$CG33 -> 0.00040222476 | DI33: =SUM(CX33:DH33) -> 1 | DJ33: =S33/DJ$6 -> 0.79654752 | DK33: =T33/DK$6 -> 0.019154018 | DL33: =U33/DL$6 -> 0.071596002 | DM33: =AB33/DM$6 -> 0 | DN33: =V33/DN$6 -> 0.18076062 | DO33: =W33/DO$6 -> 0.0045110132 | DP33: =X33/DP$6 -> 0.36670934 | DQ33: =Y33/DQ$6 -> 0.19169933 | DR33: =Z33/DR$6 -> 0.022911023 | DS33: =AA33/DS$6 -> 0.0018047475 | DT33: =SUM(DJ33:DS33) -> 1.6556936 | DU33: =S33/DJ$7 -> 0.79654752 | DV33: =T33/DK$7 -> 0.019154018 | DW33: =U33/DL$7 -> 0.143192 | DX33: =AB33/DM$7 -> 0 | DZ33: =V33/DN$7 -> 0.18076062 | EA33: =W33/DO$7 -> 0.0045110132 | EB33: =X33/DP$7 -> 0.36670934 | EC33: =Y33/DQ$7 -> 0.19169933 | ED33: =Z33/DR$7 -> 0.045822046 | EE33: =AA33/DS$7 -> 0.0036094951 | EG33: =DJ33*2 -> 1.593095 | EH33: =DK33*2 -> 0.038308037 | EI33: =DL33*3 -> 0.21478801 | EJ33: =DM33*3 -> 0 | EL33: =DN33 -> 0.18076062 | EM33: =DO33 -> 0.0045110132 | EN33: =DP33 -> 0.36670934 | EO33: =DQ33 -> 0.19169933 | EP33: =DR33 -> 0.022911023 | EQ33: =DS33 -> 0.0018047475 | ER33: =SUM(EG33:EQ33) -> 2.6145872 | ES33: =23/ER33 -> 8.7967999 | EU33: =DU33*$ES33 -> 7.0070691 | EV33: =DV33*$ES33 -> 0.16849407 | EW33: =DW33*$ES33 -> 1.2596314 | EX33: =DX33*$ES33 -> 0 | EZ33: =DZ33*$ES33 -> 1.590115 | FA33: =EA33*$ES33 -> 0.039682481 | FB33: =EB33*$ES33 -> 3.2258687 | FC33: =EC33*$ES33 -> 1.6863406 | FD33: =ED33*$ES33 -> 0.40308737 | FE33: =EE33*$ES33 -> 0.031752006 | FF33: =SUM(EU33:FC33) -> 14.977201 | FG33: =SUM(EU33:FE33) -> 15.412041 | FH33: =SUM(EU33:FB33) -> 13.290861 | FI33: =IF(OR(FG33>16,FG33<15),"BAD","Good") -> Good | FJ33: =(FB33*13/(EU33+EV33+EW33+EZ33+FA33+FB33))/(DD33) -> 443.00983 | FK33: =FB33/(FB33+EZ33) -> 0.6698255 | FL33: =DE33/(DE33+CZ33) -> 0.14288444 | FN33: =5.5976-24505/(AM33+273.15)+0.8099*LOG(AM33+273.15)+0.0937*(AH33*1000-1)/(273.15+AM33)+$G$6 -> -14.704332 | FO33: =EXP(-6.53+10813.8/(AM33+273.15)+0.19*FN33*2.3026+12.4*(CB33+CC33)/CG33-3.44*BV33/(BV33+BT33)+4.15*CA33/CG33) -> 0.082776062 | FP33: =(EZ33)*FO33/(1+2*FO33) -> 0.11292799 | FQ33: =(EZ33)-FP33 -> 1.477187 | FR33: =EU33 -> 7.0070691 | FS33: =IF(EU33+EW33>8,8-EU33,EW33) -> 0.99293089 | FT33: =IF(FS33+FR33=8,0,IF(8<FS33+FR33+EV33,EV33,8-FR33-FS33)) -> 0 | FU33: =FS33+FR33+FT33 -> 8 | FV33: =IF(EW33-FS33<0,0,EW33-FS33) -> 0.26670052 | FW33: =EX33 -> 0 | FX33: =FP33 -> 0.11292799 | FY33: =EV33-FT33 -> 0.16849407 | FZ33: =SUM(FV33:FY33) -> 0.54812258 | GA33: =IF(FZ33>5,0,IF(FZ33+FB33<5,FB33,5-FZ33)) -> 3.2258687 | GB33: =GA33+FZ33 -> 3.7739913 | GC33: =IF(GB33>5,0,IF(GB33+FQ33<5,FQ33,5-GB33)) -> 1.2260087 | GD33: =GC33+GB33 -> 5 | GE33: =IF(GD33=5,0,IF(GD33+FA33<5,FA33,5-GD33)) -> 0 | GF33: =GE33+GD33 -> 5 | GG33: =FB33-GA33 -> 0 | GH33: =FQ33-GC33 -> 0.25117831 | GI33: =FA33-GE33 -> 0.039682481 | GJ33: =SUM(GG33:GI33) -> 0.29086079 | GK33: =GJ33 -> 0.29086079 | GL33: =IF(FC33>2-GK33,2-GK33,FC33) -> 1.6863406 | GM33: =IF(GL33+GK33+FD33<2,FD33,2-GK33-GL33) -> 0.022798568 | GN33: =GL33+GK33+GM33 -> 2 | GP33: =IF(GL33<1,"Mg-Fe-Li grpup",IF(AND(GL33+GM33>=1,GM33<0.5),"CALCIC",IF(AND(GL33+GM33>=1,GM33>0.5),"SODIC-CALCIC"))) -> CALCIC | GR33: =IF(FD33-GM33>0,FD33-GM33,0) -> 0.3802888 | GS33: =FE33 -> 0.031752006 | GT33: =GS33+GR33 -> 0.41204081 | GU33: =IF(2-FC33-EZ33<=0.1,0,2-FC33-EZ33) -> 0 | GV33: =FD33-GU33 -> 0.40308737
A34: AUGUSTINE | B34: TAPPEN ET AL. 2009 | C34: =AVERAGE(AL34:AS34) -> 819.5244 | D34: =AI34 -> -0.051007772 | F34: 71.362823 | G34: 0.20992968 | H34: 12.394088 | I34: 1.5397991 | J34: 0.064500251 | K34: 0.46329481 | L34: 2.2483726 | M34: 4.0829985 | N34: 1.6766399 | O34: 0 | P34: 0.047071822 | Q34: 5 | S34: 47.44 | T34: 1.65 | U34: 7.47 | V34: 13.171 | W34: 0.36 | X34: 14.73 | Y34: 10.85 | Z34: 1.36 | AA34: 0.17 | AD34: =0.7996+15.347*SQRT(AH34/10)-0.00233*AL34+0.06248*(N34+M34) -> 2.3501646 | AF34: =(DN34/DP34)/(CM34/CO34) -> 0.26903537 | AG34: =751.95-0.4*AL34-278000/AL34-9.184*EW34 -> 72.7927 | AH34: =ROUND(10*(-3.093-4.274*LN(EW34/CK34)-4.216*LN(CK34)+63.3*CS34+1.264*CT34+2.457*EW34+1.86*FE34+0.4*LN(FD34/CQ34)),1) -> 0.4 | AI34: =-64.79-6.064*LN(EW34/CK34)+61.75*CI34+682*CS34-101.9*CP34+7.85*EW34-46.46*LN(CI34)-4.81*LN(CQ34+CR34) -> -0.051007772 | AJ34: =-45.55+26.65*EW34+22.52*FE34+439*CD34/CH34-51.1*LN(BV34/CH34)-46.3*LN(EW34/(BV34/CH34))+5.231*LN(FD34/(CB34/CH34)) -> 1.0829698 | AL34: =1781-132.74*EU34+116.6*EV34-69.41*EZ34+101.62*FD34 -> 806.30799 | AM34: =1687-118.7*EU34+131.56*EV34-71.41*EZ34+86.13*FD34+22.44*AH34/10 -> 804.34873 | AN34: =2061-178.4*EU34 -> 820.35518 | AO34: =(24429.2)/(2.31+42.1*CM34+32.2*CP34+2.21*LN(CI34)-1.4*LN(CJ34)-2.666*LN((CM34+CO34)*CK34)) -> 827.94346 | AP34: =6383.4/(-12.07+45.4*CK34+12.21*CM34-0.415*LN(CJ34)-3.555*LN(CK34)-0.832*LN(CQ34)-0.481*LN((CM34+CO34+CN34)*CK34)-0.679*LN(FD34/CQ34)) -> 824.99779 | AQ34: =8037.85/(3.69-2.62*CT34+0.66*EZ34-0.416*LN(CJ34)+0.37*LN(CO34)-1.05*LN((CM34+CO34+CN34)*CK34)-0.462*LN(EV34/CJ34)) -> 811.1424 | AR34: =1201.4-97.93*EU34+201.82*EV34+72.85*FB34+88.9*FD34+40.65*AH34/10 -> 827.57779 | AS34: =10073.5/(9.75+0.934*EU34-1.454*EV34-0.882*FB34-1.123*FD34-0.322*LN(CM34)-0.7593*LN(EW34/CK34)-0.15*AZ34) -> 833.52186 | AU34: =0.5+0.331*EW34+0.995*EW34^2 -> 2.5844552 | AW34: =(71975-11896*LN(FL34))/(8.3144*LN(FJ34)+58) -> 874.0913 | AX34: =107*LN(DD34)-108*LN(FL34)+1184 -> 862.07121 | AZ34: =LN((GS34/GV34)*(CQ34/CR34)) -> -1.1894016 | BB34: =10*(EXP(125.93-9.5876*EU34*13/FH34-10.116*EV34*13/FH34-8.1735*EW34*13/FH34-9.2261*EZ34*13/FH34-8.7934*FB34*13/FH34-1.6659*FC34+2.4835*FD34+2.5192*FE34))/1000 -> 1.0653204 | BC34: =10*(EXP(38.723-2.6957*EU34*13/FH34-2.3565*EV34*13/FH34-1.3006*EW34*13/FH34-2.778*EZ34*13/FH34-2.4838*FB34*13/FH34-0.6614*FC34-0.2705*FD34+0.1117*FE34))/1000 -> 1.3763478 | BD34: =10*(24023-1925.3*EU34*13/FH34-1720.6*EV34*13/FH34-1478.5*EW34*13/FH34-1843.2*EZ34*13/FH34-1746.9*FB34*13/FH34-158.28*FC34-40.444*FD34+253.52*FE34)/1000 -> 0.91291671 | BE34: =10*(26106-1991.9*EU34*13/FH34-3035*EV34*13/FH34-1472.2*EW34*13/FH34-2454.8*EZ34*13/FH34-2125.8*FB34*13/FH34-830.64*FC34+2708.8*FD34+2204.1*FE34)/1000 -> -6.8163761 | BF34: =10*EXP(26.543-1.2085*EU34*13/FH34-3.8593*EV34*13/FH34-1.1054*EW34*13/FH34-2.9068*EZ34*13/FH34-2.6483*FB34*13/FH34+0.5134*FC34+2.9752*FD34+1.8147*FE34)/1000 -> 2.2565721 | BG34: =10*(19.209*EXP(1.438*EW34*13/FF34))/1000 -> 0.95850437 | BI34: =EZ34/(EZ34+FB34) -> 0.33404672 | BJ34: =IF(AND(BI34<0.65,OR(AP34<800,AQ34<800,AO34<800,AM34<800)),"YES","NO") -> NO | BK34: =(-3.92+5.03*EW34) -> 2.5716252 | BL34: =1.27*(EW34^2.01) -> 2.1207158 | BM34: =0.26*EXP(1.48*EW34) -> 1.7559097 | BN34: =(-4.76+5.64*EW34) -> 2.51888 | BO34: =(-3.46+4.23*EW34) -> 1.99916 | BP34: =(4.76*EW34-3.01-((C34-675)/85)*(0.53*EW34+0.005294*(C34-675))) -> 0.66924754 | BQ34: =(5.03*EW34-3.53) -> 2.9616252 | BR34: =(-3.01+4.76*EW34) -> 3.1331682 | BT34: =F34/BT$6 -> 1.1877116 | BU34: =G34/BU$6 -> 0.0026281026 | BV34: =H34/BV$6 -> 0.12155715 | BW34: =O34/CC$6 -> 0 | BX34: =I34/BW$6 -> 0.021431819 | BY34: =J34/BX$6 -> 0.00090925463 | BZ34: =K34/BY$6 -> 0.011494894 | CA34: =L34/BZ$6 -> 0.040094096 | CB34: =M34/CA$6 -> 0.065877234 | CC34: =N34/CB$6 -> 0.017799481 | CD34: =P34/CD$6 -> 0.00033163884 | CE34: =Q34/CE$6 -> 0.27756375 | CF34: =SUM(BT34:CE34) -> 1.7473991 | CG34: =BT34+BU34+BX34+BY34+BZ34+CA34+2*(BV34+BW34+CB34+CC34+CD34) -> 1.6754008 | CH34: =SUM(BT34:CD34) -> 1.4698353 | CI34: =BT34/$CF34 -> 0.67970258 | CJ34: =BU34/$CF34 -> 0.0015040082 | CK34: =BV34/$CF34 -> 0.069564618 | CL34: =BW34/$CF34 -> 0 | CM34: =BX34/$CF34 -> 0.012264983 | CN34: =BY34/$CF34 -> 0.00052034744 | CO34: =BZ34/$CF34 -> 0.0065782878 | CP34: =CA34/$CF34 -> 0.022945014 | ... CT34: =CE34/$CF34 -> 0.15884394 | CU34: =SUM(CI34:CT34) -> 1 | CV34: =SUM(CI34:CS34) -> 0.84115606 | CX34: =BT34/$CG34 -> 0.70891194 | CY34: =BU34/$CG34 -> 0.0015686411 | CZ34: =BV34*2/$CG34 -> 0.14510814 | DA34: =BW34*2/$CG34 -> 0 | DB34: =BX34/$CG34 -> 0.012792055 | DC34: =BY34/$CG34 -> 0.00054270872 | DD34: =BZ34/$CG34 -> 0.0068609815 | DE34: =CA34/$CG34 -> 0.023931047 | DF34: =CB34*2/$CG34 -> 0.078640566 | DG34: =CC34*2/$CG34 -> 0.021248027 | DH34: =CD34*2/$CG34 -> 0.00039589194 | DI34: =SUM(CX34:DH34) -> 1 | DJ34: =S34/DJ$6 -> 0.78955734 | DK34: =T34/DK$6 -> 0.020656294 | DL34: =U34/DL$6 -> 0.073263307 | DM34: =AB34/DM$6 -> 0 | DN34: =V34/DN$6 -> 0.18332164 | DO34: =W34/DO$6 -> 0.0050748899 | DP34: =X34/DP$6 -> 0.36546878 | DQ34: =Y34/DQ$6 -> 0.19348258 | DR34: =Z34/DR$6 -> 0.021942952 | DS34: =AA34/DS$6 -> 0.0018047475 | DT34: =SUM(DJ34:DS34) -> 1.6545725 | DU34: =S34/DJ$7 -> 0.78955734 | DV34: =T34/DK$7 -> 0.020656294 | DW34: =U34/DL$7 -> 0.14652661 | DX34: =AB34/DM$7 -> 0 | DZ34: =V34/DN$7 -> 0.18332164 | EA34: =W34/DO$7 -> 0.0050748899 | EB34: =X34/DP$7 -> 0.36546878 | EC34: =Y34/DQ$7 -> 0.19348258 | ED34: =Z34/DR$7 -> 0.043885903 | EE34: =AA34/DS$7 -> 0.0036094951 | EG34: =DJ34*2 -> 1.5791147 | EH34: =DK34*2 -> 0.041312589 | EI34: =DL34*3 -> 0.21978992 | EJ34: =DM34*3 -> 0 | EL34: =DN34 -> 0.18332164 | EM34: =DO34 -> 0.0050748899 | EN34: =DP34 -> 0.36546878 | EO34: =DQ34 -> 0.19348258 | EP34: =DR34 -> 0.021942952 | EQ34: =DS34 -> 0.0018047475 | ER34: =SUM(EG34:EQ34) -> 2.6113128 | ES34: =23/ER34 -> 8.8078304 | EU34: =DU34*$ES34 -> 6.9542871 | EV34: =DV34*$ES34 -> 0.18193714 | EW34: =DW34*$ES34 -> 1.2905816 | EX34: =DX34*$ES34 -> 0 | EZ34: =DZ34*$ES34 -> 1.6146659 | FA34: =EA34*$ES34 -> 0.044698769 | FB34: =EB34*$ES34 -> 3.218987 | FC34: =EC34*$ES34 -> 1.7041617 | FD34: =ED34*$ES34 -> 0.38653959 | FE34: =EE34*$ES34 -> 0.031791821 | FF34: =SUM(EU34:FC34) -> 15.009319 | FG34: =SUM(EU34:FE34) -> 15.427651 | FH34: =SUM(EU34:FB34) -> 13.305158 | FI34: =IF(OR(FG34>16,FG34<15),"BAD","Good") -> Good | FJ34: =(FB34*13/(EU34+EV34+EW34+EZ34+FA34+FB34))/(DD34) -> 458.41235 | FK34: =FB34/(FB34+EZ34) -> 0.66595328 | FL34: =DE34/(DE34+CZ34) -> 0.141571 | FN34: =5.5976-24505/(AM34+273.15)+0.8099*LOG(AM34+273.15)+0.0937*(AH34*1000-1)/(273.15+AM34)+$G$6 -> -14.654235 | FO34: =EXP(-6.53+10813.8/(AM34+273.15)+0.19*FN34*2.3026+12.4*(CB34+CC34)/CG34-3.44*BV34/(BV34+BT34)+4.15*CA34/CG34) -> 0.08160398 | FP34: =(EZ34)*FO34/(1+2*FO34) -> 0.11327567 | FQ34: =(EZ34)-FP34 -> 1.5013902 | FR34: =EU34 -> 6.9542871 | FS34: =IF(EU34+EW34>8,8-EU34,EW34) -> 1.0457129 | FT34: =IF(FS34+FR34=8,0,IF(8<FS34+FR34+EV34,EV34,8-FR34-FS34)) -> 0 | FU34: =FS34+FR34+FT34 -> 8 | FV34: =IF(EW34-FS34<0,0,EW34-FS34) -> 0.24486866 | FW34: =EX34 -> 0 | FX34: =FP34 -> 0.11327567 | FY34: =EV34-FT34 -> 0.18193714 | FZ34: =SUM(FV34:FY34) -> 0.54008147 | GA34: =IF(FZ34>5,0,IF(FZ34+FB34<5,FB34,5-FZ34)) -> 3.218987 | GB34: =GA34+FZ34 -> 3.7590685 | GC34: =IF(GB34>5,0,IF(GB34+FQ34<5,FQ34,5-GB34)) -> 1.2409315 | GD34: =GC34+GB34 -> 5 | GE34: =IF(GD34=5,0,IF(GD34+FA34<5,FA34,5-GD34)) -> 0 | GF34: =GE34+GD34 -> 5 | GG34: =FB34-GA34 -> 0 | GH34: =FQ34-GC34 -> 0.26045876 | GI34: =FA34-GE34 -> 0.044698769 | GJ34: =SUM(GG34:GI34) -> 0.30515753 | GK34: =GJ34 -> 0.30515753 | GL34: =IF(FC34>2-GK34,2-GK34,FC34) -> 1.6948425 | GM34: =IF(GL34+GK34+FD34<2,FD34,2-GK34-GL34) -> 0 | GN34: =GL34+GK34+GM34 -> 2 | GP34: =IF(GL34<1,"Mg-Fe-Li grpup",IF(AND(GL34+GM34>=1,GM34<0.5),"CALCIC",IF(AND(GL34+GM34>=1,GM34>0.5),"SODIC-CALCIC"))) -> CALCIC | GR34: =IF(FD34-GM34>0,FD34-GM34,0) -> 0.38653959 | GS34: =FE34 -> 0.031791821 | GT34: =GS34+GR34 -> 0.41833141 | GU34: =IF(2-FC34-EZ34<=0.1,0,2-FC34-EZ34) -> 0 | GV34: =FD34-GU34 -> 0.38653959
A35: AUGUSTINE | B35: TAPPEN ET AL. 2009 | C35: =AVERAGE(AL35:AS35) -> 992.88136 | D35: =AI35 -> 7.3358935 | F35: 55.080794 | G35: 0.73570351 | H35: 20.416379 | I35: 7.8660455 | J35: 0.18322337 | K35: 4.7712482 | L35: 9.5922459 | M35: 3.3706598 | N35: 0.26892285 | O35: 0 | P35: 0.23363673 | Q35: 5 | S35: 41.03 | T35: 2.02 | U35: 14.4 | V35: 6.69951 | W35: 0.16 | X35: 15.08 | Y35: 11.4 | Z35: 2.4 | AA35: 0.21 | AD35: =0.7996+15.347*SQRT(AH35/10)-0.00233*AL35+0.06248*(N35+M35) -> 10.869414 | AF35: =(DN35/DP35)/(CM35/CO35) -> 0.26947424 | AG35: =751.95-0.4*AL35-278000/AL35-9.184*EW35 -> 50.118354 | AH35: =ROUND(10*(-3.093-4.274*LN(EW35/CK35)-4.216*LN(CK35)+63.3*CS35+1.264*CT35+2.457*EW35+1.86*FE35+0.4*LN(FD35/CQ35)),1) -> 6.3 | AI35: =-64.79-6.064*LN(EW35/CK35)+61.75*CI35+682*CS35-101.9*CP35+7.85*EW35-46.46*LN(CI35)-4.81*LN(CQ35+CR35) -> 7.3358935 | AJ35: =-45.55+26.65*EW35+22.52*FE35+439*CD35/CH35-51.1*LN(BV35/CH35)-46.3*LN(EW35/(BV35/CH35))+5.231*LN(FD35/(CB35/CH35)) -> 6.0692924 | AL35: =1781-132.74*EU35+116.6*EV35-69.41*EZ35+101.62*FD35 -> 1003.8157 | AM35: =1687-118.7*EU35+131.56*EV35-71.41*EZ35+86.13*FD35+22.44*AH35/10 -> 1001.2202 | AN35: =2061-178.4*EU35 -> 963.87311 | AO35: =(24429.2)/(2.31+42.1*CM35+32.2*CP35+2.21*LN(CI35)-1.4*LN(CJ35)-2.666*LN((CM35+CO35)*CK35)) -> 971.16703 | AP35: =6383.4/(-12.07+45.4*CK35+12.21*CM35-0.415*LN(CJ35)-3.555*LN(CK35)-0.832*LN(CQ35)-0.481*LN((CM35+CO35+CN35)*CK35)-0.679*LN(FD35/CQ35)) -> 978.59505 | AQ35: =8037.85/(3.69-2.62*CT35+0.66*EZ35-0.416*LN(CJ35)+0.37*LN(CO35)-1.05*LN((CM35+CO35+CN35)*CK35)-0.462*LN(EV35/CJ35)) -> 1029.029 | AR35: =1201.4-97.93*EU35+201.82*EV35+72.85*FB35+88.9*FD35+40.65*AH35/10 -> 978.19586 | AS35: =10073.5/(9.75+0.934*EU35-1.454*EV35-0.882*FB35-1.123*FD35-0.322*LN(CM35)-0.7593*LN(EW35/CK35)-0.15*AZ35) -> 1017.1549 | AU35: =0.5+0.331*EW35+0.995*EW35^2 -> 7.7804649 | AW35: =(71975-11896*LN(FL35))/(8.3144*LN(FJ35)+58) -> 950.28983 | AX35: =107*LN(DD35)-108*LN(FL35)+1184 -> 1020.3873 | AZ35: =LN((GS35/GV35)*(CQ35/CR35)) -> 0.092322765 | BB35: =10*(EXP(125.93-9.5876*EU35*13/FH35-10.116*EV35*13/FH35-8.1735*EW35*13/FH35-9.2261*EZ35*13/FH35-8.7934*FB35*13/FH35-1.6659*FC35+2.4835*FD35+2.5192*FE35))/1000 -> 7.7237806 | BC35: =10*(EXP(38.723-2.6957*EU35*13/FH35-2.3565*EV35*13/FH35-1.3006*EW35*13/FH35-2.778*EZ35*13/FH35-2.4838*FB35*13/FH35-0.6614*FC35-0.2705*FD35+0.1117*FE35))/1000 -> 7.0621039 | BD35: =10*(24023-1925.3*EU35*13/FH35-1720.6*EV35*13/FH35-1478.5*EW35*13/FH35-1843.2*EZ35*13/FH35-1746.9*FB35*13/FH35-158.28*FC35-40.444*FD35+253.52*FE35)/1000 -> 5.5693155 | BE35: =10*(26106-1991.9*EU35*13/FH35-3035*EV35*13/FH35-1472.2*EW35*13/FH35-2454.8*EZ35*13/FH35-2125.8*FB35*13/FH35-830.64*FC35+2708.8*FD35+2204.1*FE35)/1000 -> 9.5008205 | BF35: =10*EXP(26.543-1.2085*EU35*13/FH35-3.8593*EV35*13/FH35-1.1054*EW35*13/FH35-2.9068*EZ35*13/FH35-2.6483*FB35*13/FH35+0.5134*FC35+2.9752*FD35+1.8147*FE35)/1000 -> 16.385228 | BG35: =10*(19.209*EXP(1.438*EW35*13/FF35))/1000 -> 4.5919376 | BI35: =EZ35/(EZ35+FB35) -> 0.19950279 | BJ35: =IF(AND(BI35<0.65,OR(AP35<800,AQ35<800,AO35<800,AM35<800)),"YES","NO") -> NO | BK35: =(-3.92+5.03*EW35) -> 8.8752237 | BL35: =1.27*(EW35^2.01) -> 8.2950368 | BM35: =0.26*EXP(1.48*EW35) -> 11.22029 | BN35: =(-4.76+5.64*EW35) -> 9.5869308 | BO35: =(-3.46+4.23*EW35) -> 7.3001981 | BP35: =(4.76*EW35-3.01-((C35-675)/85)*(0.53*EW35+0.005294*(C35-675))) -> -2.2371287 | BQ35: =(5.03*EW35-3.53) -> 9.2652237 | BR35: =(-3.01+4.76*EW35) -> 9.0984026 | BT35: =F35/BT$6 -> 0.91672524 | BU35: =G35/BU$6 -> 0.0092102475 | BV35: =H35/BV$6 -> 0.20023714 | BW35: =O35/CC$6 -> 0 | BX35: =I35/BW$6 -> 0.1094842 | BY35: =J35/BX$6 -> 0.0025828846 | BZ35: =K35/BY$6 -> 0.11838033 | CA35: =L35/BZ$6 -> 0.17105368 | CB35: =M35/CA$6 -> 0.054383988 | CC35: =N35/CB$6 -> 0.0028549285 | CD35: =P35/CD$6 -> 0.0016460594 | CE35: =Q35/CE$6 -> 0.27756375 | CF35: =SUM(BT35:CE35) -> 1.8641225 | CG35: =BT35+BU35+BX35+BY35+BZ35+CA35+2*(BV35+BW35+CB35+CC35+CD35) -> 1.8456808 | CH35: =SUM(BT35:CD35) -> 1.5865587 | CI35: =BT35/$CF35 -> 0.49177308 | CJ35: =BU35/$CF35 -> 0.0049407953 | CK35: =BV35/$CF35 -> 0.1074163 | CL35: =BW35/$CF35 -> 0 | CM35: =BX35/$CF35 -> 0.0587323 | CN35: =BY35/$CF35 -> 0.0013855767 | CO35: =BZ35/$CF35 -> 0.063504589 | CP35: =CA35/$CF35 -> 0.09176097 | ... CT35: =CE35/$CF35 -> 0.14889781 | CU35: =SUM(CI35:CT35) -> 1 | CV35: =SUM(CI35:CS35) -> 0.85110219 | CX35: =BT35/$CG35 -> 0.49668677 | CY35: =BU35/$CG35 -> 0.0049901626 | CZ35: =BV35*2/$CG35 -> 0.21697917 | DA35: =BW35*2/$CG35 -> 0 | DB35: =BX35/$CG35 -> 0.05931914 | DC35: =BY35/$CG35 -> 0.001399421 | DD35: =BZ35/$CG35 -> 0.064139112 | DE35: =CA35/$CG35 -> 0.092677825 | DF35: =CB35*2/$CG35 -> 0.058931086 | DG35: =CC35*2/$CG35 -> 0.0030936319 | DH35: =CD35*2/$CG35 -> 0.001783688 | DI35: =SUM(CX35:DH35) -> 1 | DJ35: =S35/DJ$6 -> 0.6828739 | DK35: =T35/DK$6 -> 0.025288312 | DL35: =U35/DL$6 -> 0.14123047 | DM35: =AB35/DM$6 -> 0 | DN35: =V35/DN$6 -> 0.093247678 | DO35: =W35/DO$6 -> 0.0022555066 | DP35: =X35/DP$6 -> 0.3741527 | DQ35: =Y35/DQ$6 -> 0.20329045 | DR35: =Z35/DR$6 -> 0.038722856 | DS35: =AA35/DS$6 -> 0.002229394 | DT35: =SUM(DJ35:DS35) -> 1.5632913 | DU35: =S35/DJ$7 -> 0.6828739 | DV35: =T35/DK$7 -> 0.025288312 | DW35: =U35/DL$7 -> 0.28246094 | DX35: =AB35/DM$7 -> 0 | DZ35: =V35/DN$7 -> 0.093247678 | EA35: =W35/DO$7 -> 0.0022555066 | EB35: =X35/DP$7 -> 0.3741527 | EC35: =Y35/DQ$7 -> 0.20329045 | ED35: =Z35/DR$7 -> 0.077445711 | EE35: =AA35/DS$7 -> 0.0044587881 | EG35: =DJ35*2 -> 1.3657478 | EH35: =DK35*2 -> 0.050576624 | EI35: =DL35*3 -> 0.42369141 | EJ35: =DM35*3 -> 0 | EL35: =DN35 -> 0.093247678 | EM35: =DO35 -> 0.0022555066 | EN35: =DP35 -> 0.3741527 | EO35: =DQ35 -> 0.20329045 | EP35: =DR35 -> 0.038722856 | EQ35: =DS35 -> 0.002229394 | ER35: =SUM(EG35:EQ35) -> 2.5539144 | ES35: =23/ER35 -> 9.0057834 | EU35: =DU35*$ES35 -> 6.1498144 | EV35: =DV35*$ES35 -> 0.22774106 | EW35: =DW35*$ES35 -> 2.5437821 | EX35: =DX35*$ES35 -> 0 | EZ35: =DZ35*$ES35 -> 0.83976839 | FA35: =EA35*$ES35 -> 0.020312604 | FB35: =EB35*$ES35 -> 3.3695382 | FC35: =EC35*$ES35 -> 1.8307898 | FD35: =ED35*$ES35 -> 0.6974593 | FE35: =EE35*$ES35 -> 0.040154879 | FF35: =SUM(EU35:FC35) -> 14.981746 | FG35: =SUM(EU35:FE35) -> 15.719361 | FH35: =SUM(EU35:FB35) -> 13.150957 | FI35: =IF(OR(FG35>16,FG35<15),"BAD","Good") -> Good | FJ35: =(FB35*13/(EU35+EV35+EW35+EZ35+FA35+FB35))/(DD35) -> 51.931808 | FK35: =FB35/(FB35+EZ35) -> 0.80049721 | FL35: =DE35/(DE35+CZ35) -> 0.29929189 | FN35: =5.5976-24505/(AM35+273.15)+0.8099*LOG(AM35+273.15)+0.0937*(AH35*1000-1)/(273.15+AM35)+$G$6 -> -10.653385 | FO35: =EXP(-6.53+10813.8/(AM35+273.15)+0.19*FN35*2.3026+12.4*(CB35+CC35)/CG35-3.44*BV35/(BV35+BT35)+4.15*CA35/CG35) -> 0.077870461 | FP35: =(EZ35)*FO35/(1+2*FO35) -> 0.056581151 | FQ35: =(EZ35)-FP35 -> 0.78318724 | FR35: =EU35 -> 6.1498144 | FS35: =IF(EU35+EW35>8,8-EU35,EW35) -> 1.8501856 | FT35: =IF(FS35+FR35=8,0,IF(8<FS35+FR35+EV35,EV35,8-FR35-FS35)) -> 0 | FU35: =FS35+FR35+FT35 -> 8 | FV35: =IF(EW35-FS35<0,0,EW35-FS35) -> 0.69359644 | FW35: =EX35 -> 0 | FX35: =FP35 -> 0.056581151 | FY35: =EV35-FT35 -> 0.22774106 | FZ35: =SUM(FV35:FY35) -> 0.97791865 | GA35: =IF(FZ35>5,0,IF(FZ35+FB35<5,FB35,5-FZ35)) -> 3.3695382 | GB35: =GA35+FZ35 -> 4.3474568 | GC35: =IF(GB35>5,0,IF(GB35+FQ35<5,FQ35,5-GB35)) -> 0.65254319 | GD35: =GC35+GB35 -> 5 | GE35: =IF(GD35=5,0,IF(GD35+FA35<5,FA35,5-GD35)) -> 0 | GF35: =GE35+GD35 -> 5 | GG35: =FB35-GA35 -> 0 | GH35: =FQ35-GC35 -> 0.13064405 | GI35: =FA35-GE35 -> 0.020312604 | GJ35: =SUM(GG35:GI35) -> 0.15095666 | GK35: =GJ35 -> 0.15095666 | GL35: =IF(FC35>2-GK35,2-GK35,FC35) -> 1.8307898 | GM35: =IF(GL35+GK35+FD35<2,FD35,2-GK35-GL35) -> 0.018253566 | GN35: =GL35+GK35+GM35 -> 2 | GP35: =IF(GL35<1,"Mg-Fe-Li grpup",IF(AND(GL35+GM35>=1,GM35<0.5),"CALCIC",IF(AND(GL35+GM35>=1,GM35>0.5),"SODIC-CALCIC"))) -> CALCIC | GR35: =IF(FD35-GM35>0,FD35-GM35,0) -> 0.67920574 | GS35: =FE35 -> 0.040154879 | GT35: =GS35+GR35 -> 0.71936061 | GU35: =IF(2-FC35-EZ35<=0.1,0,2-FC35-EZ35) -> 0 | GV35: =FD35-GU35 -> 0.6974593
A36: AUGUSTINE | B36: TAPPEN ET AL. 2009 | C36: =AVERAGE(AL36:AS36) -> 786.71474 | D36: =AI36 -> -0.55037608 | F36: 67.547134 | G36: 0.33314463 | H36: 14.27411 | I36: 3.0223531 | J36: 0.092322981 | K36: 1.4728625 | L36: 3.9694073 | M36: 3.9160621 | N36: 1.3467418 | O36: 0 | P36: 0.090793256 | Q36: 5 | S36: 51.97 | T36: 0.26 | U36: 3.14 | V36: 15.181 | W36: 0.43 | X36: 27.43 | Y36: 1.53 | Z36: 0.01 | AA36: 0.01 | AD36: =0.7996+15.347*SQRT(AH36/10)-0.00233*AL36+0.06248*(N36+M36) -> 3.2491851 | AF36: =(DN36/DP36)/(CM36/CO36) -> 0.26970659 | AG36: =751.95-0.4*AL36-278000/AL36-9.184*EW36 -> 70.611504 | AH36: =ROUND(10*(-3.093-4.274*LN(EW36/CK36)-4.216*LN(CK36)+63.3*CS36+1.264*CT36+2.457*EW36+1.86*FE36+0.4*LN(FD36/CQ36)),1) -> 0.6 | AI36: =-64.79-6.064*LN(EW36/CK36)+61.75*CI36+682*CS36-101.9*CP36+7.85*EW36-46.46*LN(CI36)-4.81*LN(CQ36+CR36) -> -0.55037608 | AJ36: =-45.55+26.65*EW36+22.52*FE36+439*CD36/CH36-51.1*LN(BV36/CH36)-46.3*LN(EW36/(BV36/CH36))+5.231*LN(FD36/(CB36/CH36)) -> -3.848146 | AL36: =1781-132.74*EU36+116.6*EV36-69.41*EZ36+101.62*FD36 -> 703.20464 | AM36: =1687-118.7*EU36+131.56*EV36-71.41*EZ36+86.13*FD36+22.44*AH36/10 -> 708.79636 | AN36: =2061-178.4*EU36 -> 772.43633 | AO36: =(24429.2)/(2.31+42.1*CM36+32.2*CP36+2.21*LN(CI36)-1.4*LN(CJ36)-2.666*LN((CM36+CO36)*CK36)) -> 900.16398 | AP36: =6383.4/(-12.07+45.4*CK36+12.21*CM36-0.415*LN(CJ36)-3.555*LN(CK36)-0.832*LN(CQ36)-0.481*LN((CM36+CO36+CN36)*CK36)-0.679*LN(FD36/CQ36)) -> 603.2104 | AQ36: =8037.85/(3.69-2.62*CT36+0.66*EZ36-0.416*LN(CJ36)+0.37*LN(CO36)-1.05*LN((CM36+CO36+CN36)*CK36)-0.462*LN(EV36/CJ36)) -> 779.04272 | AR36: =1201.4-97.93*EU36+201.82*EV36+72.85*FB36+88.9*FD36+40.65*AH36/10 -> 916.24736 | AS36: =10073.5/(9.75+0.934*EU36-1.454*EV36-0.882*FB36-1.123*FD36-0.322*LN(CM36)-0.7593*LN(EW36/CK36)-0.15*AZ36) -> 910.61611 | AU36: =0.5+0.331*EW36+0.995*EW36^2 -> 0.93346075 | AW36: =(71975-11896*LN(FL36))/(8.3144*LN(FJ36)+58) -> 882.66842 | AX36: =107*LN(DD36)-108*LN(FL36)+1184 -> 945.0286 | AZ36: =LN((GS36/GV36)*(CQ36/CR36)) -> 1.0673984 | BB36: =10*(EXP(125.93-9.5876*EU36*13/FH36-10.116*EV36*13/FH36-8.1735*EW36*13/FH36-9.2261*EZ36*13/FH36-8.7934*FB36*13/FH36-1.6659*FC36+2.4835*FD36+2.5192*FE36))/1000 -> 5.6182029 | BC36: =10*(EXP(38.723-2.6957*EU36*13/FH36-2.3565*EV36*13/FH36-1.3006*EW36*13/FH36-2.778*EZ36*13/FH36-2.4838*FB36*13/FH36-0.6614*FC36-0.2705*FD36+0.1117*FE36))/1000 -> 1.7503299 | BD36: =10*(24023-1925.3*EU36*13/FH36-1720.6*EV36*13/FH36-1478.5*EW36*13/FH36-1843.2*EZ36*13/FH36-1746.9*FB36*13/FH36-158.28*FC36-40.444*FD36+253.52*FE36)/1000 -> 2.2882347 | BE36: =10*(26106-1991.9*EU36*13/FH36-3035*EV36*13/FH36-1472.2*EW36*13/FH36-2454.8*EZ36*13/FH36-2125.8*FB36*13/FH36-830.64*FC36+2708.8*FD36+2204.1*FE36)/1000 -> -10.211918 | BF36: =10*EXP(26.543-1.2085*EU36*13/FH36-3.8593*EV36*13/FH36-1.1054*EW36*13/FH36-2.9068*EZ36*13/FH36-2.6483*FB36*13/FH36+0.5134*FC36+2.9752*FD36+1.8147*FE36)/1000 -> 0.04369565 | BG36: =10*(19.209*EXP(1.438*EW36*13/FF36))/1000 -> 0.3573311 | BI36: =EZ36/(EZ36+FB36) -> 0.23691599 | BJ36: =IF(AND(BI36<0.65,OR(AP36<800,AQ36<800,AO36<800,AM36<800)),"YES","NO") -> YES | BK36: =(-3.92+5.03*EW36) -> -1.3329021 | BL36: =1.27*(EW36^2.01) -> 0.33373821 | BM36: =0.26*EXP(1.48*EW36) -> 0.55662699 | BN36: =(-4.76+5.64*EW36) -> -1.8591586 | BO36: =(-3.46+4.23*EW36) -> -1.284369 | BP36: =(4.76*EW36-3.01-((C36-675)/85)*(0.53*EW36+0.005294*(C36-675))) -> -1.6973388 | BQ36: =(5.03*EW36-3.53) -> -0.94290209 | BR36: =(-3.01+4.76*EW36) -> -0.56177216 | BT36: =F36/BT$6 -> 1.1242061 | BU36: =G36/BU$6 -> 0.0041706264 | BV36: =H36/BV$6 -> 0.13999578 | BW36: =O36/CC$6 -> 0 | BX36: =I36/BW$6 -> 0.04206687 | BY36: =J36/BX$6 -> 0.0013014693 | BZ36: =K36/BY$6 -> 0.036543466 | CA36: =L36/BZ$6 -> 0.070784439 | CB36: =M36/CA$6 -> 0.063183795 | CC36: =N36/CB$6 -> 0.014297229 | CD36: =P36/CD$6 -> 0.00063967293 | CE36: =Q36/CE$6 -> 0.27756375 | CF36: =SUM(BT36:CE36) -> 1.7747532 | CG36: =BT36+BU36+BX36+BY36+BZ36+CA36+2*(BV36+BW36+CB36+CC36+CD36) -> 1.7153059 | CH36: =SUM(BT36:CD36) -> 1.4971894 | CI36: =BT36/$CF36 -> 0.63344362 | CJ36: =BU36/$CF36 -> 0.0023499755 | CK36: =BV36/$CF36 -> 0.078881834 | CL36: =BW36/$CF36 -> 0 | CM36: =BX36/$CF36 -> 0.023702941 | CN36: =BY36/$CF36 -> 0.00073332415 | CO36: =BZ36/$CF36 -> 0.020590732 | CP36: =CA36/$CF36 -> 0.039884104 | ... CT36: =CE36/$CF36 -> 0.15639569 | CU36: =SUM(CI36:CT36) -> 1 | CV36: =SUM(CI36:CS36) -> 0.84360431 | CX36: =BT36/$CG36 -> 0.65539684 | CY36: =BU36/$CG36 -> 0.0024314185 | CZ36: =BV36*2/$CG36 -> 0.16323127 | DA36: =BW36*2/$CG36 -> 0 | DB36: =BX36/$CG36 -> 0.024524413 | DC36: =BY36/$CG36 -> 0.00075873892 | DD36: =BZ36/$CG36 -> 0.021304344 | DE36: =CA36/$CG36 -> 0.041266365 | DF36: =CB36*2/$CG36 -> 0.073670586 | DG36: =CC36*2/$CG36 -> 0.01667018 | DH36: =CD36*2/$CG36 -> 0.00074584123 | DI36: =SUM(CX36:DH36) -> 1 | DJ36: =S36/DJ$6 -> 0.86495141 | DK36: =T36/DK$6 -> 0.0032549312 | DL36: =U36/DL$6 -> 0.030796089 | DM36: =AB36/DM$6 -> 0 | DN36: =V36/DN$6 -> 0.21129799 | DO36: =W36/DO$6 -> 0.006061674 | DP36: =X36/DP$6 -> 0.68057086 | DQ36: =Y36/DQ$6 -> 0.027283719 | DR36: =Z36/DR$6 -> 0.00016134523 | DS36: =AA36/DS$6 -> 0.00010616162 | DT36: =SUM(DJ36:DS36) -> 1.8244842 | DU36: =S36/DJ$7 -> 0.86495141 | DV36: =T36/DK$7 -> 0.0032549312 | DW36: =U36/DL$7 -> 0.061592177 | DX36: =AB36/DM$7 -> 0 | DZ36: =V36/DN$7 -> 0.21129799 | EA36: =W36/DO$7 -> 0.006061674 | EB36: =X36/DP$7 -> 0.68057086 | EC36: =Y36/DQ$7 -> 0.027283719 | ED36: =Z36/DR$7 -> 0.00032269046 | EE36: =AA36/DS$7 -> 0.00021232324 | EG36: =DJ36*2 -> 1.7299028 | EH36: =DK36*2 -> 0.0065098624 | EI36: =DL36*3 -> 0.092388266 | EJ36: =DM36*3 -> 0 | EL36: =DN36 -> 0.21129799 | EM36: =DO36 -> 0.006061674 | EN36: =DP36 -> 0.68057086 | EO36: =DQ36 -> 0.027283719 | EP36: =DR36 -> 0.00016134523 | EQ36: =DS36 -> 0.00010616162 | ER36: =SUM(EG36:EQ36) -> 2.7542827 | ES36: =23/ER36 -> 8.3506316 | EU36: =DU36*$ES36 -> 7.2228905 | EV36: =DV36*$ES36 -> 0.027180731 | EW36: =DW36*$ES36 -> 0.51433358 | EX36: =DX36*$ES36 -> 0 | EZ36: =DZ36*$ES36 -> 1.7644717 | FA36: =EA36*$ES36 -> 0.050618806 | FB36: =EB36*$ES36 -> 5.6831965 | FC36: =EC36*$ES36 -> 0.22783628 | FD36: =ED36*$ES36 -> 0.0026946692 | FE36: =EE36*$ES36 -> 0.0017730332 | FF36: =SUM(EU36:FC36) -> 15.490528 | FG36: =SUM(EU36:FE36) -> 15.494996 | FH36: =SUM(EU36:FB36) -> 15.262692 | FI36: =IF(OR(FG36>16,FG36<15),"BAD","Good") -> Good | FJ36: =(FB36*13/(EU36+EV36+EW36+EZ36+FA36+FB36))/(DD36) -> 227.21486 | FK36: =FB36/(FB36+EZ36) -> 0.76308401 | FL36: =DE36/(DE36+CZ36) -> 0.20179384 | FN36: =5.5976-24505/(AM36+273.15)+0.8099*LOG(AM36+273.15)+0.0937*(AH36*1000-1)/(273.15+AM36)+$G$6 -> -16.877488 | FO36: =EXP(-6.53+10813.8/(AM36+273.15)+0.19*FN36*2.3026+12.4*(CB36+CC36)/CG36-3.44*BV36/(BV36+BT36)+4.15*CA36/CG36) -> 0.078022801 | FP36: =(EZ36)*FO36/(1+2*FO36) -> 0.11908615 | FQ36: =(EZ36)-FP36 -> 1.6453855 | FR36: =EU36 -> 7.2228905 | FS36: =IF(EU36+EW36>8,8-EU36,EW36) -> 0.51433358 | FT36: =IF(FS36+FR36=8,0,IF(8<FS36+FR36+EV36,EV36,8-FR36-FS36)) -> 0.26277588 | FU36: =FS36+FR36+FT36 -> 8 | FV36: =IF(EW36-FS36<0,0,EW36-FS36) -> 0 | FW36: =EX36 -> 0 | FX36: =FP36 -> 0.11908615 | FY36: =EV36-FT36 -> -0.23559515 | FZ36: =SUM(FV36:FY36) -> -0.11650899 | GA36: =IF(FZ36>5,0,IF(FZ36+FB36<5,FB36,5-FZ36)) -> 5.116509 | GB36: =GA36+FZ36 -> 5 | GC36: =IF(GB36>5,0,IF(GB36+FQ36<5,FQ36,5-GB36)) -> 0 | GD36: =GC36+GB36 -> 5 | GE36: =IF(GD36=5,0,IF(GD36+FA36<5,FA36,5-GD36)) -> 0 | GF36: =GE36+GD36 -> 5 | GG36: =FB36-GA36 -> 0.56668747 | GH36: =FQ36-GC36 -> 1.6453855 | GI36: =FA36-GE36 -> 0.050618806 | GJ36: =SUM(GG36:GI36) -> 2.2626918 | GK36: =GJ36 -> 2.2626918 | GL36: =IF(FC36>2-GK36,2-GK36,FC36) -> -0.2626918 | GM36: =IF(GL36+GK36+FD36<2,FD36,2-GK36-GL36) -> 0 | GN36: =GL36+GK36+GM36 -> 2 | GP36: =IF(GL36<1,"Mg-Fe-Li grpup",IF(AND(GL36+GM36>=1,GM36<0.5),"CALCIC",IF(AND(GL36+GM36>=1,GM36>0.5),"SODIC-CALCIC"))) -> Mg-Fe-Li grpup | GR36: =IF(FD36-GM36>0,FD36-GM36,0) -> 0.0026946692 | GS36: =FE36 -> 0.0017730332 | GT36: =GS36+GR36 -> 0.0044677023 | GU36: =IF(2-FC36-EZ36<=0.1,0,2-FC36-EZ36) -> 0 | GV36: =FD36-GU36 -> 0.0026946692

Sheet Amph exchg components
A1: Amphibole Components: projection scheme | K1: Component Transformation Matrix | U1: Inverse Matrix
K2: SiO2 | L2: TiO2 | M2: AlO3/2 | N2: FeO | O2: MgO | P2: CaO | Q2: NaO0.5 | R2: KO0.5 | U2: Mg7Si8O22(OH)2 | V2: Ca2(Mg5)Si8O22(OH)2 | W2: NaTiAl2Mg-1Si-2H-1 | X2: Na-1K | Y2: Al4Si-2Mg-2 | Z2: NaAlSi-1 | AA2: Mg-1Fe | AB2: Si11.5O22(OH)2
A3: INPUT IS AUTOMATIC FROM SHEET: AMPHIBOLE P-T CALCS | I3: Cummingtonite | J3: Mg7Si8O22(OH)2 | K3: 8 | L3: 0 | M3: 0 | N3: 0 | O3: 7 | P3: 0 | Q3: 0 | R3: 0 | T3: SiO2 | U3: {=MINVERSE(K3:R10)} -> 0 | V3: 0 | W3: 0 | X3: 0 | Y3: 0 | Z3: 0 | AA3: 0 | AB3: 0.086956522
I4: Tremolite | J4: Ca2(Mg5)Si8O22(OH)2 | K4: 8 | L4: 0 | M4: 0 | N4: 0 | O4: 5 | P4: 2 | Q4: 0 | R4: 0 | T4: TiO2 | U4: 0.071428571 | V4: 0 | W4: 1 | X4: 0 | Y4: -0.25 | Z4: -1 | AA4: 0 | AB4: -0.0062111801 | AE4: Triangular Plot End-Points and Mid-Points | AI4: x | AJ4: y
A5: Create Ternary Plots in Excel By Using X-Y Coordinates in AB-AC; AI-AJ, etc. | I5: Kaersutite | J5: NaTiAl2Mg-1Si-2H-1 | K5: -2 | L5: 1 | M5: 2 | N5: 0 | O5: -1 | P5: 0 | Q5: 1 | R5: 0 | T5: AlO3/2 | U5: 0.071428571 | V5: 0 | W5: 0 | X5: 0 | Y5: 0.25 | Z5: 0 | AA5: 0 | AB5: -0.0062111801 | AE5: 0 | AF5: 0 | AG5: 0 | AI5: =AF5/COS(RADIANS(30))+AG5*TAN(RADIANS(30)) -> 0 | AJ5: =AG5 -> 0
I6: Na-K exchange | J6: Na-1K | K6: 0 | L6: 0 | M6: 0 | N6: 0 | O6: 0 | P6: 0 | Q6: -1 | R6: 1 | T6: FeO | U6: 0.14285714 | V6: 0 | W6: 0 | X6: 0 | Y6: 0 | Z6: 0 | AA6: 1 | AB6: -0.099378882 | AE6: 0 | AF6: 1 | AG6: 0 | AI6: =AF6/COS(RADIANS(30))+AG6*TAN(RADIANS(30)) -> 1.1547005 | AJ6: =AG6 -> 0
A7: OUTPUT IS IN BLUE CELLS | I7: Al Tschermak | J7: Al4Si-2Mg-2 | K7: -2 | L7: 0 | M7: 4 | N7: 0 | O7: -2 | P7: 0 | Q7: 0 | R7: 0 | T7: MgO | U7: 0.14285714 | V7: 0 | W7: 0 | X7: 0 | Y7: 0 | Z7: 0 | AA7: 0 | AB7: -0.099378882 | AE7: 0 | AF7: 0 | AG7: 1 | AI7: =AF7/COS(RADIANS(30))+AG7*TAN(RADIANS(30)) -> 0.57735027 | AJ7: =AG7 -> 1
I8: Edenite | J8: NaAlSi-1 | K8: -1 | L8: 0 | M8: 1 | N8: 0 | O8: 0 | P8: 0 | Q8: 1 | R8: 0 | T8: CaO | U8: -0.35714286 | V8: 0.5 | W8: 0 | X8: 0 | Y8: 0 | Z8: 0 | AA8: 0 | AB8: -0.099378882 | AE8: 0 | AF8: 0 | AG8: 1 | AI8: =AF8/COS(RADIANS(30))+AG8*TAN(RADIANS(30)) -> 0.57735027 | AJ8: =AG8 -> 1
I9: Mg-Fe exchg | J9: Mg-1Fe | K9: 0 | L9: 0 | M9: 0 | N9: 1 | O9: -1 | P9: 0 | Q9: 0 | R9: 0 | T9: NaO0.5 | U9: -0.071428571 | V9: 0 | W9: 0 | X9: 0 | Y9: -0.25 | Z9: 1 | AA9: 0 | AB9: 0.093167702 | AE9: 1 | AF9: 0 | AG9: 0 | AI9: =AF9/COS(RADIANS(30))+AG9*TAN(RADIANS(30)) -> 0 | AJ9: =AG9 -> 0
I10: Fictive | J10: Si11.5O22(OH)2 | K10: 11.5 | L10: 0 | M10: 0 | N10: 0 | O10: 0 | P10: 0 | Q10: 0 | R10: 0 | T10: KO0.5 | U10: -0.071428571 | V10: 0 | W10: 0 | X10: 1 | Y10: -0.25 | Z10: 1 | AA10: 0 | AB10: 0.093167702
D12: Exchange Components | X12: TRIANGULAR PLOT 1 | AE12: TRIANGULAR PLOT 2 | AL12: TRIANGULAR PLOT 3 | AS12: TRIANGULAR PLOT 4 | AZ12: TRIANGULAR PLOT 5 | BG12: TRIANGULAR PLOT 6 | BN12: TRIANGULAR PLOT 7 | BU12: TRIANGULAR PLOT 8
D13: Cummingtonite | E13: Tremolite | F13: Kaersutite | G13: Na-K exchg. | H13: Al Tschermak | I13: Edenite | J13: Mg-Fe exchg | K13: Fictive | N13: Exchange Components | X13: bottom left | Y13: bottom right | Z13: top | AE13: bottom left | AF13: bottom right | AG13: top | AL13: bottom left | AM13: bottom right | AN13: top | AS13: bottom left | AT13: bottom right | AU13: top | AZ13: bottom left | BA13: bottom right | BB13: top | BG13: bottom left | BH13: bottom right | BI13: top | BN13: bottom left | BO13: bottom right | BP13: top | BU13: bottom left | BV13: bottom right | BW13: top | CB13: Amphibole Cations on Basis of 23 O (From Amphibole P-T Calcs Sheet) | CM13: Anhydrous | CN13: Cation
A14: Data Source | D14: Mg7Si8O22(OH)2 | E14: Ca2(Mg5)Si8O22(OH)2 | F14: NaTiAl2Mg-1Si-2H-1 | G14: Na-1K | H14: Al4Si-2Mg-2 | I14: NaAlSi-1 | J14: Mg-1Fe | K14: Si11.5O22(OH)2 | L14: sum | N14: Mg7Si8O22(OH)2 | O14: Ca2(Mg5)Si8O22(OH)2 | P14: NaTiAl2Mg-1Si-2H-1 | Q14: Na-1K | R14: Al4Si-2Mg-2 | S14: NaAlSi-1 | T14: Mg-1Fe | U14: Si11.5O22(OH)2 | V14: sum | X14: Ca2(Fm5)Si8O22(OH)2 | Y14: NaAlSi-1 | Z14: Na-1K | AB14: x | AC14: y | AE14: Fm7Si8O22(OH)2 | AF14: Al4Si-2Mg-2 | AG14: Na-1K | AI14: x | AJ14: y | AL14: Ca2(Mg5)Si8O22(OH)2 | AM14: Mg7Si8O22(OH)2 | AN14: Na-1K | AP14: x | AQ14: y | AS14: Ca2(Fm5)Si8O22(OH)2 | AT14: NaTiAl2Mg-1Si-2H-1 | AU14: Al4Si-2Mg-2 | AW14: x | AX14: y | AZ14: Ca2(Fm5)Si8O22(OH)2 | BA14: NaTiAl2Fm-1Si-2H-1 | BB14: NaAlSi-1 | BD14: x | BE14: y | BG14: Ca2(Mg5)Si8O22(OH)2 | BH14: NaTiAl2Mg-1Si-2H-1 | BI14: NaAlSi-1 | BK14: x | BL14: y | BN14: Ca2(Fm5)Si8O22(OH)2 | BO14: Na-1K | BP14: Al4Si-2Mg-2 | BR14: x | BS14: y | BU14: Ca2(Fm5)Si8O22(OH)2 | BV14: NaAlSi-1 | BW14: Al4Si-2Mg-2 | BY14: x | BZ14: y | CB14: Si | CC14: Ti | CD14: Al | CE14: Cr | CF14: Fe3+ | CG14: Fe2+ | CH14: Mn | CI14: Mg | CJ14: Ca | CK14: Na | CL14: K | CM14: FmO | CN14: Sum | CO14: cat sum Si to Mg | CQ14: SiO2 | CR14: TiO2 | CS14: AlO3/2 | CT14: FeO | CU14: MgO | CV14: CaO | CW14: NaO0.5 | CX14: KO0.5
A15: ='Amphibole P-T calcs'!A15 -> 11211A | B15: ='Amphibole P-T calcs'!B15 -> Merapi (2010) | D15: =N15/$V15 -> 0.02685818 | E15: =O15/$V15 -> 0.23533548 | F15: =P15/$V15 -> 0.069608154 | G15: =Q15/$V15 -> 0.044331347 | H15: =R15/$V15 -> 0.073912058 | I15: =S15/$V15 -> 0.1358376 | J15: =T15/$V15 -> 0.41411718 | K15: =U15/$V15 -> -0.012372206 | L15: =SUM(D15:J15) -> 1 | N15: {=MMULT(CQ15:CX15,$U$3:$AB$10)} -> 0.0067211479 | O15: 0.058891727 | P15: 0.017419151 | Q15: 0.011093735 | R15: 0.018496185 | S15: 0.033992795 | T15: 0.1036311 | U15: -0.0030960933 | V15: =SUM(N15:T15) -> 0.25024585 | X15: =(T15+O15)/(O15+S15+Q15+T15) -> 0.78282997 | Y15: =S15/(O15+S15+Q15+T15) -> 0.1637344 | Z15: =Q15/(O15+S15+Q15+T15) -> 0.053435622 | AA15: =SUM(X15:Z15) -> 1 | AB15: =Y15/COS(RADIANS(30))+Z15*TAN(RADIANS(30)) -> 0.21991528 | AC15: =Z15 -> 0.053435622 | AE15: =(N15+T15)/(R15+N15+Q15+T15) -> 0.78855608 | AF15: =R15/(R15+N15+Q15+T15) -> 0.1321702 | AG15: =Q15/(R15+N15+Q15+T15) -> 0.079273712 | AH15: =SUM(AE15:AG15) -> 1 | AI15: =AF15/COS(RADIANS(30))+AG15*TAN(RADIANS(30)) -> 0.1983857 | AJ15: =AG15 -> 0.079273712 | AL15: =(O15)/(N15+O15+Q15) -> 0.76775296 | AM15: =(N15)/(N15+O15+Q15) -> 0.087621495 | AN15: =Q15/(Q15+O15+N15) -> 0.14462555 | AO15: =SUM(AL15:AN15) -> 1 | AP15: =AM15/COS(RADIANS(30))+AN15*TAN(RADIANS(30)) -> 0.18467619 | AQ15: =AN15 -> 0.14462555 | AS15: =(T15+O15)/(O15+P15+R15+T15) -> 0.81900994 | AT15: =P15/(O15+P15+R15+T15) -> 0.087781255 | AU15: =R15/(R15+P15+O15+T15) -> 0.09320881 | AV15: =SUM(AS15:AU15) -> 1 | AW15: =AT15/COS(RADIANS(30))+AU15*TAN(RADIANS(30)) -> 0.15517519 | AX15: =AU15 -> 0.09320881 | AZ15: =(O15+T15)/(S15+P15+O15+T15) -> 0.75968402 | BA15: =P15/(P15+O15+S15+T15) -> 0.08142272 | BB15: =S15/(P15+O15+S15+T15) -> 0.15889326 | BC15: =SUM(BG15:BI15) -> 1 | BD15: =BA15/COS(RADIANS(30))+BB15*TAN(RADIANS(30)) -> 0.18575593 | BE15: =BB15 -> 0.15889326 | BG15: =(O15)/(S15+P15+O15) -> 0.5339054 | BH15: =P15/(P15+O15+S15) -> 0.15791996 | BI15: =S15/(P15+O15+S15) -> 0.30817464 | BJ15: =SUM(BG15:BI15) -> 1 | BK15: =BH15/COS(RADIANS(30))+BI15*TAN(RADIANS(30)) -> 0.36027497 | BL15: =BI15 -> 0.30817464 | BN15: =(O15+T15)/(O15+Q15+R15+T15) -> 0.84597628 | BO15: =Q15/(Q15+O15+R15+T15) -> 0.057745961 | BP15: =R15/(R15+Q15+O15+T15) -> 0.09627776 | BQ15: =SUM(BN15:BP15) -> 1 | BR15: =BO15/COS(RADIANS(30))+BP15*TAN(RADIANS(30)) -> 0.12226528 | BS15: =BP15 -> 0.09627776 | BU15: =(O15+T15)/(O15+T15+S15+R15) -> 0.75587862 | BV15: =S15/(S15+R15+T15+O15) -> 0.15809734 | BW15: =R15/(R15+S15+T15+O15) -> 0.086024043 | BX15: =SUM(BU15:BW15) -> 1 | BY15: =BV15/COS(RADIANS(30))+BW15*TAN(RADIANS(30)) -> 0.23222109 | BZ15: =BW15 -> 0.086024043 | CB15: ='Amphibole P-T calcs'!EU15 -> 6.0882528 | CC15: ='Amphibole P-T calcs'!EV15 -> 0.27655609 | CD15: ='Amphibole P-T calcs'!EW15 -> 2.2674233 | CE15: ='Amphibole P-T calcs'!EX15 -> 0 | CF15: ='Amphibole P-T calcs'!EY15 -> 0 | CG15: ='Amphibole P-T calcs'!EZ15 -> 1.6453048 | CH15: ='Amphibole P-T calcs'!FA15 -> 0.033048073 | CI15: ='Amphibole P-T calcs'!FB15 -> 2.9127768 | ... CL15: ='Amphibole P-T calcs'!FE15 -> 0.17613029 | CM15: =CI15+CH15+CG15 -> 4.5911296 | CN15: =SUM(CB15:CL15)-CE15-CH15 -> 15.876554 | CO15: =SUM(CB15:CI15) -> 13.223362 | CQ15: =CB15/CN15 -> 0.38347446 | CR15: =CC15/CN15 -> 0.017419151 | CS15: =CD15/CN15 -> 0.14281584 | CT15: =(CG15)/CN15 -> 0.1036311 | CU15: =CI15/CN15 -> 0.18346405 | CV15: =CJ15/$CN15 -> 0.11778345 | CW15: =CK15/$CN15 -> 0.040318211 | CX15: =CL15/$CN15 -> 0.011093735 | CY15: =SUM(CQ15:CX15) -> 1
A16: ='Amphibole P-T calcs'!A16 -> 11211B | B16: ='Amphibole P-T calcs'!B16 -> Merapi (2010) | D16: =N16/$V16 -> 0.012723314 | E16: =O16/$V16 -> 0.24897566 | F16: =P16/$V16 -> 0.060073614 | G16: =Q16/$V16 -> 0.040645853 | H16: =R16/$V16 -> 0.067995353 | I16: =S16/$V16 -> 0.14859718 | J16: =T16/$V16 -> 0.42098903 | K16: =U16/$V16 -> -0.001128233 | L16: =SUM(D16:J16) -> 1 | N16: {=MMULT(CQ16:CX16,$U$3:$AB$10)} -> 0.0030872981 | O16: 0.060413672 | P16: 0.014576797 | Q16: 0.0098626717 | R16: 0.016498998 | S16: 0.036056942 | T16: 0.10215253 | U16: -0.0002737645 | V16: =SUM(N16:T16) -> 0.24264891 | X16: =(T16+O16)/(O16+S16+Q16+T16) -> 0.77974706 | Y16: =S16/(O16+S16+Q16+T16) -> 0.17294674 | Z16: =Q16/(O16+S16+Q16+T16) -> 0.0473062 | AA16: =SUM(X16:Z16) -> 1 | AB16: =Y16/COS(RADIANS(30))+Z16*TAN(RADIANS(30)) -> 0.22701394 | AC16: =Z16 -> 0.0473062 | AE16: =(N16+T16)/(R16+N16+Q16+T16) -> 0.79968564 | AF16: =R16/(R16+N16+Q16+T16) -> 0.1253709 | AG16: =Q16/(R16+N16+Q16+T16) -> 0.074943462 | AH16: =SUM(AE16:AG16) -> 1 | AI16: =AF16/COS(RADIANS(30))+AG16*TAN(RADIANS(30)) -> 0.18803448 | AJ16: =AG16 -> 0.074943462 | AL16: =(O16)/(N16+O16+Q16) -> 0.82348246 | AM16: =(N16)/(N16+O16+Q16) -> 0.042082127 | AN16: =Q16/(Q16+O16+N16) -> 0.13443542 | AO16: =SUM(AL16:AN16) -> 1 | AP16: =AM16/COS(RADIANS(30))+AN16*TAN(RADIANS(30)) -> 0.12620858 | AQ16: =AN16 -> 0.13443542 | AS16: =(T16+O16)/(O16+P16+R16+T16) -> 0.83951934 | AT16: =P16/(O16+P16+R16+T16) -> 0.075277043 | AU16: =R16/(R16+P16+O16+T16) -> 0.085203616 | AV16: =SUM(AS16:AU16) -> 1 | AW16: =AT16/COS(RADIANS(30))+AU16*TAN(RADIANS(30)) -> 0.13611477 | AX16: =AU16 -> 0.085203616 | AZ16: =(O16+T16)/(S16+P16+O16+T16) -> 0.76250585 | BA16: =P16/(P16+O16+S16+T16) -> 0.068371486 | BB16: =S16/(P16+O16+S16+T16) -> 0.16912267 | BC16: =SUM(AZ16:BB16) -> 1 | BD16: =BA16/COS(RADIANS(30))+BB16*TAN(RADIANS(30)) -> 0.17659161 | BE16: =BB16 -> 0.16912267 | BG16: =(O16)/(S16+P16+O16) -> 0.54403495 | BH16: =P16/(P16+O16+S16) -> 0.13126643 | BI16: =S16/(P16+O16+S16) -> 0.32469863 | BJ16: =SUM(BG16:BI16) -> 1 | BK16: =BH16/COS(RADIANS(30))+BI16*TAN(RADIANS(30)) -> 0.33903825 | BL16: =BI16 -> 0.32469863 | BN16: =(O16+T16)/(O16+Q16+R16+T16) -> 0.86046701 | BO16: =Q16/(Q16+O16+R16+T16) -> 0.052203371 | BP16: =R16/(R16+Q16+O16+T16) -> 0.087329615 | BQ16: =SUM(BN16:BP16) -> 1 | BR16: =BO16/COS(RADIANS(30))+BP16*TAN(RADIANS(30)) -> 0.11069904 | BS16: =BP16 -> 0.087329615 | BU16: =(O16+T16)/(O16+T16+S16+R16) -> 0.75569256 | BV16: =S16/(S16+R16+T16+O16) -> 0.16761149 | BW16: =R16/(R16+S16+T16+O16) -> 0.076695956 | BX16: =SUM(BU16:BW16) -> 1 | BY16: =BV16/COS(RADIANS(30))+BW16*TAN(RADIANS(30)) -> 0.23782151 | BZ16: =BW16 -> 0.076695956 | CB16: ='Amphibole P-T calcs'!EU16 -> 6.3995082 | CC16: ='Amphibole P-T calcs'!EV16 -> 0.22939657 | CD16: ='Amphibole P-T calcs'!EW16 -> 2.0648108 | CE16: ='Amphibole P-T calcs'!EX16 -> 0 | CF16: ='Amphibole P-T calcs'!EY16 -> 0 | CG16: ='Amphibole P-T calcs'!EZ16 -> 1.607585 | CH16: ='Amphibole P-T calcs'!FA16 -> 0 | CI16: ='Amphibole P-T calcs'!FB16 -> 2.7375027 | ... CL16: ='Amphibole P-T calcs'!FE16 -> 0.15520989 | CM16: =CI16+CH16+CG16 -> 4.3450877 | CN16: =SUM(CB16:CL16)-CE16-CH16 -> 15.737104 | CO16: =SUM(CB16:CI16) -> 13.038803 | CQ16: =CB16/CN16 -> 0.40665094 | CR16: =CC16/CN16 -> 0.014576797 | CS16: =CD16/CN16 -> 0.13120653 | CT16: =(CG16)/CN16 -> 0.10215253 | CU16: =CI16/CN16 -> 0.17395213 | CV16: =CJ16/$CN16 -> 0.12082734 | CW16: =CK16/$CN16 -> 0.040771067 | CX16: =CL16/$CN16 -> 0.0098626717 | CY16: =SUM(CQ16:CX16) -> 1
A17: ='Amphibole P-T calcs'!A17 -> 11212A | B17: ='Amphibole P-T calcs'!B17 -> Merapi (2010) | D17: =N17/$V17 -> 0.040569485 | E17: =O17/$V17 -> 0.21052962 | F17: =P17/$V17 -> 0.084386509 | G17: =Q17/$V17 -> 0.048809909 | H17: =R17/$V17 -> 0.064934475 | I17: =S17/$V17 -> 0.11718734 | J17: =T17/$V17 -> 0.43358266 | K17: =U17/$V17 -> -0.017619102 | L17: =SUM(D17:J17) -> 1 | N17: {=MMULT(CQ17:CX17,$U$3:$AB$10)} -> 0.010774166 | O17: 0.055911016 | P17: 0.022410792 | Q17: 0.012962602 | R17: 0.017244854 | S17: 0.031121813 | T17: 0.11514792 | U17: -0.0046791606 | V17: =SUM(N17:T17) -> 0.26557316 | X17: =(T17+O17)/(O17+S17+Q17+T17) -> 0.79509283 | Y17: =S17/(O17+S17+Q17+T17) -> 0.14465617 | Z17: =Q17/(O17+S17+Q17+T17) -> 0.060250999 | AA17: =SUM(X17:Z17) -> 1 | AB17: =Y17/COS(RADIANS(30))+Z17*TAN(RADIANS(30)) -> 0.20182049 | AC17: =Z17 -> 0.060250999 | AE17: =(N17+T17)/(R17+N17+Q17+T17) -> 0.80652312 | AF17: =R17/(R17+N17+Q17+T17) -> 0.11045222 | AG17: =Q17/(R17+N17+Q17+T17) -> 0.083024659 | AH17: =SUM(AE17:AG17) -> 1 | AI17: =AF17/COS(RADIANS(30))+AG17*TAN(RADIANS(30)) -> 0.17547354 | AJ17: =AG17 -> 0.083024659 | AL17: =(O17)/(N17+O17+Q17) -> 0.7019783 | AM17: =(N17)/(N17+O17+Q17) -> 0.13527264 | AN17: =Q17/(Q17+O17+N17) -> 0.16274905 | AO17: =SUM(AL17:AN17) -> 1 | AP17: =AM17/COS(RADIANS(30))+AN17*TAN(RADIANS(30)) -> 0.25016261 | AQ17: =AN17 -> 0.16274905 | AS17: =(T17+O17)/(O17+P17+R17+T17) -> 0.81180398 | AT17: =P17/(O17+P17+R17+T17) -> 0.10635615 | AU17: =R17/(R17+P17+O17+T17) -> 0.08183987 | AV17: =SUM(AS17:AU17) -> 1 | AW17: =AT17/COS(RADIANS(30))+AU17*TAN(RADIANS(30)) -> 0.17005978 | AX17: =AU17 -> 0.08183987 | AZ17: =(O17+T17)/(S17+P17+O17+T17) -> 0.76164461 | BA17: =P17/(P17+O17+S17+T17) -> 0.099784667 | BB17: =S17/(P17+O17+S17+T17) -> 0.13857073 | BC17: =SUM(AZ17:BB17) -> 1 | BD17: =BA17/COS(RADIANS(30))+BB17*TAN(RADIANS(30)) -> 0.19522526 | BE17: =BB17 -> 0.13857073 | BG17: =(O17)/(S17+P17+O17) -> 0.51086592 | BH17: =P17/(P17+O17+S17) -> 0.2047702 | BI17: =S17/(P17+O17+S17) -> 0.28436388 | BJ17: =SUM(BG17:BI17) -> 1 | BK17: =BH17/COS(RADIANS(30))+BI17*TAN(RADIANS(30)) -> 0.40062582 | BL17: =BI17 -> 0.28436388 | BN17: =(O17+T17)/(O17+Q17+R17+T17) -> 0.84991306 | BO17: =Q17/(Q17+O17+R17+T17) -> 0.064405198 | BP17: =R17/(R17+Q17+O17+T17) -> 0.085681737 | BQ17: =SUM(BN17:BP17) -> 1 | BR17: =BO17/COS(RADIANS(30))+BP17*TAN(RADIANS(30)) -> 0.12383709 | BS17: =BP17 -> 0.085681737 | BU17: =(O17+T17)/(O17+T17+S17+R17) -> 0.77957601 | BV17: =S17/(S17+R17+T17+O17) -> 0.1418331 | BW17: =R17/(R17+S17+T17+O17) -> 0.078590893 | BX17: =SUM(BU17:BW17) -> 1 | BY17: =BV17/COS(RADIANS(30))+BW17*TAN(RADIANS(30)) -> 0.20914923 | BZ17: =BW17 -> 0.078590893 | CB17: ='Amphibole P-T calcs'!EU17 -> 5.8910519 | CC17: ='Amphibole P-T calcs'!EV17 -> 0.35755565 | CD17: ='Amphibole P-T calcs'!EW17 -> 2.3121883 | CE17: ='Amphibole P-T calcs'!EX17 -> 0.0032587134 | CF17: ='Amphibole P-T calcs'!EY17 -> 0 | CG17: ='Amphibole P-T calcs'!EZ17 -> 1.8371412 | CH17: ='Amphibole P-T calcs'!FA17 -> 0.062837219 | CI17: ='Amphibole P-T calcs'!FB17 -> 2.918512 | ... CL17: ='Amphibole P-T calcs'!FE17 -> 0.20681337 | CM17: =CI17+CH17+CG17 -> 4.8184904 | CN17: =SUM(CB17:CL17)-CE17-CH17 -> 15.954619 | CO17: =SUM(CB17:CI17) -> 13.382545 | CQ17: =CB17/CN17 -> 0.36923801 | CR17: =CC17/CN17 -> 0.022410792 | CS17: =CD17/CN17 -> 0.14492281 | CT17: =(CG17)/CN17 -> 0.11514792 | CU17: =CI17/CN17 -> 0.18292583 | CV17: =CJ17/$CN17 -> 0.11182203 | CW17: =CK17/$CN17 -> 0.040570003 | CX17: =CL17/$CN17 -> 0.012962602 | CY17: =SUM(CQ17:CX17) -> 1
